BEGIN:VCALENDAR
VERSION:2.0
PRODID:-//Shoal Creek Baptist Church - ECPv6.15.20//NONSGML v1.0//EN
CALSCALE:GREGORIAN
METHOD:PUBLISH
X-ORIGINAL-URL:https://cometothecreek.com
X-WR-CALDESC:Events for Shoal Creek Baptist Church
REFRESH-INTERVAL;VALUE=DURATION:PT1H
X-Robots-Tag:noindex
X-PUBLISHED-TTL:PT1H
BEGIN:VTIMEZONE
TZID:America/Chicago
BEGIN:DAYLIGHT
TZOFFSETFROM:-0600
TZOFFSETTO:-0500
TZNAME:CDT
DTSTART:20220313T080000
END:DAYLIGHT
BEGIN:STANDARD
TZOFFSETFROM:-0500
TZOFFSETTO:-0600
TZNAME:CST
DTSTART:20221106T070000
END:STANDARD
BEGIN:DAYLIGHT
TZOFFSETFROM:-0600
TZOFFSETTO:-0500
TZNAME:CDT
DTSTART:20230312T080000
END:DAYLIGHT
BEGIN:STANDARD
TZOFFSETFROM:-0500
TZOFFSETTO:-0600
TZNAME:CST
DTSTART:20231105T070000
END:STANDARD
BEGIN:DAYLIGHT
TZOFFSETFROM:-0600
TZOFFSETTO:-0500
TZNAME:CDT
DTSTART:20240310T080000
END:DAYLIGHT
BEGIN:STANDARD
TZOFFSETFROM:-0500
TZOFFSETTO:-0600
TZNAME:CST
DTSTART:20241103T070000
END:STANDARD
BEGIN:DAYLIGHT
TZOFFSETFROM:-0600
TZOFFSETTO:-0500
TZNAME:CDT
DTSTART:20250309T080000
END:DAYLIGHT
BEGIN:STANDARD
TZOFFSETFROM:-0500
TZOFFSETTO:-0600
TZNAME:CST
DTSTART:20251102T070000
END:STANDARD
BEGIN:DAYLIGHT
TZOFFSETFROM:-0600
TZOFFSETTO:-0500
TZNAME:CDT
DTSTART:20260308T080000
END:DAYLIGHT
BEGIN:STANDARD
TZOFFSETFROM:-0500
TZOFFSETTO:-0600
TZNAME:CST
DTSTART:20261101T070000
END:STANDARD
END:VTIMEZONE
BEGIN:VEVENT
DTSTART;TZID=America/Chicago:20250928T110000
DTEND;TZID=America/Chicago:20250928T110000
DTSTAMP:20260420T060052
CREATED:20250705T142950Z
LAST-MODIFIED:20250705T142950Z
UID:2427-1759057200-1759057200@cometothecreek.com
SUMMARY:Communion
DESCRIPTION:
URL:https://cometothecreek.com/event/communion-26/
CATEGORIES:Communion
END:VEVENT
BEGIN:VEVENT
DTSTART;TZID=America/Chicago:20250824T110000
DTEND;TZID=America/Chicago:20250824T110000
DTSTAMP:20260420T060052
CREATED:20250705T142912Z
LAST-MODIFIED:20250705T142912Z
UID:2425-1756033200-1756033200@cometothecreek.com
SUMMARY:Communion
DESCRIPTION:
URL:https://cometothecreek.com/event/communion-25/
CATEGORIES:Communion
END:VEVENT
BEGIN:VEVENT
DTSTART;TZID=America/Chicago:20250727T110000
DTEND;TZID=America/Chicago:20250727T110000
DTSTAMP:20260420T060052
CREATED:20250705T142832Z
LAST-MODIFIED:20250705T142832Z
UID:2423-1753614000-1753614000@cometothecreek.com
SUMMARY:Communion
DESCRIPTION:
URL:https://cometothecreek.com/event/communion-24/
CATEGORIES:Communion
END:VEVENT
BEGIN:VEVENT
DTSTART;TZID=America/Chicago:20250525T110000
DTEND;TZID=America/Chicago:20250525T110000
DTSTAMP:20260420T060052
CREATED:20250303T161223Z
LAST-MODIFIED:20250303T161223Z
UID:2326-1748170800-1748170800@cometothecreek.com
SUMMARY:Communion
DESCRIPTION:
URL:https://cometothecreek.com/event/communion-23/
CATEGORIES:Communion
END:VEVENT
BEGIN:VEVENT
DTSTART;TZID=America/Chicago:20250427T110000
DTEND;TZID=America/Chicago:20250427T110000
DTSTAMP:20260420T060052
CREATED:20250427T050044Z
LAST-MODIFIED:20250405T174423Z
UID:2304-1745751600-1745751600@cometothecreek.com
SUMMARY:Communion
DESCRIPTION:
URL:https://cometothecreek.com/event/communion-22/
CATEGORIES:Communion
END:VEVENT
BEGIN:VEVENT
DTSTART;TZID=America/Chicago:20250323T110000
DTEND;TZID=America/Chicago:20250323T110000
DTSTAMP:20260420T060052
CREATED:20250102T142850Z
LAST-MODIFIED:20250102T142850Z
UID:2263-1742727600-1742727600@cometothecreek.com
SUMMARY:Communion
DESCRIPTION:
URL:https://cometothecreek.com/event/communion-21/
CATEGORIES:Communion
END:VEVENT
BEGIN:VEVENT
DTSTART;TZID=America/Chicago:20250223T110000
DTEND;TZID=America/Chicago:20250223T110000
DTSTAMP:20260420T060052
CREATED:20250102T142804Z
LAST-MODIFIED:20250102T142804Z
UID:2261-1740308400-1740308400@cometothecreek.com
SUMMARY:Communion
DESCRIPTION:
URL:https://cometothecreek.com/event/communion-20/
CATEGORIES:Communion
END:VEVENT
BEGIN:VEVENT
DTSTART;TZID=America/Chicago:20250126T110000
DTEND;TZID=America/Chicago:20250126T110000
DTSTAMP:20260420T060052
CREATED:20250102T142711Z
LAST-MODIFIED:20250102T142711Z
UID:2259-1737889200-1737889200@cometothecreek.com
SUMMARY:Communion
DESCRIPTION:
URL:https://cometothecreek.com/event/communion-19/
CATEGORIES:Communion
END:VEVENT
BEGIN:VEVENT
DTSTART;TZID=America/Chicago:20241124T110000
DTEND;TZID=America/Chicago:20241124T120000
DTSTAMP:20260420T060052
CREATED:20240904T095748Z
LAST-MODIFIED:20240904T095748Z
UID:2161-1732446000-1732449600@cometothecreek.com
SUMMARY:Communion
DESCRIPTION:
URL:https://cometothecreek.com/event/communion-18/
CATEGORIES:Communion
END:VEVENT
BEGIN:VEVENT
DTSTART;TZID=America/Chicago:20240929T110000
DTEND;TZID=America/Chicago:20240929T120000
DTSTAMP:20260420T060052
CREATED:20240904T093234Z
LAST-MODIFIED:20240904T093234Z
UID:2121-1727607600-1727611200@cometothecreek.com
SUMMARY:Communion
DESCRIPTION:
URL:https://cometothecreek.com/event/communion-17/
CATEGORIES:Communion
END:VEVENT
BEGIN:VEVENT
DTSTART;TZID=America/Chicago:20240526T110000
DTEND;TZID=America/Chicago:20240526T110000
DTSTAMP:20260420T060052
CREATED:20240221T201914Z
LAST-MODIFIED:20240221T201914Z
UID:2012-1716721200-1716721200@cometothecreek.com
SUMMARY:Communion
DESCRIPTION:
URL:https://cometothecreek.com/event/communion-16/
CATEGORIES:Communion
END:VEVENT
BEGIN:VEVENT
DTSTART;TZID=America/Chicago:20240428T090000
DTEND;TZID=America/Chicago:20240428T110000
DTSTAMP:20260420T060052
CREATED:20240221T200716Z
LAST-MODIFIED:20240221T200716Z
UID:1994-1714294800-1714302000@cometothecreek.com
SUMMARY:Communion
DESCRIPTION:
URL:https://cometothecreek.com/event/communion-15/
CATEGORIES:Communion
END:VEVENT
BEGIN:VEVENT
DTSTART;TZID=America/Chicago:20240324T110000
DTEND;TZID=America/Chicago:20240324T110000
DTSTAMP:20260420T060052
CREATED:20240221T144419Z
LAST-MODIFIED:20240221T144419Z
UID:1953-1711278000-1711278000@cometothecreek.com
SUMMARY:Communion
DESCRIPTION:
URL:https://cometothecreek.com/event/communion-14/
CATEGORIES:Communion
END:VEVENT
BEGIN:VEVENT
DTSTART;TZID=America/Chicago:20240225T110000
DTEND;TZID=America/Chicago:20240225T110000
DTSTAMP:20260420T060052
CREATED:20240202T145527Z
LAST-MODIFIED:20240202T145527Z
UID:1927-1708858800-1708858800@cometothecreek.com
SUMMARY:Communion
DESCRIPTION:
URL:https://cometothecreek.com/event/communion-13/
CATEGORIES:Communion
END:VEVENT
BEGIN:VEVENT
DTSTART;TZID=America/Chicago:20231126T110000
DTEND;TZID=America/Chicago:20231126T110000
DTSTAMP:20260420T060052
CREATED:20231103T190751Z
LAST-MODIFIED:20231103T190751Z
UID:1866-1700996400-1700996400@cometothecreek.com
SUMMARY:Communion
DESCRIPTION:
URL:https://cometothecreek.com/event/communion-12/
CATEGORIES:Communion
END:VEVENT
BEGIN:VEVENT
DTSTART;TZID=America/Chicago:20231019T120000
DTEND;TZID=America/Chicago:20231019T143000
DTSTAMP:20260420T060052
CREATED:20230901T180520Z
LAST-MODIFIED:20230901T180520Z
UID:1832-1697716800-1697725800@cometothecreek.com
SUMMARY:Senior Social at Jackie's
DESCRIPTION:
URL:https://cometothecreek.com/event/senior-social-at-jackies-2/
CATEGORIES:Communion,Senior Social
END:VEVENT
BEGIN:VEVENT
DTSTART;TZID=America/Chicago:20230924T110000
DTEND;TZID=America/Chicago:20230924T110000
DTSTAMP:20260420T060052
CREATED:20230901T173107Z
LAST-MODIFIED:20230901T173107Z
UID:1808-1695553200-1695553200@cometothecreek.com
SUMMARY:Communion
DESCRIPTION:
URL:https://cometothecreek.com/event/communion-11/
CATEGORIES:Communion
END:VEVENT
BEGIN:VEVENT
DTSTART;TZID=America/Chicago:20230827T110000
DTEND;TZID=America/Chicago:20230827T110000
DTSTAMP:20260420T060052
CREATED:20230728T155702Z
LAST-MODIFIED:20230728T155828Z
UID:1748-1693134000-1693134000@cometothecreek.com
SUMMARY:Communion
DESCRIPTION:
URL:https://cometothecreek.com/event/communion-10/
CATEGORIES:Communion
END:VEVENT
BEGIN:VEVENT
DTSTART;TZID=America/Chicago:20230723T110000
DTEND;TZID=America/Chicago:20230723T110000
DTSTAMP:20260420T060052
CREATED:20230624T131224Z
LAST-MODIFIED:20230728T143841Z
UID:1711-1690110000-1690110000@cometothecreek.com
SUMMARY:Communion
DESCRIPTION:
URL:https://cometothecreek.com/event/communion-9/
CATEGORIES:Communion
END:VEVENT
BEGIN:VEVENT
DTSTART;TZID=America/Chicago:20230625T110000
DTEND;TZID=America/Chicago:20230625T110000
DTSTAMP:20260420T060052
CREATED:20230602T150756Z
LAST-MODIFIED:20230602T151510Z
UID:1667-1687690800-1687690800@cometothecreek.com
SUMMARY:Communion
DESCRIPTION:
URL:https://cometothecreek.com/event/communion-8/
CATEGORIES:Communion
END:VEVENT
BEGIN:VEVENT
DTSTART;TZID=America/Chicago:20230528T110000
DTEND;TZID=America/Chicago:20230528T120000
DTSTAMP:20260420T060052
CREATED:20230428T134738Z
LAST-MODIFIED:20230428T134738Z
UID:1625-1685271600-1685275200@cometothecreek.com
SUMMARY:Communion
DESCRIPTION:
URL:https://cometothecreek.com/event/communion-7/
CATEGORIES:Communion
END:VEVENT
BEGIN:VEVENT
DTSTART;TZID=America/Chicago:20230423T110000
DTEND;TZID=America/Chicago:20230423T120000
DTSTAMP:20260420T060052
CREATED:20230331T114826Z
LAST-MODIFIED:20230331T114826Z
UID:1560-1682247600-1682251200@cometothecreek.com
SUMMARY:Communion
DESCRIPTION:
URL:https://cometothecreek.com/event/communion-6/
CATEGORIES:Communion
END:VEVENT
BEGIN:VEVENT
DTSTART;TZID=America/Chicago:20230326T110000
DTEND;TZID=America/Chicago:20230326T110000
DTSTAMP:20260420T060052
CREATED:20230221T135558Z
LAST-MODIFIED:20230221T143508Z
UID:1405-1679828400-1679828400@cometothecreek.com
SUMMARY:Communion
DESCRIPTION:
URL:https://cometothecreek.com/event/communion-5/
CATEGORIES:Communion
END:VEVENT
END:VCALENDAR