BEGIN:VCALENDAR
VERSION:2.0
PRODID:-//Shoal Creek Baptist Church - ECPv6.15.20//NONSGML v1.0//EN
CALSCALE:GREGORIAN
METHOD:PUBLISH
X-ORIGINAL-URL:https://cometothecreek.com
X-WR-CALDESC:Events for Shoal Creek Baptist Church
REFRESH-INTERVAL;VALUE=DURATION:PT1H
X-Robots-Tag:noindex
X-PUBLISHED-TTL:PT1H
BEGIN:VTIMEZONE
TZID:America/Chicago
BEGIN:DAYLIGHT
TZOFFSETFROM:-0600
TZOFFSETTO:-0500
TZNAME:CDT
DTSTART:20210314T080000
END:DAYLIGHT
BEGIN:STANDARD
TZOFFSETFROM:-0500
TZOFFSETTO:-0600
TZNAME:CST
DTSTART:20211107T070000
END:STANDARD
BEGIN:DAYLIGHT
TZOFFSETFROM:-0600
TZOFFSETTO:-0500
TZNAME:CDT
DTSTART:20220313T080000
END:DAYLIGHT
BEGIN:STANDARD
TZOFFSETFROM:-0500
TZOFFSETTO:-0600
TZNAME:CST
DTSTART:20221106T070000
END:STANDARD
BEGIN:DAYLIGHT
TZOFFSETFROM:-0600
TZOFFSETTO:-0500
TZNAME:CDT
DTSTART:20230312T080000
END:DAYLIGHT
BEGIN:STANDARD
TZOFFSETFROM:-0500
TZOFFSETTO:-0600
TZNAME:CST
DTSTART:20231105T070000
END:STANDARD
END:VTIMEZONE
BEGIN:VEVENT
DTSTART;TZID=America/Chicago:20220909T180000
DTEND;TZID=America/Chicago:20220909T193000
DTSTAMP:20260420T043741
CREATED:20220627T232805Z
LAST-MODIFIED:20220627T232805Z
UID:579-1662746400-1662751800@cometothecreek.com
SUMMARY:Dalton's Greater Works
DESCRIPTION:The second Friday of every month\, a group of us meet to travel to Greater Works in Dalton to serve a meal and have a time of prayer and teaching with our friends in Dalton\, GA. Anyone from the church is always welcome to join this event too!
URL:https://cometothecreek.com/event/daltons-greater-works-2/
LOCATION:Dalton’s Greater Works\, 1001 S Thornton Ave.\, Dalton\, GA\, 30720\, United States
CATEGORIES:Community Outreach
END:VEVENT
BEGIN:VEVENT
DTSTART;TZID=America/Chicago:20220827T083000
DTEND;TZID=America/Chicago:20220827T110000
DTSTAMP:20260420T043741
CREATED:20220627T233527Z
LAST-MODIFIED:20220627T233527Z
UID:584-1661589000-1661598000@cometothecreek.com
SUMMARY:Never Alone
DESCRIPTION:Please join us as we share food with families from the surrounding communities in North Georgia. This outreach\, in partnership with Never Alone (neveralone.org) allows us to share the love of Jesus by helping the food insecure in our area. Our guests are men and women of all ages\, from all backgrounds\, all walks of life\, all races\, education levels\, and statuses. We serve senior citizens\, single moms and dads\, children\, and any who are in need. This ministry is a practical way to live out Matthew 25:40. We offer prayer and Bibles to all of our guests. \nThis outreach is the last Saturday of every month. We meet at 8:30AM at RM Moore Elementary.
URL:https://cometothecreek.com/event/never-alone-2/
LOCATION:RM Moore Elementary School\, 1375 Puckett Rd.\, Waleska\, GA\, 30183\, United States
CATEGORIES:Community Outreach
END:VEVENT
BEGIN:VEVENT
DTSTART;TZID=America/Chicago:20220812T180000
DTEND;TZID=America/Chicago:20220812T193000
DTSTAMP:20260420T043741
CREATED:20220627T232708Z
LAST-MODIFIED:20220627T232708Z
UID:577-1660327200-1660332600@cometothecreek.com
SUMMARY:Dalton's Greater Works
DESCRIPTION:The second Friday of every month\, a group of us meet to travel to Greater Works in Dalton to serve a meal and have a time of prayer and teaching with our friends in Dalton\, GA. Anyone from the church is always welcome to join this event too!
URL:https://cometothecreek.com/event/daltons-greater-works/
LOCATION:Dalton’s Greater Works\, 1001 S Thornton Ave.\, Dalton\, GA\, 30720\, United States
CATEGORIES:Community Outreach
END:VEVENT
BEGIN:VEVENT
DTSTART;TZID=America/Chicago:20220730T083000
DTEND;TZID=America/Chicago:20220730T110000
DTSTAMP:20260420T043741
CREATED:20220627T233423Z
LAST-MODIFIED:20220627T233423Z
UID:581-1659169800-1659178800@cometothecreek.com
SUMMARY:Never Alone
DESCRIPTION:Please join us as we share food with families from the surrounding communities in North Georgia. This outreach\, in partnership with Never Alone (neveralone.org) allows us to share the love of Jesus by helping the food insecure in our area. Our guests are men and women of all ages\, from all backgrounds\, all walks of life\, all races\, education levels\, and statuses. We serve senior citizens\, single moms and dads\, children\, and any who are in need. This ministry is a practical way to live out Matthew 25:40. We offer prayer and Bibles to all of our guests. \nThis outreach is the last Saturday of every month. We meet at 8:30AM at RM Moore Elementary.
URL:https://cometothecreek.com/event/never-alone/
LOCATION:RM Moore Elementary School\, 1375 Puckett Rd.\, Waleska\, GA\, 30183\, United States
CATEGORIES:Community Outreach
END:VEVENT
BEGIN:VEVENT
DTSTART;TZID=America/Chicago:20220708T180000
DTEND;TZID=America/Chicago:20220708T193000
DTSTAMP:20260420T043741
CREATED:20220627T232525Z
LAST-MODIFIED:20220627T232539Z
UID:573-1657303200-1657308600@cometothecreek.com
SUMMARY:Dalton's Greater Works
DESCRIPTION:The second Friday of every month\, a group of us meet to travel to Greater Works in Dalton to serve a meal and have a time of prayer and teaching with our friends in Dalton\, GA. Anyone from the church is always welcome to join this event too!
URL:https://cometothecreek.com/event/dalton-greater-works/
LOCATION:Dalton’s Greater Works\, 1001 S Thornton Ave.\, Dalton\, GA\, 30720\, United States
CATEGORIES:Community Outreach
END:VEVENT
END:VCALENDAR