BEGIN:VCALENDAR
VERSION:2.0
PRODID:-//Shoal Creek Baptist Church - ECPv6.15.20//NONSGML v1.0//EN
CALSCALE:GREGORIAN
METHOD:PUBLISH
X-ORIGINAL-URL:https://cometothecreek.com
X-WR-CALDESC:Events for Shoal Creek Baptist Church
REFRESH-INTERVAL;VALUE=DURATION:PT1H
X-Robots-Tag:noindex
X-PUBLISHED-TTL:PT1H
BEGIN:VTIMEZONE
TZID:America/Chicago
BEGIN:DAYLIGHT
TZOFFSETFROM:-0600
TZOFFSETTO:-0500
TZNAME:CDT
DTSTART:20240310T080000
END:DAYLIGHT
BEGIN:STANDARD
TZOFFSETFROM:-0500
TZOFFSETTO:-0600
TZNAME:CST
DTSTART:20241103T070000
END:STANDARD
BEGIN:DAYLIGHT
TZOFFSETFROM:-0600
TZOFFSETTO:-0500
TZNAME:CDT
DTSTART:20250309T080000
END:DAYLIGHT
BEGIN:STANDARD
TZOFFSETFROM:-0500
TZOFFSETTO:-0600
TZNAME:CST
DTSTART:20251102T070000
END:STANDARD
BEGIN:DAYLIGHT
TZOFFSETFROM:-0600
TZOFFSETTO:-0500
TZNAME:CDT
DTSTART:20260308T080000
END:DAYLIGHT
BEGIN:STANDARD
TZOFFSETFROM:-0500
TZOFFSETTO:-0600
TZNAME:CST
DTSTART:20261101T070000
END:STANDARD
END:VTIMEZONE
BEGIN:VEVENT
DTSTART;TZID=America/Chicago:20250323T110000
DTEND;TZID=America/Chicago:20250323T110000
DTSTAMP:20260420T120812
CREATED:20250102T142850Z
LAST-MODIFIED:20250102T142850Z
UID:2263-1742727600-1742727600@cometothecreek.com
SUMMARY:Communion
DESCRIPTION:
URL:https://cometothecreek.com/event/communion-21/
CATEGORIES:Communion
END:VEVENT
BEGIN:VEVENT
DTSTART;TZID=America/Chicago:20250326T183000
DTEND;TZID=America/Chicago:20250326T193000
DTSTAMP:20260420T120812
CREATED:20250102T141800Z
LAST-MODIFIED:20250102T141800Z
UID:2245-1743013800-1743017400@cometothecreek.com
SUMMARY:Bible Study
DESCRIPTION:
URL:https://cometothecreek.com/event/bible-study-97/
CATEGORIES:Bible Study
END:VEVENT
BEGIN:VEVENT
DTSTART;TZID=America/Chicago:20250329T120000
DTEND;TZID=America/Chicago:20250329T143000
DTSTAMP:20260420T120812
CREATED:20250303T153154Z
LAST-MODIFIED:20250303T153154Z
UID:2286-1743249600-1743258600@cometothecreek.com
SUMMARY:Senior Social
DESCRIPTION:Please join us for a fun time of food and fellowship on Saturday\, March 29\, 2025 at 12 noon in the Fellowship Hall. Contact Kim Eubanks at 678-447-6786 for more details.
URL:https://cometothecreek.com/event/senior-social-10/
CATEGORIES:Senior Social
END:VEVENT
BEGIN:VEVENT
DTSTART;TZID=America/Chicago:20250402T183000
DTEND;TZID=America/Chicago:20250402T193000
DTSTAMP:20260420T120812
CREATED:20250303T153731Z
LAST-MODIFIED:20250303T153731Z
UID:2290-1743618600-1743622200@cometothecreek.com
SUMMARY:Bible Study
DESCRIPTION:
URL:https://cometothecreek.com/event/bible-study-98/
CATEGORIES:Bible Study
END:VEVENT
BEGIN:VEVENT
DTSTART;TZID=America/Chicago:20250406T123000
DTEND;TZID=America/Chicago:20250406T123000
DTSTAMP:20260420T120812
CREATED:20250102T134112Z
LAST-MODIFIED:20250102T134112Z
UID:2216-1743942600-1743942600@cometothecreek.com
SUMMARY:Deacon's Meeting
DESCRIPTION:
URL:https://cometothecreek.com/event/deacons-meeting-26/
CATEGORIES:Deacons Meeting
END:VEVENT
BEGIN:VEVENT
DTSTART;TZID=America/Chicago:20250409T183000
DTEND;TZID=America/Chicago:20250409T193000
DTSTAMP:20260420T120812
CREATED:20250303T153805Z
LAST-MODIFIED:20250303T153805Z
UID:2292-1744223400-1744227000@cometothecreek.com
SUMMARY:Bible Study
DESCRIPTION:
URL:https://cometothecreek.com/event/bible-study-99/
CATEGORIES:Bible Study
END:VEVENT
BEGIN:VEVENT
DTSTART;TZID=America/Chicago:20250412T090000
DTEND;TZID=America/Chicago:20250412T110000
DTSTAMP:20260420T120812
CREATED:20250303T155614Z
LAST-MODIFIED:20250303T155614Z
UID:2300-1744448400-1744455600@cometothecreek.com
SUMMARY:Men's Fellowship
DESCRIPTION:
URL:https://cometothecreek.com/event/mens-fellowship-23/
CATEGORIES:Men's Group
END:VEVENT
BEGIN:VEVENT
DTSTART;TZID=America/Chicago:20250413T110000
DTEND;TZID=America/Chicago:20250413T120000
DTSTAMP:20260420T120812
CREATED:20250303T160050Z
LAST-MODIFIED:20250303T160050Z
UID:2308-1744542000-1744545600@cometothecreek.com
SUMMARY:Palm Sunday
DESCRIPTION:
URL:https://cometothecreek.com/event/palm-sunday-2/
CATEGORIES:Palm Sunday
END:VEVENT
BEGIN:VEVENT
DTSTART;TZID=America/Chicago:20250413T130000
DTEND;TZID=America/Chicago:20250413T140000
DTSTAMP:20260420T120812
CREATED:20250405T174906Z
LAST-MODIFIED:20250405T174906Z
UID:2357-1744549200-1744552800@cometothecreek.com
SUMMARY:Conference
DESCRIPTION:
URL:https://cometothecreek.com/event/conference-11/
CATEGORIES:Church Conference
END:VEVENT
BEGIN:VEVENT
DTSTART;TZID=America/Chicago:20250416T183000
DTEND;TZID=America/Chicago:20250416T193000
DTSTAMP:20260420T120812
CREATED:20250303T155025Z
LAST-MODIFIED:20250303T155025Z
UID:2294-1744828200-1744831800@cometothecreek.com
SUMMARY:Bible Study
DESCRIPTION:
URL:https://cometothecreek.com/event/bible-study-100/
CATEGORIES:Bible Study
END:VEVENT
BEGIN:VEVENT
DTSTART;TZID=America/Chicago:20250418T190000
DTEND;TZID=America/Chicago:20250418T200000
DTSTAMP:20260420T120812
CREATED:20250303T160338Z
LAST-MODIFIED:20250303T160338Z
UID:2310-1745002800-1745006400@cometothecreek.com
SUMMARY:Good Friday Service
DESCRIPTION:
URL:https://cometothecreek.com/event/good-friday-service/
CATEGORIES:Good Friday
END:VEVENT
BEGIN:VEVENT
DTSTART;TZID=America/Chicago:20250419T090000
DTEND;TZID=America/Chicago:20250419T110000
DTSTAMP:20260420T120812
CREATED:20250303T155656Z
LAST-MODIFIED:20250303T155656Z
UID:2302-1745053200-1745060400@cometothecreek.com
SUMMARY:Women's Fellowship
DESCRIPTION:
URL:https://cometothecreek.com/event/womens-fellowship-25/
CATEGORIES:Women's Group
END:VEVENT
BEGIN:VEVENT
DTSTART;TZID=America/Chicago:20250420T110000
DTEND;TZID=America/Chicago:20250420T120000
DTSTAMP:20260420T120812
CREATED:20250303T155904Z
LAST-MODIFIED:20250303T155904Z
UID:2306-1745146800-1745150400@cometothecreek.com
SUMMARY:Easter Sunday
DESCRIPTION:
URL:https://cometothecreek.com/event/easter-sunday-2/
END:VEVENT
BEGIN:VEVENT
DTSTART;TZID=America/Chicago:20250420T120000
DTEND;TZID=America/Chicago:20250420T120000
DTSTAMP:20260420T120812
CREATED:20250405T175030Z
LAST-MODIFIED:20250405T175030Z
UID:2359-1745150400-1745150400@cometothecreek.com
SUMMARY:Easter Egg Hunt
DESCRIPTION:
URL:https://cometothecreek.com/event/easter-egg-hunt-3/
CATEGORIES:Easter
END:VEVENT
BEGIN:VEVENT
DTSTART;TZID=America/Chicago:20250423T183000
DTEND;TZID=America/Chicago:20250423T193000
DTSTAMP:20260420T120812
CREATED:20250303T155454Z
LAST-MODIFIED:20250303T155454Z
UID:2296-1745433000-1745436600@cometothecreek.com
SUMMARY:Bible Study
DESCRIPTION:
URL:https://cometothecreek.com/event/bible-study-101/
CATEGORIES:Bible Study
END:VEVENT
BEGIN:VEVENT
DTSTART;TZID=America/Chicago:20250425T183000
DTEND;TZID=America/Chicago:20250425T183000
DTSTAMP:20260420T120812
CREATED:20250405T175249Z
LAST-MODIFIED:20250405T175249Z
UID:2361-1745605800-1745605800@cometothecreek.com
SUMMARY:Youth Group Outing
DESCRIPTION:Dinner and bowling. Place: TBD
URL:https://cometothecreek.com/event/youth-group-outing/
CATEGORIES:Youth Group
END:VEVENT
BEGIN:VEVENT
DTSTART;TZID=America/Chicago:20250426T120000
DTEND;TZID=America/Chicago:20250426T143000
DTSTAMP:20260420T120812
CREATED:20250425T170058Z
LAST-MODIFIED:20250405T174505Z
UID:2312-1745668800-1745677800@cometothecreek.com
SUMMARY:Senior Social
DESCRIPTION:Please make plans to join us for our monthly Senior Social on Saturday\, April 26\, 2025 at 12 noon in the Fellowship Hall.  Contact Kim Eubanks for more details.
URL:https://cometothecreek.com/event/senior-social-11/
CATEGORIES:Senior Social
END:VEVENT
BEGIN:VEVENT
DTSTART;TZID=America/Chicago:20250427T110000
DTEND;TZID=America/Chicago:20250427T110000
DTSTAMP:20260420T120812
CREATED:20250427T050044Z
LAST-MODIFIED:20250405T174423Z
UID:2304-1745751600-1745751600@cometothecreek.com
SUMMARY:Communion
DESCRIPTION:
URL:https://cometothecreek.com/event/communion-22/
CATEGORIES:Communion
END:VEVENT
BEGIN:VEVENT
DTSTART;TZID=America/Chicago:20250430T183000
DTEND;TZID=America/Chicago:20250430T193000
DTSTAMP:20260420T120812
CREATED:20250303T155530Z
LAST-MODIFIED:20250303T155530Z
UID:2298-1746037800-1746041400@cometothecreek.com
SUMMARY:Bible Study
DESCRIPTION:
URL:https://cometothecreek.com/event/bible-study-102/
CATEGORIES:Bible Study
END:VEVENT
BEGIN:VEVENT
DTSTART;TZID=America/Chicago:20250504T123000
DTEND;TZID=America/Chicago:20250504T123000
DTSTAMP:20260420T120812
CREATED:20250102T134232Z
LAST-MODIFIED:20250102T134232Z
UID:2218-1746361800-1746361800@cometothecreek.com
SUMMARY:Deacon's Meeting
DESCRIPTION:
URL:https://cometothecreek.com/event/deacons-meeting-27/
CATEGORIES:Deacons Meeting
END:VEVENT
BEGIN:VEVENT
DTSTART;TZID=America/Chicago:20250507T183000
DTEND;TZID=America/Chicago:20250507T193000
DTSTAMP:20260420T120812
CREATED:20250303T160639Z
LAST-MODIFIED:20250303T160639Z
UID:2314-1746642600-1746646200@cometothecreek.com
SUMMARY:Bible Study
DESCRIPTION:
URL:https://cometothecreek.com/event/bible-study-103/
CATEGORIES:Bible Study
END:VEVENT
BEGIN:VEVENT
DTSTART;TZID=America/Chicago:20250510T090000
DTEND;TZID=America/Chicago:20250510T110000
DTSTAMP:20260420T120812
CREATED:20250303T161058Z
LAST-MODIFIED:20250303T161058Z
UID:2322-1746867600-1746874800@cometothecreek.com
SUMMARY:Men's Fellowship
DESCRIPTION:
URL:https://cometothecreek.com/event/mens-fellowship-24/
CATEGORIES:Men's Group
END:VEVENT
BEGIN:VEVENT
DTSTART;TZID=America/Chicago:20250514T183000
DTEND;TZID=America/Chicago:20250514T193000
DTSTAMP:20260420T120812
CREATED:20250303T160823Z
LAST-MODIFIED:20250303T160823Z
UID:2316-1747247400-1747251000@cometothecreek.com
SUMMARY:Bible Study
DESCRIPTION:
URL:https://cometothecreek.com/event/bible-study-104/
CATEGORIES:Bible Study
END:VEVENT
BEGIN:VEVENT
DTSTART;TZID=America/Chicago:20250517T090000
DTEND;TZID=America/Chicago:20250517T110000
DTSTAMP:20260420T120812
CREATED:20250303T161147Z
LAST-MODIFIED:20250303T161147Z
UID:2324-1747472400-1747479600@cometothecreek.com
SUMMARY:Women's Fellowship
DESCRIPTION:
URL:https://cometothecreek.com/event/womens-fellowship-26/
CATEGORIES:Women's Group
END:VEVENT
BEGIN:VEVENT
DTSTART;TZID=America/Chicago:20250521T183000
DTEND;TZID=America/Chicago:20250521T193000
DTSTAMP:20260420T120812
CREATED:20250303T160856Z
LAST-MODIFIED:20250303T160856Z
UID:2318-1747852200-1747855800@cometothecreek.com
SUMMARY:Bible Study
DESCRIPTION:
URL:https://cometothecreek.com/event/bible-study-105/
CATEGORIES:Bible Study
END:VEVENT
BEGIN:VEVENT
DTSTART;TZID=America/Chicago:20250525T110000
DTEND;TZID=America/Chicago:20250525T110000
DTSTAMP:20260420T120812
CREATED:20250303T161223Z
LAST-MODIFIED:20250303T161223Z
UID:2326-1748170800-1748170800@cometothecreek.com
SUMMARY:Communion
DESCRIPTION:
URL:https://cometothecreek.com/event/communion-23/
CATEGORIES:Communion
END:VEVENT
BEGIN:VEVENT
DTSTART;TZID=America/Chicago:20250528T183000
DTEND;TZID=America/Chicago:20250528T193000
DTSTAMP:20260420T120812
CREATED:20250303T160938Z
LAST-MODIFIED:20250303T160938Z
UID:2320-1748457000-1748460600@cometothecreek.com
SUMMARY:Bible Study
DESCRIPTION:
URL:https://cometothecreek.com/event/bible-study-106/
CATEGORIES:Bible Study
END:VEVENT
BEGIN:VEVENT
DTSTART;TZID=America/Chicago:20250601T123000
DTEND;TZID=America/Chicago:20250601T123000
DTSTAMP:20260420T120812
CREATED:20250102T134313Z
LAST-MODIFIED:20250102T134313Z
UID:2220-1748781000-1748781000@cometothecreek.com
SUMMARY:Deacon's Meeting
DESCRIPTION:
URL:https://cometothecreek.com/event/deacons-meeting-28/
CATEGORIES:Deacons Meeting
END:VEVENT
BEGIN:VEVENT
DTSTART;TZID=America/Chicago:20250702T183000
DTEND;TZID=America/Chicago:20250702T193000
DTSTAMP:20260420T120812
CREATED:20250705T143033Z
LAST-MODIFIED:20250705T143033Z
UID:2429-1751481000-1751484600@cometothecreek.com
SUMMARY:Bible Study
DESCRIPTION:
URL:https://cometothecreek.com/event/bible-study-107/
CATEGORIES:Bible Study
END:VEVENT
BEGIN:VEVENT
DTSTART;TZID=America/Chicago:20250706T123000
DTEND;TZID=America/Chicago:20250706T123000
DTSTAMP:20260420T120812
CREATED:20250705T140152Z
LAST-MODIFIED:20250705T140152Z
UID:2390-1751805000-1751805000@cometothecreek.com
SUMMARY:Deacons meeting
DESCRIPTION:
URL:https://cometothecreek.com/event/deacons-meeting-29/
CATEGORIES:Deacons Meeting
END:VEVENT
END:VCALENDAR