BEGIN:VCALENDAR
VERSION:2.0
PRODID:-//Shoal Creek Baptist Church - ECPv6.15.20//NONSGML v1.0//EN
CALSCALE:GREGORIAN
METHOD:PUBLISH
X-WR-CALNAME:Shoal Creek Baptist Church
X-ORIGINAL-URL:https://cometothecreek.com
X-WR-CALDESC:Events for Shoal Creek Baptist Church
REFRESH-INTERVAL;VALUE=DURATION:PT1H
X-Robots-Tag:noindex
X-PUBLISHED-TTL:PT1H
BEGIN:VTIMEZONE
TZID:America/Chicago
BEGIN:DAYLIGHT
TZOFFSETFROM:-0600
TZOFFSETTO:-0500
TZNAME:CDT
DTSTART:20220313T080000
END:DAYLIGHT
BEGIN:STANDARD
TZOFFSETFROM:-0500
TZOFFSETTO:-0600
TZNAME:CST
DTSTART:20221106T070000
END:STANDARD
BEGIN:DAYLIGHT
TZOFFSETFROM:-0600
TZOFFSETTO:-0500
TZNAME:CDT
DTSTART:20230312T080000
END:DAYLIGHT
BEGIN:STANDARD
TZOFFSETFROM:-0500
TZOFFSETTO:-0600
TZNAME:CST
DTSTART:20231105T070000
END:STANDARD
BEGIN:DAYLIGHT
TZOFFSETFROM:-0600
TZOFFSETTO:-0500
TZNAME:CDT
DTSTART:20240310T080000
END:DAYLIGHT
BEGIN:STANDARD
TZOFFSETFROM:-0500
TZOFFSETTO:-0600
TZNAME:CST
DTSTART:20241103T070000
END:STANDARD
BEGIN:DAYLIGHT
TZOFFSETFROM:-0600
TZOFFSETTO:-0500
TZNAME:CDT
DTSTART:20250309T080000
END:DAYLIGHT
BEGIN:STANDARD
TZOFFSETFROM:-0500
TZOFFSETTO:-0600
TZNAME:CST
DTSTART:20251102T070000
END:STANDARD
END:VTIMEZONE
BEGIN:VEVENT
DTSTART;TZID=America/Chicago:20240218T130000
DTEND;TZID=America/Chicago:20240218T143000
DTSTAMP:20260421T001629
CREATED:20240202T145454Z
LAST-MODIFIED:20240202T145454Z
UID:1925-1708261200-1708266600@cometothecreek.com
SUMMARY:Conference
DESCRIPTION:
URL:https://cometothecreek.com/event/conference-9/
CATEGORIES:Church Conference
END:VEVENT
BEGIN:VEVENT
DTSTART;TZID=America/Chicago:20240217T090000
DTEND;TZID=America/Chicago:20240217T110000
DTSTAMP:20260421T001629
CREATED:20240202T145334Z
LAST-MODIFIED:20240202T145334Z
UID:1923-1708160400-1708167600@cometothecreek.com
SUMMARY:Women's Fellowship
DESCRIPTION:
URL:https://cometothecreek.com/event/womens-fellowship-16/
CATEGORIES:Women's Group
END:VEVENT
BEGIN:VEVENT
DTSTART;TZID=America/Chicago:20240214T183000
DTEND;TZID=America/Chicago:20240214T183000
DTSTAMP:20260421T001629
CREATED:20240202T145103Z
LAST-MODIFIED:20240202T145103Z
UID:1915-1707935400-1707935400@cometothecreek.com
SUMMARY:Bible Study
DESCRIPTION:
URL:https://cometothecreek.com/event/bible-study-53/
CATEGORIES:Bible Study
END:VEVENT
BEGIN:VEVENT
DTSTART;TZID=America/Chicago:20240210T090000
DTEND;TZID=America/Chicago:20240210T110000
DTSTAMP:20260421T001629
CREATED:20240202T145300Z
LAST-MODIFIED:20240202T145300Z
UID:1921-1707555600-1707562800@cometothecreek.com
SUMMARY:Men's Fellowship
DESCRIPTION:
URL:https://cometothecreek.com/event/mens-fellowship-13/
CATEGORIES:Men's Group
END:VEVENT
BEGIN:VEVENT
DTSTART;TZID=America/Chicago:20240207T183000
DTEND;TZID=America/Chicago:20240207T183000
DTSTAMP:20260421T001629
CREATED:20240202T145025Z
LAST-MODIFIED:20240202T145025Z
UID:1913-1707330600-1707330600@cometothecreek.com
SUMMARY:Bible Study
DESCRIPTION:
URL:https://cometothecreek.com/event/bible-study-52/
CATEGORIES:Bible Study
END:VEVENT
BEGIN:VEVENT
DTSTART;TZID=America/Chicago:20240204T120000
DTEND;TZID=America/Chicago:20240204T120000
DTSTAMP:20260421T001629
CREATED:20240202T145222Z
LAST-MODIFIED:20240202T145222Z
UID:1919-1707048000-1707048000@cometothecreek.com
SUMMARY:Deacon's Meeting
DESCRIPTION:
URL:https://cometothecreek.com/event/deacons-meeting-15/
CATEGORIES:Deacons Meeting
END:VEVENT
BEGIN:VEVENT
DTSTART;TZID=America/Chicago:20231227T183000
DTEND;TZID=America/Chicago:20231227T193000
DTSTAMP:20260421T001629
CREATED:20231103T191154Z
LAST-MODIFIED:20231103T191154Z
UID:1876-1703701800-1703705400@cometothecreek.com
SUMMARY:Bible Study
DESCRIPTION:
URL:https://cometothecreek.com/event/bible-study-51/
CATEGORIES:Bible Study
END:VEVENT
BEGIN:VEVENT
DTSTART;TZID=America/Chicago:20231224T180000
DTEND;TZID=America/Chicago:20231224T190000
DTSTAMP:20260421T001629
CREATED:20231103T191612Z
LAST-MODIFIED:20231212T165507Z
UID:1882-1703440800-1703444400@cometothecreek.com
SUMMARY:Christmas Eve Service
DESCRIPTION:
URL:https://cometothecreek.com/event/christmas-eve-service-2/
CATEGORIES:Christmas Eve Service
END:VEVENT
BEGIN:VEVENT
DTSTART;TZID=America/Chicago:20231220T183000
DTEND;TZID=America/Chicago:20231220T193000
DTSTAMP:20260421T001629
CREATED:20231103T191121Z
LAST-MODIFIED:20231103T191121Z
UID:1874-1703097000-1703100600@cometothecreek.com
SUMMARY:Bible Study
DESCRIPTION:
URL:https://cometothecreek.com/event/bible-study-50/
CATEGORIES:Bible Study
END:VEVENT
BEGIN:VEVENT
DTSTART;TZID=America/Chicago:20231216T120000
DTEND;TZID=America/Chicago:20231216T140000
DTSTAMP:20260421T001629
CREATED:20231103T190928Z
LAST-MODIFIED:20231103T190928Z
UID:1868-1702728000-1702735200@cometothecreek.com
SUMMARY:Men's & Women's Christmas Fellowship
DESCRIPTION:
URL:https://cometothecreek.com/event/mens-womens-christmas-fellowship/
CATEGORIES:Christmas Fellowship
END:VEVENT
BEGIN:VEVENT
DTSTART;TZID=America/Chicago:20231213T183000
DTEND;TZID=America/Chicago:20231213T193000
DTSTAMP:20260421T001629
CREATED:20231103T191047Z
LAST-MODIFIED:20231103T191047Z
UID:1872-1702492200-1702495800@cometothecreek.com
SUMMARY:Bible Study
DESCRIPTION:
URL:https://cometothecreek.com/event/bible-study-49/
CATEGORIES:Bible Study
END:VEVENT
BEGIN:VEVENT
DTSTART;TZID=America/Chicago:20231207T080000
DTEND;TZID=America/Chicago:20231207T170000
DTSTAMP:20260421T001629
CREATED:20231103T191440Z
LAST-MODIFIED:20231103T192105Z
UID:1880-1701936000-1701968400@cometothecreek.com
SUMMARY:Samaritan's Purse in Atlanta
DESCRIPTION:
URL:https://cometothecreek.com/event/samaritans-purse-in-atlanta/
CATEGORIES:Missions
END:VEVENT
BEGIN:VEVENT
DTSTART;TZID=America/Chicago:20231206T183000
DTEND;TZID=America/Chicago:20231206T193000
DTSTAMP:20260421T001629
CREATED:20231103T191013Z
LAST-MODIFIED:20231103T191013Z
UID:1870-1701887400-1701891000@cometothecreek.com
SUMMARY:Bible Study
DESCRIPTION:
URL:https://cometothecreek.com/event/bible-study-48/
CATEGORIES:Bible Study
END:VEVENT
BEGIN:VEVENT
DTSTART;TZID=America/Chicago:20231203T120000
DTEND;TZID=America/Chicago:20231203T120000
DTSTAMP:20260421T001629
CREATED:20231103T191328Z
LAST-MODIFIED:20231103T191328Z
UID:1878-1701604800-1701604800@cometothecreek.com
SUMMARY:Deacon's Meeting
DESCRIPTION:
URL:https://cometothecreek.com/event/deacons-meeting-14/
CATEGORIES:Deacons Meeting
END:VEVENT
BEGIN:VEVENT
DTSTART;TZID=America/Chicago:20231130T120000
DTEND;TZID=America/Chicago:20231130T150000
DTSTAMP:20260421T001629
CREATED:20231103T190428Z
LAST-MODIFIED:20231103T190428Z
UID:1860-1701345600-1701356400@cometothecreek.com
SUMMARY:Senior Social
DESCRIPTION:
URL:https://cometothecreek.com/event/senior-social-8/
CATEGORIES:Senior Social
END:VEVENT
BEGIN:VEVENT
DTSTART;TZID=America/Chicago:20231129T183000
DTEND;TZID=America/Chicago:20231129T193000
DTSTAMP:20260421T001629
CREATED:20231103T185752Z
LAST-MODIFIED:20231103T185752Z
UID:1852-1701282600-1701286200@cometothecreek.com
SUMMARY:Bible Study
DESCRIPTION:
URL:https://cometothecreek.com/event/bible-study-47/
CATEGORIES:Bible Study
END:VEVENT
BEGIN:VEVENT
DTSTART;TZID=America/Chicago:20231126T110000
DTEND;TZID=America/Chicago:20231126T110000
DTSTAMP:20260421T001629
CREATED:20231103T190751Z
LAST-MODIFIED:20231103T190751Z
UID:1866-1700996400-1700996400@cometothecreek.com
SUMMARY:Communion
DESCRIPTION:
URL:https://cometothecreek.com/event/communion-12/
CATEGORIES:Communion
END:VEVENT
BEGIN:VEVENT
DTSTART;TZID=America/Chicago:20231122T183000
DTEND;TZID=America/Chicago:20231122T193000
DTSTAMP:20260421T001629
CREATED:20231103T185716Z
LAST-MODIFIED:20231103T185716Z
UID:1850-1700677800-1700681400@cometothecreek.com
SUMMARY:Bible Study
DESCRIPTION:
URL:https://cometothecreek.com/event/bible-study-46/
CATEGORIES:Bible Study
END:VEVENT
BEGIN:VEVENT
DTSTART;TZID=America/Chicago:20231119T120000
DTEND;TZID=America/Chicago:20231119T120000
DTSTAMP:20260421T001629
CREATED:20231103T191812Z
LAST-MODIFIED:20231103T191812Z
UID:1884-1700395200-1700395200@cometothecreek.com
SUMMARY:Thanksgiving Meal
DESCRIPTION:
URL:https://cometothecreek.com/event/thanksgiving-meal/
CATEGORIES:Thanksgiving Meal
END:VEVENT
BEGIN:VEVENT
DTSTART;TZID=America/Chicago:20231115T183000
DTEND;TZID=America/Chicago:20231115T193000
DTSTAMP:20260421T001629
CREATED:20231103T185636Z
LAST-MODIFIED:20231103T185636Z
UID:1848-1700073000-1700076600@cometothecreek.com
SUMMARY:Bible Study
DESCRIPTION:
URL:https://cometothecreek.com/event/bible-study-45/
CATEGORIES:Bible Study
END:VEVENT
BEGIN:VEVENT
DTSTART;TZID=America/Chicago:20231112T143000
DTEND;TZID=America/Chicago:20231112T160000
DTSTAMP:20260421T001629
CREATED:20231103T190704Z
LAST-MODIFIED:20231103T190704Z
UID:1864-1699799400-1699804800@cometothecreek.com
SUMMARY:Cherokee Center for Nursing and Healing
DESCRIPTION:
URL:https://cometothecreek.com/event/cherokee-center-for-nursing-and-healing/
CATEGORIES:Community Outreach
END:VEVENT
BEGIN:VEVENT
DTSTART;TZID=America/Chicago:20231111T100000
DTEND;TZID=America/Chicago:20231111T123000
DTSTAMP:20260421T001629
CREATED:20231103T190610Z
LAST-MODIFIED:20231103T190610Z
UID:1862-1699696800-1699705800@cometothecreek.com
SUMMARY:Shoebox Packing Party
DESCRIPTION:
URL:https://cometothecreek.com/event/shoebox-packing-party/
CATEGORIES:OCC Shoebox Packing Party
END:VEVENT
BEGIN:VEVENT
DTSTART;TZID=America/Chicago:20231111T090000
DTEND;TZID=America/Chicago:20231111T110000
DTSTAMP:20260421T001629
CREATED:20231103T190134Z
LAST-MODIFIED:20231103T190134Z
UID:1854-1699693200-1699700400@cometothecreek.com
SUMMARY:Men's Fellowship
DESCRIPTION:
URL:https://cometothecreek.com/event/mens-fellowship-12/
CATEGORIES:Men's Group
END:VEVENT
BEGIN:VEVENT
DTSTART;TZID=America/Chicago:20231108T183000
DTEND;TZID=America/Chicago:20231108T193000
DTSTAMP:20260421T001629
CREATED:20231103T185558Z
LAST-MODIFIED:20231103T185558Z
UID:1846-1699468200-1699471800@cometothecreek.com
SUMMARY:Bible Study
DESCRIPTION:
URL:https://cometothecreek.com/event/bible-study-44/
CATEGORIES:Bible Study
END:VEVENT
BEGIN:VEVENT
DTSTART;TZID=America/Chicago:20231106T173000
DTEND;TZID=America/Chicago:20231106T183000
DTSTAMP:20260421T001629
CREATED:20231103T191930Z
LAST-MODIFIED:20231103T191930Z
UID:1886-1699291800-1699295400@cometothecreek.com
SUMMARY:Missions Committee Meeting
DESCRIPTION:
URL:https://cometothecreek.com/event/missions-committee-meeting/
CATEGORIES:Missions
END:VEVENT
BEGIN:VEVENT
DTSTART;TZID=America/Chicago:20231105T120000
DTEND;TZID=America/Chicago:20231105T120000
DTSTAMP:20260421T001629
CREATED:20231103T190314Z
LAST-MODIFIED:20231103T190314Z
UID:1858-1699185600-1699185600@cometothecreek.com
SUMMARY:Deacon's Meeting
DESCRIPTION:
URL:https://cometothecreek.com/event/deacons-meeting-13/
CATEGORIES:Deacons Meeting
END:VEVENT
BEGIN:VEVENT
DTSTART;TZID=America/Chicago:20231104T090000
DTEND;TZID=America/Chicago:20231104T130000
DTSTAMP:20260421T001629
CREATED:20231103T190222Z
LAST-MODIFIED:20231103T190222Z
UID:1856-1699088400-1699102800@cometothecreek.com
SUMMARY:Church Work Day
DESCRIPTION:
URL:https://cometothecreek.com/event/church-work-day-3/
CATEGORIES:Work Day
END:VEVENT
BEGIN:VEVENT
DTSTART;TZID=America/Chicago:20231101T183000
DTEND;TZID=America/Chicago:20231101T193000
DTSTAMP:20260421T001629
CREATED:20231103T185521Z
LAST-MODIFIED:20231103T185521Z
UID:1844-1698863400-1698867000@cometothecreek.com
SUMMARY:Bible Study
DESCRIPTION:
URL:https://cometothecreek.com/event/bible-study-43/
CATEGORIES:Bible Study
END:VEVENT
BEGIN:VEVENT
DTSTART;TZID=America/Chicago:20231025T183000
DTEND;TZID=America/Chicago:20231025T193000
DTSTAMP:20260421T001629
CREATED:20230901T180233Z
LAST-MODIFIED:20230901T180233Z
UID:1828-1698258600-1698262200@cometothecreek.com
SUMMARY:Bible Study
DESCRIPTION:
URL:https://cometothecreek.com/event/bible-study-42/
CATEGORIES:Bible Study
END:VEVENT
BEGIN:VEVENT
DTSTART;TZID=America/Chicago:20231021T090000
DTEND;TZID=America/Chicago:20231021T110000
DTSTAMP:20260421T001629
CREATED:20230901T180019Z
LAST-MODIFIED:20230901T180019Z
UID:1820-1697878800-1697886000@cometothecreek.com
SUMMARY:Women's Fellowship
DESCRIPTION:
URL:https://cometothecreek.com/event/womens-fellowship-15/
CATEGORIES:Women's Group
END:VEVENT
END:VCALENDAR