BEGIN:VCALENDAR
VERSION:2.0
PRODID:-//Shoal Creek Baptist Church - ECPv6.15.20//NONSGML v1.0//EN
CALSCALE:GREGORIAN
METHOD:PUBLISH
X-WR-CALNAME:Shoal Creek Baptist Church
X-ORIGINAL-URL:https://cometothecreek.com
X-WR-CALDESC:Events for Shoal Creek Baptist Church
REFRESH-INTERVAL;VALUE=DURATION:PT1H
X-Robots-Tag:noindex
X-PUBLISHED-TTL:PT1H
BEGIN:VTIMEZONE
TZID:America/Chicago
BEGIN:DAYLIGHT
TZOFFSETFROM:-0600
TZOFFSETTO:-0500
TZNAME:CDT
DTSTART:20230312T080000
END:DAYLIGHT
BEGIN:STANDARD
TZOFFSETFROM:-0500
TZOFFSETTO:-0600
TZNAME:CST
DTSTART:20231105T070000
END:STANDARD
BEGIN:DAYLIGHT
TZOFFSETFROM:-0600
TZOFFSETTO:-0500
TZNAME:CDT
DTSTART:20240310T080000
END:DAYLIGHT
BEGIN:STANDARD
TZOFFSETFROM:-0500
TZOFFSETTO:-0600
TZNAME:CST
DTSTART:20241103T070000
END:STANDARD
BEGIN:DAYLIGHT
TZOFFSETFROM:-0600
TZOFFSETTO:-0500
TZNAME:CDT
DTSTART:20250309T080000
END:DAYLIGHT
BEGIN:STANDARD
TZOFFSETFROM:-0500
TZOFFSETTO:-0600
TZNAME:CST
DTSTART:20251102T070000
END:STANDARD
END:VTIMEZONE
BEGIN:VEVENT
DTSTART;TZID=America/Chicago:20240518T090000
DTEND;TZID=America/Chicago:20240518T090000
DTSTAMP:20260421T005257
CREATED:20240221T152845Z
LAST-MODIFIED:20240221T152845Z
UID:1976-1716022800-1716022800@cometothecreek.com
SUMMARY:Church Work Day
DESCRIPTION:
URL:https://cometothecreek.com/event/church-work-day-4/
CATEGORIES:Work Day
END:VEVENT
BEGIN:VEVENT
DTSTART;TZID=America/Chicago:20240515T183000
DTEND;TZID=America/Chicago:20240515T183000
DTSTAMP:20260421T005257
CREATED:20240221T201631Z
LAST-MODIFIED:20240221T201631Z
UID:2004-1715797800-1715797800@cometothecreek.com
SUMMARY:Bible Study
DESCRIPTION:
URL:https://cometothecreek.com/event/bible-study-66/
CATEGORIES:Bible Study
END:VEVENT
BEGIN:VEVENT
DTSTART;TZID=America/Chicago:20240511T090000
DTEND;TZID=America/Chicago:20240511T110000
DTSTAMP:20260421T005257
CREATED:20240221T201958Z
LAST-MODIFIED:20240221T201958Z
UID:2014-1715418000-1715425200@cometothecreek.com
SUMMARY:Men's Fellowship
DESCRIPTION:
URL:https://cometothecreek.com/event/mens-fellowship-16/
CATEGORIES:Men's Group
END:VEVENT
BEGIN:VEVENT
DTSTART;TZID=America/Chicago:20240508T183000
DTEND;TZID=America/Chicago:20240508T183000
DTSTAMP:20260421T005257
CREATED:20240221T201601Z
LAST-MODIFIED:20240221T201601Z
UID:2002-1715193000-1715193000@cometothecreek.com
SUMMARY:Bible Study
DESCRIPTION:
URL:https://cometothecreek.com/event/bible-study-65/
CATEGORIES:Bible Study
END:VEVENT
BEGIN:VEVENT
DTSTART;TZID=America/Chicago:20240505T123000
DTEND;TZID=America/Chicago:20240505T123000
DTSTAMP:20260421T005257
CREATED:20240221T201819Z
LAST-MODIFIED:20240221T201819Z
UID:2010-1714912200-1714912200@cometothecreek.com
SUMMARY:Deacon's Meeting
DESCRIPTION:
URL:https://cometothecreek.com/event/deacons-meeting-18/
CATEGORIES:Deacons Meeting
END:VEVENT
BEGIN:VEVENT
DTSTART;TZID=America/Chicago:20240501T183000
DTEND;TZID=America/Chicago:20240501T183000
DTSTAMP:20260421T005257
CREATED:20240221T201529Z
LAST-MODIFIED:20240221T201529Z
UID:2000-1714588200-1714588200@cometothecreek.com
SUMMARY:Bible Study
DESCRIPTION:
URL:https://cometothecreek.com/event/bible-study-64/
CATEGORIES:Bible Study
END:VEVENT
BEGIN:VEVENT
DTSTART;TZID=America/Chicago:20240428T090000
DTEND;TZID=America/Chicago:20240428T110000
DTSTAMP:20260421T005257
CREATED:20240221T200716Z
LAST-MODIFIED:20240221T200716Z
UID:1994-1714294800-1714302000@cometothecreek.com
SUMMARY:Communion
DESCRIPTION:
URL:https://cometothecreek.com/event/communion-15/
CATEGORIES:Communion
END:VEVENT
BEGIN:VEVENT
DTSTART;TZID=America/Chicago:20240424T183000
DTEND;TZID=America/Chicago:20240424T183000
DTSTAMP:20260421T005257
CREATED:20240221T200324Z
LAST-MODIFIED:20240221T200324Z
UID:1986-1713983400-1713983400@cometothecreek.com
SUMMARY:Bible Study
DESCRIPTION:
URL:https://cometothecreek.com/event/bible-study-63/
CATEGORIES:Bible Study
END:VEVENT
BEGIN:VEVENT
DTSTART;TZID=America/Chicago:20240420T183000
DTEND;TZID=America/Chicago:20240420T203000
DTSTAMP:20260421T005257
CREATED:20240221T152004Z
LAST-MODIFIED:20240221T152522Z
UID:1967-1713637800-1713645000@cometothecreek.com
SUMMARY:Revival
DESCRIPTION:Shoal Creek Baptist Church will hold Revival services on \nApril 18 -20\, 2024 from 6:30 – 7:30pm. \nSpecial guest Pastor Rick Biesiadecki will be preaching from the Word. \nCome join us each night as we praise and worship the Lord! \nDinner to follow the service on Saturday\, April 20\, 2024 at 7:30pm.
URL:https://cometothecreek.com/event/revival-3/
CATEGORIES:Revival
END:VEVENT
BEGIN:VEVENT
DTSTART;TZID=America/Chicago:20240420T090000
DTEND;TZID=America/Chicago:20240420T110000
DTSTAMP:20260421T005257
CREATED:20240221T200559Z
LAST-MODIFIED:20240221T200559Z
UID:1992-1713603600-1713610800@cometothecreek.com
SUMMARY:Women's Fellowship
DESCRIPTION:
URL:https://cometothecreek.com/event/womens-fellowship-18/
CATEGORIES:Women's Group
END:VEVENT
BEGIN:VEVENT
DTSTART;TZID=America/Chicago:20240419T183000
DTEND;TZID=America/Chicago:20240419T193000
DTSTAMP:20260421T005257
CREATED:20240221T151917Z
LAST-MODIFIED:20240221T152553Z
UID:1965-1713551400-1713555000@cometothecreek.com
SUMMARY:Revival
DESCRIPTION:Shoal Creek Baptist Church will hold Revival services on \nApril 18 -20\, 2024 from 6:30 – 7:30pm. \nSpecial guest Pastor Rick Biesiadecki will be preaching from the Word. \nCome join us each night as we praise and worship the Lord! \nDinner to follow the service on Saturday\, April 20\, 2024 at 7:30pm.
URL:https://cometothecreek.com/event/revival-2/
CATEGORIES:Revival
END:VEVENT
BEGIN:VEVENT
DTSTART;TZID=America/Chicago:20240418T183000
DTEND;TZID=America/Chicago:20240418T193000
DTSTAMP:20260421T005257
CREATED:20240221T151732Z
LAST-MODIFIED:20240221T152622Z
UID:1959-1713465000-1713468600@cometothecreek.com
SUMMARY:Revival
DESCRIPTION:Shoal Creek Baptist Church will hold Revival services on \nApril 18 -20\, 2024 from 6:30 – 7:30pm. \nSpecial guest Pastor Rick Biesiadecki will be preaching from the Word. \nCome join us each night as we praise and worship the Lord! \nDinner to follow the service on Saturday\, April 20\, 2024 at 7:30pm.
URL:https://cometothecreek.com/event/revival/
CATEGORIES:Revival
END:VEVENT
BEGIN:VEVENT
DTSTART;TZID=America/Chicago:20240417T183000
DTEND;TZID=America/Chicago:20240417T183000
DTSTAMP:20260421T005257
CREATED:20240221T200247Z
LAST-MODIFIED:20240221T200247Z
UID:1984-1713378600-1713378600@cometothecreek.com
SUMMARY:Bible Study
DESCRIPTION:
URL:https://cometothecreek.com/event/bible-study-62/
CATEGORIES:Bible Study
END:VEVENT
BEGIN:VEVENT
DTSTART;TZID=America/Chicago:20240413T090000
DTEND;TZID=America/Chicago:20240413T110000
DTSTAMP:20260421T005257
CREATED:20240221T200523Z
LAST-MODIFIED:20240221T200523Z
UID:1990-1712998800-1713006000@cometothecreek.com
SUMMARY:Men's Fellowship
DESCRIPTION:
URL:https://cometothecreek.com/event/mens-fellowship-15/
CATEGORIES:Men's Group
END:VEVENT
BEGIN:VEVENT
DTSTART;TZID=America/Chicago:20240410T183000
DTEND;TZID=America/Chicago:20240410T183000
DTSTAMP:20260421T005257
CREATED:20240221T200211Z
LAST-MODIFIED:20240221T200211Z
UID:1982-1712773800-1712773800@cometothecreek.com
SUMMARY:Bible Study
DESCRIPTION:
URL:https://cometothecreek.com/event/bible-study-61/
CATEGORIES:Bible Study
END:VEVENT
BEGIN:VEVENT
DTSTART;TZID=America/Chicago:20240407T123000
DTEND;TZID=America/Chicago:20240407T123000
DTSTAMP:20260421T005257
CREATED:20240221T200359Z
LAST-MODIFIED:20240221T200359Z
UID:1988-1712493000-1712493000@cometothecreek.com
SUMMARY:Deacon's Meeting
DESCRIPTION:
URL:https://cometothecreek.com/event/deacons-meeting-17/
CATEGORIES:Deacons Meeting
END:VEVENT
BEGIN:VEVENT
DTSTART;TZID=America/Chicago:20240403T183000
DTEND;TZID=America/Chicago:20240403T183000
DTSTAMP:20260421T005257
CREATED:20240221T200126Z
LAST-MODIFIED:20240221T200126Z
UID:1980-1712169000-1712169000@cometothecreek.com
SUMMARY:Bible Study
DESCRIPTION:
URL:https://cometothecreek.com/event/bible-study-60/
CATEGORIES:Bible Study
END:VEVENT
BEGIN:VEVENT
DTSTART;TZID=America/Chicago:20240331T123000
DTEND;TZID=America/Chicago:20240331T123000
DTSTAMP:20260421T005257
CREATED:20240221T153046Z
LAST-MODIFIED:20240221T153046Z
UID:1978-1711888200-1711888200@cometothecreek.com
SUMMARY:Easter Egg Hunt
DESCRIPTION:Join us for a fun Easter Egg Hunt after the morning service on Sunday\, March 31\, 2024.
URL:https://cometothecreek.com/event/easter-egg-hunt-2/
END:VEVENT
BEGIN:VEVENT
DTSTART;TZID=America/Chicago:20240331T110000
DTEND;TZID=America/Chicago:20240331T120000
DTSTAMP:20260421T005257
CREATED:20240229T140247Z
LAST-MODIFIED:20240229T140247Z
UID:2023-1711882800-1711886400@cometothecreek.com
SUMMARY:Easter Sunday
DESCRIPTION:
URL:https://cometothecreek.com/event/easter-sunday/
END:VEVENT
BEGIN:VEVENT
DTSTART;TZID=America/Chicago:20240329T190000
DTEND;TZID=America/Chicago:20240329T200000
DTSTAMP:20260421T005257
CREATED:20240229T140203Z
LAST-MODIFIED:20240229T140203Z
UID:2021-1711738800-1711742400@cometothecreek.com
SUMMARY:Good Friday
DESCRIPTION:
URL:https://cometothecreek.com/event/good-friday-2/
END:VEVENT
BEGIN:VEVENT
DTSTART;TZID=America/Chicago:20240327T183000
DTEND;TZID=America/Chicago:20240327T183000
DTSTAMP:20260421T005257
CREATED:20240221T143838Z
LAST-MODIFIED:20240221T143838Z
UID:1945-1711564200-1711564200@cometothecreek.com
SUMMARY:Bible Study
DESCRIPTION:
URL:https://cometothecreek.com/event/bible-study-59/
CATEGORIES:Bible Study
END:VEVENT
BEGIN:VEVENT
DTSTART;TZID=America/Chicago:20240324T110000
DTEND;TZID=America/Chicago:20240324T120000
DTSTAMP:20260421T005257
CREATED:20240229T140127Z
LAST-MODIFIED:20240229T140127Z
UID:2019-1711278000-1711281600@cometothecreek.com
SUMMARY:Palm Sunday
DESCRIPTION:
URL:https://cometothecreek.com/event/palm-sunday/
END:VEVENT
BEGIN:VEVENT
DTSTART;TZID=America/Chicago:20240324T110000
DTEND;TZID=America/Chicago:20240324T110000
DTSTAMP:20260421T005257
CREATED:20240221T144419Z
LAST-MODIFIED:20240221T144419Z
UID:1953-1711278000-1711278000@cometothecreek.com
SUMMARY:Communion
DESCRIPTION:
URL:https://cometothecreek.com/event/communion-14/
CATEGORIES:Communion
END:VEVENT
BEGIN:VEVENT
DTSTART;TZID=America/Chicago:20240320T183000
DTEND;TZID=America/Chicago:20240320T183000
DTSTAMP:20260421T005257
CREATED:20240221T143808Z
LAST-MODIFIED:20240221T143808Z
UID:1943-1710959400-1710959400@cometothecreek.com
SUMMARY:Bible Study
DESCRIPTION:
URL:https://cometothecreek.com/event/bible-study-58/
CATEGORIES:Bible Study
END:VEVENT
BEGIN:VEVENT
DTSTART;TZID=America/Chicago:20240316T090000
DTEND;TZID=America/Chicago:20240316T110000
DTSTAMP:20260421T005257
CREATED:20240221T144058Z
LAST-MODIFIED:20240221T144058Z
UID:1951-1710579600-1710586800@cometothecreek.com
SUMMARY:Women's Fellowship
DESCRIPTION:
URL:https://cometothecreek.com/event/womens-fellowship-17/
CATEGORIES:Women's Group
END:VEVENT
BEGIN:VEVENT
DTSTART;TZID=America/Chicago:20240313T183000
DTEND;TZID=America/Chicago:20240313T183000
DTSTAMP:20260421T005257
CREATED:20240221T143740Z
LAST-MODIFIED:20240221T143740Z
UID:1941-1710354600-1710354600@cometothecreek.com
SUMMARY:Bible Study
DESCRIPTION:
URL:https://cometothecreek.com/event/bible-study-57/
CATEGORIES:Bible Study
END:VEVENT
BEGIN:VEVENT
DTSTART;TZID=America/Chicago:20240309T090000
DTEND;TZID=America/Chicago:20240309T110000
DTSTAMP:20260421T005257
CREATED:20240221T144020Z
LAST-MODIFIED:20240221T144020Z
UID:1949-1709974800-1709982000@cometothecreek.com
SUMMARY:Men's Fellowship
DESCRIPTION:
URL:https://cometothecreek.com/event/mens-fellowship-14/
CATEGORIES:Men's Group
END:VEVENT
BEGIN:VEVENT
DTSTART;TZID=America/Chicago:20240306T183000
DTEND;TZID=America/Chicago:20240306T183000
DTSTAMP:20260421T005257
CREATED:20240221T143712Z
LAST-MODIFIED:20240221T143712Z
UID:1939-1709749800-1709749800@cometothecreek.com
SUMMARY:Bible Study
DESCRIPTION:
URL:https://cometothecreek.com/event/bible-study-56/
CATEGORIES:Bible Study
END:VEVENT
BEGIN:VEVENT
DTSTART;TZID=America/Chicago:20240303T123000
DTEND;TZID=America/Chicago:20240303T123000
DTSTAMP:20260421T005257
CREATED:20240221T143932Z
LAST-MODIFIED:20240221T143932Z
UID:1947-1709469000-1709469000@cometothecreek.com
SUMMARY:Deacon's Meeting
DESCRIPTION:
URL:https://cometothecreek.com/event/deacons-meeting-16/
CATEGORIES:Deacons Meeting
END:VEVENT
BEGIN:VEVENT
DTSTART;TZID=America/Chicago:20240228T183000
DTEND;TZID=America/Chicago:20240228T183000
DTSTAMP:20260421T005257
CREATED:20240221T143640Z
LAST-MODIFIED:20240221T143640Z
UID:1937-1709145000-1709145000@cometothecreek.com
SUMMARY:Bible Study
DESCRIPTION:
URL:https://cometothecreek.com/event/bible-study-55/
CATEGORIES:Bible Study
END:VEVENT
END:VCALENDAR