BEGIN:VCALENDAR
VERSION:2.0
PRODID:-//Shoal Creek Baptist Church - ECPv6.15.20//NONSGML v1.0//EN
CALSCALE:GREGORIAN
METHOD:PUBLISH
X-WR-CALNAME:Shoal Creek Baptist Church
X-ORIGINAL-URL:https://cometothecreek.com
X-WR-CALDESC:Events for Shoal Creek Baptist Church
REFRESH-INTERVAL;VALUE=DURATION:PT1H
X-Robots-Tag:noindex
X-PUBLISHED-TTL:PT1H
BEGIN:VTIMEZONE
TZID:America/Chicago
BEGIN:DAYLIGHT
TZOFFSETFROM:-0600
TZOFFSETTO:-0500
TZNAME:CDT
DTSTART:20220313T080000
END:DAYLIGHT
BEGIN:STANDARD
TZOFFSETFROM:-0500
TZOFFSETTO:-0600
TZNAME:CST
DTSTART:20221106T070000
END:STANDARD
BEGIN:DAYLIGHT
TZOFFSETFROM:-0600
TZOFFSETTO:-0500
TZNAME:CDT
DTSTART:20230312T080000
END:DAYLIGHT
BEGIN:STANDARD
TZOFFSETFROM:-0500
TZOFFSETTO:-0600
TZNAME:CST
DTSTART:20231105T070000
END:STANDARD
BEGIN:DAYLIGHT
TZOFFSETFROM:-0600
TZOFFSETTO:-0500
TZNAME:CDT
DTSTART:20240310T080000
END:DAYLIGHT
BEGIN:STANDARD
TZOFFSETFROM:-0500
TZOFFSETTO:-0600
TZNAME:CST
DTSTART:20241103T070000
END:STANDARD
END:VTIMEZONE
BEGIN:VEVENT
DTSTART;TZID=America/Chicago:20230920T183000
DTEND;TZID=America/Chicago:20230920T193000
DTSTAMP:20260421T152305
CREATED:20230901T172905Z
LAST-MODIFIED:20230901T172905Z
UID:1802-1695234600-1695238200@cometothecreek.com
SUMMARY:Bible Study
DESCRIPTION:
URL:https://cometothecreek.com/event/bible-study-37/
CATEGORIES:Bible Study
END:VEVENT
BEGIN:VEVENT
DTSTART;TZID=America/Chicago:20230917T120000
DTEND;TZID=America/Chicago:20230917T140000
DTSTAMP:20260421T152305
CREATED:20230901T173031Z
LAST-MODIFIED:20230901T173031Z
UID:1806-1694952000-1694959200@cometothecreek.com
SUMMARY:Conference
DESCRIPTION:
URL:https://cometothecreek.com/event/conference-7/
CATEGORIES:Church Conference
END:VEVENT
BEGIN:VEVENT
DTSTART;TZID=America/Chicago:20230916T090000
DTEND;TZID=America/Chicago:20230916T110000
DTSTAMP:20260421T152305
CREATED:20230901T172640Z
LAST-MODIFIED:20230901T172640Z
UID:1796-1694854800-1694862000@cometothecreek.com
SUMMARY:Women's Fellowship
DESCRIPTION:
URL:https://cometothecreek.com/event/womens-fellowship-14/
CATEGORIES:Women's Group
END:VEVENT
BEGIN:VEVENT
DTSTART;TZID=America/Chicago:20230913T183000
DTEND;TZID=America/Chicago:20230913T193000
DTSTAMP:20260421T152305
CREATED:20230901T172831Z
LAST-MODIFIED:20230901T172831Z
UID:1800-1694629800-1694633400@cometothecreek.com
SUMMARY:Bible Study
DESCRIPTION:
URL:https://cometothecreek.com/event/bible-study-36/
CATEGORIES:Bible Study
END:VEVENT
BEGIN:VEVENT
DTSTART;TZID=America/Chicago:20230909T090000
DTEND;TZID=America/Chicago:20230909T110000
DTSTAMP:20260421T152305
CREATED:20230901T172553Z
LAST-MODIFIED:20230901T172553Z
UID:1794-1694250000-1694257200@cometothecreek.com
SUMMARY:Men's Fellowship
DESCRIPTION:
URL:https://cometothecreek.com/event/mens-fellowship-10/
CATEGORIES:Men's Group
END:VEVENT
BEGIN:VEVENT
DTSTART;TZID=America/Chicago:20230908T140000
DTEND;TZID=America/Chicago:20230908T160000
DTSTAMP:20260421T152305
CREATED:20230901T173325Z
LAST-MODIFIED:20230901T173325Z
UID:1812-1694181600-1694188800@cometothecreek.com
SUMMARY:Quilting Bee at Church
DESCRIPTION:
URL:https://cometothecreek.com/event/quilting-bee-at-church/
CATEGORIES:Senior Social
END:VEVENT
BEGIN:VEVENT
DTSTART;TZID=America/Chicago:20230906T183000
DTEND;TZID=America/Chicago:20230906T193000
DTSTAMP:20260421T152305
CREATED:20230901T172733Z
LAST-MODIFIED:20230901T172733Z
UID:1798-1694025000-1694028600@cometothecreek.com
SUMMARY:Bible Study
DESCRIPTION:
URL:https://cometothecreek.com/event/bible-study-35/
CATEGORIES:Bible Study
END:VEVENT
BEGIN:VEVENT
DTSTART;TZID=America/Chicago:20230903T120000
DTEND;TZID=America/Chicago:20230903T120000
DTSTAMP:20260421T152305
CREATED:20230901T172456Z
LAST-MODIFIED:20230901T172456Z
UID:1792-1693742400-1693742400@cometothecreek.com
SUMMARY:Deacon's Meeting
DESCRIPTION:
URL:https://cometothecreek.com/event/deacons-meeting-11/
CATEGORIES:Deacons Meeting
END:VEVENT
BEGIN:VEVENT
DTSTART;TZID=America/Chicago:20230902T100000
DTEND;TZID=America/Chicago:20230902T130000
DTSTAMP:20260421T152305
CREATED:20230728T162016Z
LAST-MODIFIED:20230728T162113Z
UID:1771-1693648800-1693659600@cometothecreek.com
SUMMARY:BBQ Fundraiser
DESCRIPTION:Pick up BBQ pre-orders.
URL:https://cometothecreek.com/event/bbq-fundraiser/
CATEGORIES:BBQ Fundraiser
END:VEVENT
BEGIN:VEVENT
DTSTART;TZID=America/Chicago:20230830T183000
DTEND;TZID=America/Chicago:20230830T193000
DTSTAMP:20260421T152305
CREATED:20230728T160543Z
LAST-MODIFIED:20230728T160543Z
UID:1763-1693420200-1693423800@cometothecreek.com
SUMMARY:Bible Study
DESCRIPTION:
URL:https://cometothecreek.com/event/bible-study-34/
CATEGORIES:Bible Study
END:VEVENT
BEGIN:VEVENT
DTSTART;TZID=America/Chicago:20230827T143000
DTEND;TZID=America/Chicago:20230827T143000
DTSTAMP:20260421T152305
CREATED:20230728T155753Z
LAST-MODIFIED:20230728T155753Z
UID:1750-1693146600-1693146600@cometothecreek.com
SUMMARY:Cherokee Center for Nursing and Healing Visitation
DESCRIPTION:
URL:https://cometothecreek.com/event/cherokee-center-for-nursing-and-healing-visitation/
CATEGORIES:Community Outreach
END:VEVENT
BEGIN:VEVENT
DTSTART;TZID=America/Chicago:20230827T110000
DTEND;TZID=America/Chicago:20230827T110000
DTSTAMP:20260421T152305
CREATED:20230728T155702Z
LAST-MODIFIED:20230728T155828Z
UID:1748-1693134000-1693134000@cometothecreek.com
SUMMARY:Communion
DESCRIPTION:
URL:https://cometothecreek.com/event/communion-10/
CATEGORIES:Communion
END:VEVENT
BEGIN:VEVENT
DTSTART;TZID=America/Chicago:20230824T120000
DTEND;TZID=America/Chicago:20230824T120000
DTSTAMP:20260421T152305
CREATED:20230728T160646Z
LAST-MODIFIED:20230728T160646Z
UID:1765-1692878400-1692878400@cometothecreek.com
SUMMARY:Senior Social
DESCRIPTION:
URL:https://cometothecreek.com/event/senior-social-7/
CATEGORIES:Senior Social
END:VEVENT
BEGIN:VEVENT
DTSTART;TZID=America/Chicago:20230823T183000
DTEND;TZID=America/Chicago:20230823T193000
DTSTAMP:20260421T152305
CREATED:20230728T160238Z
LAST-MODIFIED:20230728T160238Z
UID:1759-1692815400-1692819000@cometothecreek.com
SUMMARY:Bible Study
DESCRIPTION:
URL:https://cometothecreek.com/event/bible-study-33/
CATEGORIES:Bible Study
END:VEVENT
BEGIN:VEVENT
DTSTART;TZID=America/Chicago:20230820T120000
DTEND;TZID=America/Chicago:20230820T120000
DTSTAMP:20260421T152305
CREATED:20230728T155106Z
LAST-MODIFIED:20230728T155106Z
UID:1744-1692532800-1692532800@cometothecreek.com
SUMMARY:Missionary Luncheon
DESCRIPTION:
URL:https://cometothecreek.com/event/missionary-luncheon/
CATEGORIES:Luncheon
END:VEVENT
BEGIN:VEVENT
DTSTART;TZID=America/Chicago:20230820T110000
DTEND;TZID=America/Chicago:20230820T110000
DTSTAMP:20260421T152305
CREATED:20230728T155628Z
LAST-MODIFIED:20230728T155628Z
UID:1746-1692529200-1692529200@cometothecreek.com
SUMMARY:BBQ Fundraiser Forms Due
DESCRIPTION:
URL:https://cometothecreek.com/event/bbq-fundraiser-forms-due/
CATEGORIES:BBQ Fundraiser
END:VEVENT
BEGIN:VEVENT
DTSTART;TZID=America/Chicago:20230819T090000
DTEND;TZID=America/Chicago:20230819T110000
DTSTAMP:20260421T152305
CREATED:20230728T160729Z
LAST-MODIFIED:20230728T160729Z
UID:1767-1692435600-1692442800@cometothecreek.com
SUMMARY:Women's Fellowship
DESCRIPTION:
URL:https://cometothecreek.com/event/womens-fellowship-13/
CATEGORIES:Women's Group
END:VEVENT
BEGIN:VEVENT
DTSTART;TZID=America/Chicago:20230816T183000
DTEND;TZID=America/Chicago:20230816T193000
DTSTAMP:20260421T152305
CREATED:20230728T160202Z
LAST-MODIFIED:20230728T160202Z
UID:1757-1692210600-1692214200@cometothecreek.com
SUMMARY:Bible Study
DESCRIPTION:
URL:https://cometothecreek.com/event/bible-study-32/
CATEGORIES:Bible Study
END:VEVENT
BEGIN:VEVENT
DTSTART;TZID=America/Chicago:20230811T090000
DTEND;TZID=America/Chicago:20230811T120000
DTSTAMP:20260421T152305
CREATED:20230728T161234Z
LAST-MODIFIED:20230728T161234Z
UID:1769-1691744400-1691755200@cometothecreek.com
SUMMARY:Reinhardt Outreach
DESCRIPTION:Freshmen Move-in day.
URL:https://cometothecreek.com/event/reinhardt-outreach/
CATEGORIES:Community Outreach
END:VEVENT
BEGIN:VEVENT
DTSTART;TZID=America/Chicago:20230809T183000
DTEND;TZID=America/Chicago:20230809T193000
DTSTAMP:20260421T152305
CREATED:20230728T160124Z
LAST-MODIFIED:20230728T160124Z
UID:1755-1691605800-1691609400@cometothecreek.com
SUMMARY:Bible Study
DESCRIPTION:
URL:https://cometothecreek.com/event/bible-study-31/
CATEGORIES:Bible Study
END:VEVENT
BEGIN:VEVENT
DTSTART;TZID=America/Chicago:20230806T120000
DTEND;TZID=America/Chicago:20230806T120000
DTSTAMP:20260421T152305
CREATED:20230728T154911Z
LAST-MODIFIED:20230728T154911Z
UID:1742-1691323200-1691323200@cometothecreek.com
SUMMARY:Deacon's meeting
DESCRIPTION:
URL:https://cometothecreek.com/event/deacons-meeting-10/
CATEGORIES:Deacons Meeting
END:VEVENT
BEGIN:VEVENT
DTSTART;TZID=America/Chicago:20230802T183000
DTEND;TZID=America/Chicago:20230802T193000
DTSTAMP:20260421T152305
CREATED:20230728T160002Z
LAST-MODIFIED:20230728T160033Z
UID:1752-1691001000-1691004600@cometothecreek.com
SUMMARY:Bible Study
DESCRIPTION:
URL:https://cometothecreek.com/event/bible-study-30/
CATEGORIES:Bible Study
END:VEVENT
BEGIN:VEVENT
DTSTART;TZID=America/Chicago:20230723T143000
DTEND;TZID=America/Chicago:20230723T160000
DTSTAMP:20260421T152305
CREATED:20230624T132019Z
LAST-MODIFIED:20230624T132019Z
UID:1719-1690122600-1690128000@cometothecreek.com
SUMMARY:Visitation to Cherokee Center for Nursing and Healing
DESCRIPTION:
URL:https://cometothecreek.com/event/visitation-to-cherokee-center-for-nursing-and-healing/
CATEGORIES:Community Outreach
END:VEVENT
BEGIN:VEVENT
DTSTART;TZID=America/Chicago:20230723T110000
DTEND;TZID=America/Chicago:20230723T110000
DTSTAMP:20260421T152305
CREATED:20230624T131224Z
LAST-MODIFIED:20230728T143841Z
UID:1711-1690110000-1690110000@cometothecreek.com
SUMMARY:Communion
DESCRIPTION:
URL:https://cometothecreek.com/event/communion-9/
CATEGORIES:Communion
END:VEVENT
BEGIN:VEVENT
DTSTART;TZID=America/Chicago:20230720T120000
DTEND;TZID=America/Chicago:20230720T150000
DTSTAMP:20260421T152305
CREATED:20230624T131603Z
LAST-MODIFIED:20230624T131603Z
UID:1717-1689854400-1689865200@cometothecreek.com
SUMMARY:Senior Social
DESCRIPTION:
URL:https://cometothecreek.com/event/senior-social-6/
CATEGORIES:Senior Social
END:VEVENT
BEGIN:VEVENT
DTSTART;TZID=America/Chicago:20230719T183000
DTEND;TZID=America/Chicago:20230719T183000
DTSTAMP:20260421T152305
CREATED:20230624T131119Z
LAST-MODIFIED:20230624T131119Z
UID:1707-1689791400-1689791400@cometothecreek.com
SUMMARY:Bible Study
DESCRIPTION:
URL:https://cometothecreek.com/event/bible-study-28/
CATEGORIES:Bible Study
END:VEVENT
BEGIN:VEVENT
DTSTART;TZID=America/Chicago:20230715T090000
DTEND;TZID=America/Chicago:20230715T110000
DTSTAMP:20260421T152305
CREATED:20230624T131430Z
LAST-MODIFIED:20230624T131430Z
UID:1715-1689411600-1689418800@cometothecreek.com
SUMMARY:Women's Fellowship
DESCRIPTION:
URL:https://cometothecreek.com/event/womens-fellowship-12/
CATEGORIES:Women's Group
END:VEVENT
BEGIN:VEVENT
DTSTART;TZID=America/Chicago:20230712T183000
DTEND;TZID=America/Chicago:20230712T183000
DTSTAMP:20260421T152305
CREATED:20230624T131048Z
LAST-MODIFIED:20230624T131048Z
UID:1705-1689186600-1689186600@cometothecreek.com
SUMMARY:Bible Study
DESCRIPTION:
URL:https://cometothecreek.com/event/bible-study-27/
CATEGORIES:Bible Study
END:VEVENT
BEGIN:VEVENT
DTSTART;TZID=America/Chicago:20230709T120000
DTEND;TZID=America/Chicago:20230709T120000
DTSTAMP:20260421T152305
CREATED:20230624T130932Z
LAST-MODIFIED:20230624T130932Z
UID:1701-1688904000-1688904000@cometothecreek.com
SUMMARY:Baptism
DESCRIPTION:
URL:https://cometothecreek.com/event/baptism/
END:VEVENT
BEGIN:VEVENT
DTSTART;TZID=America/Chicago:20230708T090000
DTEND;TZID=America/Chicago:20230708T110000
DTSTAMP:20260421T152305
CREATED:20230624T131347Z
LAST-MODIFIED:20230624T131347Z
UID:1713-1688806800-1688814000@cometothecreek.com
SUMMARY:Men's Fellowship
DESCRIPTION:
URL:https://cometothecreek.com/event/mens-fellowship-9/
CATEGORIES:Men's Group
END:VEVENT
END:VCALENDAR