BEGIN:VCALENDAR
VERSION:2.0
PRODID:-//Shoal Creek Baptist Church - ECPv6.15.20//NONSGML v1.0//EN
CALSCALE:GREGORIAN
METHOD:PUBLISH
X-WR-CALNAME:Shoal Creek Baptist Church
X-ORIGINAL-URL:https://cometothecreek.com
X-WR-CALDESC:Events for Shoal Creek Baptist Church
REFRESH-INTERVAL;VALUE=DURATION:PT1H
X-Robots-Tag:noindex
X-PUBLISHED-TTL:PT1H
BEGIN:VTIMEZONE
TZID:America/Chicago
BEGIN:DAYLIGHT
TZOFFSETFROM:-0600
TZOFFSETTO:-0500
TZNAME:CDT
DTSTART:20220313T080000
END:DAYLIGHT
BEGIN:STANDARD
TZOFFSETFROM:-0500
TZOFFSETTO:-0600
TZNAME:CST
DTSTART:20221106T070000
END:STANDARD
BEGIN:DAYLIGHT
TZOFFSETFROM:-0600
TZOFFSETTO:-0500
TZNAME:CDT
DTSTART:20230312T080000
END:DAYLIGHT
BEGIN:STANDARD
TZOFFSETFROM:-0500
TZOFFSETTO:-0600
TZNAME:CST
DTSTART:20231105T070000
END:STANDARD
BEGIN:DAYLIGHT
TZOFFSETFROM:-0600
TZOFFSETTO:-0500
TZNAME:CDT
DTSTART:20240310T080000
END:DAYLIGHT
BEGIN:STANDARD
TZOFFSETFROM:-0500
TZOFFSETTO:-0600
TZNAME:CST
DTSTART:20241103T070000
END:STANDARD
END:VTIMEZONE
BEGIN:VEVENT
DTSTART;TZID=America/Chicago:20230419T183000
DTEND;TZID=America/Chicago:20230419T193000
DTSTAMP:20260421T103529
CREATED:20230331T114607Z
LAST-MODIFIED:20230331T114607Z
UID:1554-1681929000-1681932600@cometothecreek.com
SUMMARY:Bible Study
DESCRIPTION:
URL:https://cometothecreek.com/event/bible-study-16/
CATEGORIES:Bible Study
END:VEVENT
BEGIN:VEVENT
DTSTART;TZID=America/Chicago:20230416T130000
DTEND;TZID=America/Chicago:20230416T143000
DTSTAMP:20260421T103529
CREATED:20230331T114726Z
LAST-MODIFIED:20230331T114726Z
UID:1558-1681650000-1681655400@cometothecreek.com
SUMMARY:Conference
DESCRIPTION:
URL:https://cometothecreek.com/event/conference-4/
CATEGORIES:Church Conference
END:VEVENT
BEGIN:VEVENT
DTSTART;TZID=America/Chicago:20230415T090000
DTEND;TZID=America/Chicago:20230415T110000
DTSTAMP:20260421T103529
CREATED:20230331T115229Z
LAST-MODIFIED:20230331T115229Z
UID:1568-1681549200-1681556400@cometothecreek.com
SUMMARY:Women's Fellowship
DESCRIPTION:
URL:https://cometothecreek.com/event/womens-fellowship-9/
CATEGORIES:Women's Group
END:VEVENT
BEGIN:VEVENT
DTSTART;TZID=America/Chicago:20230412T183000
DTEND;TZID=America/Chicago:20230412T193000
DTSTAMP:20260421T103529
CREATED:20230331T114511Z
LAST-MODIFIED:20230331T114511Z
UID:1552-1681324200-1681327800@cometothecreek.com
SUMMARY:Bible Study
DESCRIPTION:
URL:https://cometothecreek.com/event/bible-study-15/
CATEGORIES:Bible Study
END:VEVENT
BEGIN:VEVENT
DTSTART;TZID=America/Chicago:20230409T123000
DTEND;TZID=America/Chicago:20230409T130000
DTSTAMP:20260421T103529
CREATED:20230320T160510Z
LAST-MODIFIED:20230320T160510Z
UID:1517-1681043400-1681045200@cometothecreek.com
SUMMARY:Easter Egg Hunt
DESCRIPTION:
URL:https://cometothecreek.com/event/easter-egg-hunt/
END:VEVENT
BEGIN:VEVENT
DTSTART;TZID=America/Chicago:20230408T090000
DTEND;TZID=America/Chicago:20230408T110000
DTSTAMP:20260421T103529
CREATED:20230331T115139Z
LAST-MODIFIED:20230331T115139Z
UID:1566-1680944400-1680951600@cometothecreek.com
SUMMARY:Men's Fellowship
DESCRIPTION:
URL:https://cometothecreek.com/event/mens-fellowship-6/
CATEGORIES:Men's Group
END:VEVENT
BEGIN:VEVENT
DTSTART;TZID=America/Chicago:20230407T190000
DTEND;TZID=America/Chicago:20230407T200000
DTSTAMP:20260421T103529
CREATED:20230403T190901Z
LAST-MODIFIED:20230403T190901Z
UID:1570-1680894000-1680897600@cometothecreek.com
SUMMARY:Good Friday
DESCRIPTION:Good Friday services at 7pm
URL:https://cometothecreek.com/event/good-friday/
CATEGORIES:Good Friday
END:VEVENT
BEGIN:VEVENT
DTSTART;TZID=America/Chicago:20230405T183000
DTEND;TZID=America/Chicago:20230405T193000
DTSTAMP:20260421T103529
CREATED:20230331T114416Z
LAST-MODIFIED:20230331T114416Z
UID:1550-1680719400-1680723000@cometothecreek.com
SUMMARY:Bible Study
DESCRIPTION:
URL:https://cometothecreek.com/event/bible-study-14/
CATEGORIES:Bible Study
END:VEVENT
BEGIN:VEVENT
DTSTART;TZID=America/Chicago:20230402T120000
DTEND;TZID=America/Chicago:20230402T133000
DTSTAMP:20260421T103529
CREATED:20230320T160925Z
LAST-MODIFIED:20230320T160925Z
UID:1519-1680436800-1680442200@cometothecreek.com
SUMMARY:Deacons Meeting
DESCRIPTION:
URL:https://cometothecreek.com/event/deacons-meeting-6/
CATEGORIES:Deacons Meeting
END:VEVENT
BEGIN:VEVENT
DTSTART;TZID=America/Chicago:20230329T183000
DTEND;TZID=America/Chicago:20230329T183000
DTSTAMP:20260421T103529
CREATED:20230221T140245Z
LAST-MODIFIED:20230221T140245Z
UID:1415-1680114600-1680114600@cometothecreek.com
SUMMARY:Bible Study
DESCRIPTION:
URL:https://cometothecreek.com/event/bible-study-13/
CATEGORIES:Bible Study
END:VEVENT
BEGIN:VEVENT
DTSTART;TZID=America/Chicago:20230326T110000
DTEND;TZID=America/Chicago:20230326T110000
DTSTAMP:20260421T103529
CREATED:20230221T135558Z
LAST-MODIFIED:20230221T143508Z
UID:1405-1679828400-1679828400@cometothecreek.com
SUMMARY:Communion
DESCRIPTION:
URL:https://cometothecreek.com/event/communion-5/
CATEGORIES:Communion
END:VEVENT
BEGIN:VEVENT
DTSTART;TZID=America/Chicago:20230322T183000
DTEND;TZID=America/Chicago:20230322T183000
DTSTAMP:20260421T103529
CREATED:20230221T140031Z
LAST-MODIFIED:20230221T140031Z
UID:1413-1679509800-1679509800@cometothecreek.com
SUMMARY:Bible Study
DESCRIPTION:
URL:https://cometothecreek.com/event/bible-study-12/
CATEGORIES:Bible Study
END:VEVENT
BEGIN:VEVENT
DTSTART;TZID=America/Chicago:20230319T130000
DTEND;TZID=America/Chicago:20230319T130000
DTSTAMP:20260421T103529
CREATED:20230221T135446Z
LAST-MODIFIED:20230221T135446Z
UID:1403-1679230800-1679230800@cometothecreek.com
SUMMARY:Conference
DESCRIPTION:
URL:https://cometothecreek.com/event/conference-3/
CATEGORIES:Church Conference
END:VEVENT
BEGIN:VEVENT
DTSTART;TZID=America/Chicago:20230318T110000
DTEND;TZID=America/Chicago:20230318T130000
DTSTAMP:20260421T103529
CREATED:20230221T140643Z
LAST-MODIFIED:20230221T140643Z
UID:1419-1679137200-1679144400@cometothecreek.com
SUMMARY:Women's Fellowship
DESCRIPTION:
URL:https://cometothecreek.com/event/womens-fellowship-8/
CATEGORIES:Women's Group
END:VEVENT
BEGIN:VEVENT
DTSTART;TZID=America/Chicago:20230315T183000
DTEND;TZID=America/Chicago:20230315T183000
DTSTAMP:20260421T103529
CREATED:20230221T135952Z
LAST-MODIFIED:20230221T135952Z
UID:1411-1678905000-1678905000@cometothecreek.com
SUMMARY:Bible Study
DESCRIPTION:
URL:https://cometothecreek.com/event/bible-study-11/
CATEGORIES:Bible Study
END:VEVENT
BEGIN:VEVENT
DTSTART;TZID=America/Chicago:20230311T090000
DTEND;TZID=America/Chicago:20230311T110000
DTSTAMP:20260421T103529
CREATED:20230221T140508Z
LAST-MODIFIED:20230221T140508Z
UID:1417-1678525200-1678532400@cometothecreek.com
SUMMARY:Men's Fellowship
DESCRIPTION:
URL:https://cometothecreek.com/event/mens-fellowship-5/
CATEGORIES:Men's Group
END:VEVENT
BEGIN:VEVENT
DTSTART;TZID=America/Chicago:20230308T183000
DTEND;TZID=America/Chicago:20230308T183000
DTSTAMP:20260421T103529
CREATED:20230221T135910Z
LAST-MODIFIED:20230221T135910Z
UID:1409-1678300200-1678300200@cometothecreek.com
SUMMARY:Bible Study
DESCRIPTION:
URL:https://cometothecreek.com/event/bible-study-10/
CATEGORIES:Bible Study
END:VEVENT
BEGIN:VEVENT
DTSTART;TZID=America/Chicago:20230305T123000
DTEND;TZID=America/Chicago:20230305T123000
DTSTAMP:20260421T103529
CREATED:20230221T135244Z
LAST-MODIFIED:20230221T135244Z
UID:1401-1678019400-1678019400@cometothecreek.com
SUMMARY:Deacons Meeting
DESCRIPTION:
URL:https://cometothecreek.com/event/deacons-meeting-5/
CATEGORIES:Deacons Meeting
END:VEVENT
BEGIN:VEVENT
DTSTART;TZID=America/Chicago:20230301T183000
DTEND;TZID=America/Chicago:20230301T183000
DTSTAMP:20260421T103529
CREATED:20230221T135754Z
LAST-MODIFIED:20230221T135754Z
UID:1407-1677695400-1677695400@cometothecreek.com
SUMMARY:Bible Study
DESCRIPTION:
URL:https://cometothecreek.com/event/bible-study-9/
CATEGORIES:Bible Study
END:VEVENT
BEGIN:VEVENT
DTSTART;TZID=America/Chicago:20230226T143000
DTEND;TZID=America/Chicago:20230226T163000
DTSTAMP:20260421T103529
CREATED:20230127T150714Z
LAST-MODIFIED:20230127T150714Z
UID:1376-1677421800-1677429000@cometothecreek.com
SUMMARY:Cherokee Center for Nursing & Healing
DESCRIPTION:Please join us for a time of fellowship and fun with the residents of Cherokee Center for Nursing & Healing (formerly the Brian Center) on Sunday Feb 26\, 2023. \nItems needed for donation are soft snacks\, drinks\, ice\, plates\, cups\, napkins\, and small prizes (for bingo).  Contact Kim Eubanks for more information 678-447-6786.
URL:https://cometothecreek.com/event/cherokee-center-for-nursing-healing/
CATEGORIES:Community Outreach
END:VEVENT
BEGIN:VEVENT
DTSTART;TZID=America/Chicago:20230226T110000
DTEND;TZID=America/Chicago:20230226T110000
DTSTAMP:20260421T103529
CREATED:20230127T145801Z
LAST-MODIFIED:20230127T145801Z
UID:1371-1677409200-1677409200@cometothecreek.com
SUMMARY:Communion
DESCRIPTION:
URL:https://cometothecreek.com/event/communion-4/
END:VEVENT
BEGIN:VEVENT
DTSTART;TZID=America/Chicago:20230222T183000
DTEND;TZID=America/Chicago:20230222T183000
DTSTAMP:20260421T103529
CREATED:20230127T145903Z
LAST-MODIFIED:20230127T145903Z
UID:1373-1677090600-1677090600@cometothecreek.com
SUMMARY:Bible Study
DESCRIPTION:
URL:https://cometothecreek.com/event/bible-study-8/
CATEGORIES:Bible Study
END:VEVENT
BEGIN:VEVENT
DTSTART;TZID=America/Chicago:20230219T120000
DTEND;TZID=America/Chicago:20230219T140000
DTSTAMP:20260421T103529
CREATED:20230127T145313Z
LAST-MODIFIED:20230127T145313Z
UID:1362-1676808000-1676815200@cometothecreek.com
SUMMARY:Conference
DESCRIPTION:
URL:https://cometothecreek.com/event/conference-2/
CATEGORIES:Church Conference
END:VEVENT
BEGIN:VEVENT
DTSTART;TZID=America/Chicago:20230218T110000
DTEND;TZID=America/Chicago:20230218T130000
DTSTAMP:20260421T103529
CREATED:20230127T145607Z
LAST-MODIFIED:20230127T145607Z
UID:1366-1676718000-1676725200@cometothecreek.com
SUMMARY:Women's Fellowship
DESCRIPTION:
URL:https://cometothecreek.com/event/womens-fellowship-7/
CATEGORIES:Women's Group
END:VEVENT
BEGIN:VEVENT
DTSTART;TZID=America/Chicago:20230216T120000
DTEND;TZID=America/Chicago:20230216T150000
DTSTAMP:20260421T103529
CREATED:20230206T222024Z
LAST-MODIFIED:20230206T222024Z
UID:1396-1676548800-1676559600@cometothecreek.com
SUMMARY:Senior Social
DESCRIPTION:Join us for a time of fellowship and fun on Thursday February 16\, 2023 at 12:00pm at the home of Jackie Moore. \nBring a covered dish or snack. \nFor more information\, contact Kim Eubanks.
URL:https://cometothecreek.com/event/senior-social-2/
CATEGORIES:Senior Social
END:VEVENT
BEGIN:VEVENT
DTSTART;TZID=America/Chicago:20230215T183000
DTEND;TZID=America/Chicago:20230215T183000
DTSTAMP:20260421T103529
CREATED:20230127T145432Z
LAST-MODIFIED:20230127T145432Z
UID:1364-1676485800-1676485800@cometothecreek.com
SUMMARY:Bible Study
DESCRIPTION:
URL:https://cometothecreek.com/event/bible-study-7/
CATEGORIES:Bible Study
END:VEVENT
BEGIN:VEVENT
DTSTART;TZID=America/Chicago:20230211T090000
DTEND;TZID=America/Chicago:20230211T110000
DTSTAMP:20260421T103529
CREATED:20230127T144913Z
LAST-MODIFIED:20230127T145634Z
UID:1358-1676106000-1676113200@cometothecreek.com
SUMMARY:Men's Fellowship
DESCRIPTION:
URL:https://cometothecreek.com/event/mens-fellowship-4/
CATEGORIES:Men's Group
END:VEVENT
BEGIN:VEVENT
DTSTART;TZID=America/Chicago:20230208T183000
DTEND;TZID=America/Chicago:20230208T183000
DTSTAMP:20260421T103529
CREATED:20230127T144331Z
LAST-MODIFIED:20230127T144331Z
UID:1352-1675881000-1675881000@cometothecreek.com
SUMMARY:Bible Study
DESCRIPTION:
URL:https://cometothecreek.com/event/bible-study-6/
CATEGORIES:Bible Study
END:VEVENT
BEGIN:VEVENT
DTSTART;TZID=America/Chicago:20230205T120000
DTEND;TZID=America/Chicago:20230205T130000
DTSTAMP:20260421T103529
CREATED:20230127T144750Z
LAST-MODIFIED:20230127T145141Z
UID:1356-1675598400-1675602000@cometothecreek.com
SUMMARY:Deacons Meeting
DESCRIPTION:
URL:https://cometothecreek.com/event/deacons-meeting-4/
CATEGORIES:Deacons Meeting
END:VEVENT
BEGIN:VEVENT
DTSTART;TZID=America/Chicago:20230204T090000
DTEND;TZID=America/Chicago:20230204T090000
DTSTAMP:20260421T103529
CREATED:20230127T144024Z
LAST-MODIFIED:20230127T144024Z
UID:1347-1675501200-1675501200@cometothecreek.com
SUMMARY:Church Work Day
DESCRIPTION:
URL:https://cometothecreek.com/event/church-work-day-2/
CATEGORIES:Work Day
END:VEVENT
END:VCALENDAR