BEGIN:VCALENDAR
VERSION:2.0
PRODID:-//Shoal Creek Baptist Church - ECPv6.15.20//NONSGML v1.0//EN
CALSCALE:GREGORIAN
METHOD:PUBLISH
X-WR-CALNAME:Shoal Creek Baptist Church
X-ORIGINAL-URL:https://cometothecreek.com
X-WR-CALDESC:Events for Shoal Creek Baptist Church
REFRESH-INTERVAL;VALUE=DURATION:PT1H
X-Robots-Tag:noindex
X-PUBLISHED-TTL:PT1H
BEGIN:VTIMEZONE
TZID:America/Chicago
BEGIN:DAYLIGHT
TZOFFSETFROM:-0600
TZOFFSETTO:-0500
TZNAME:CDT
DTSTART:20240310T080000
END:DAYLIGHT
BEGIN:STANDARD
TZOFFSETFROM:-0500
TZOFFSETTO:-0600
TZNAME:CST
DTSTART:20241103T070000
END:STANDARD
BEGIN:DAYLIGHT
TZOFFSETFROM:-0600
TZOFFSETTO:-0500
TZNAME:CDT
DTSTART:20250309T080000
END:DAYLIGHT
BEGIN:STANDARD
TZOFFSETFROM:-0500
TZOFFSETTO:-0600
TZNAME:CST
DTSTART:20251102T070000
END:STANDARD
BEGIN:DAYLIGHT
TZOFFSETFROM:-0600
TZOFFSETTO:-0500
TZNAME:CDT
DTSTART:20260308T080000
END:DAYLIGHT
BEGIN:STANDARD
TZOFFSETFROM:-0500
TZOFFSETTO:-0600
TZNAME:CST
DTSTART:20261101T070000
END:STANDARD
BEGIN:DAYLIGHT
TZOFFSETFROM:-0600
TZOFFSETTO:-0500
TZNAME:CDT
DTSTART:20270314T080000
END:DAYLIGHT
BEGIN:STANDARD
TZOFFSETFROM:-0500
TZOFFSETTO:-0600
TZNAME:CST
DTSTART:20271107T070000
END:STANDARD
END:VTIMEZONE
BEGIN:VEVENT
DTSTART;TZID=America/Chicago:20250803T133000
DTEND;TZID=America/Chicago:20250803T133000
DTSTAMP:20260420T102300
CREATED:20250705T140304Z
LAST-MODIFIED:20250705T140304Z
UID:2392-1754227800-1754227800@cometothecreek.com
SUMMARY:Deacons Meeting
DESCRIPTION:
URL:https://cometothecreek.com/event/deacons-meeting-30/
CATEGORIES:Deacons Meeting
END:VEVENT
BEGIN:VEVENT
DTSTART;TZID=America/Chicago:20250806T183000
DTEND;TZID=America/Chicago:20250806T193000
DTSTAMP:20260420T102300
CREATED:20250705T143306Z
LAST-MODIFIED:20250705T143306Z
UID:2437-1754505000-1754508600@cometothecreek.com
SUMMARY:Bible Study
DESCRIPTION:
URL:https://cometothecreek.com/event/bible-study-111/
CATEGORIES:Bible Study
END:VEVENT
BEGIN:VEVENT
DTSTART;TZID=America/Chicago:20250813T183000
DTEND;TZID=America/Chicago:20250813T193000
DTSTAMP:20260420T102300
CREATED:20250705T143342Z
LAST-MODIFIED:20250705T143342Z
UID:2439-1755109800-1755113400@cometothecreek.com
SUMMARY:Bible Study
DESCRIPTION:
URL:https://cometothecreek.com/event/bible-study-112/
CATEGORIES:Bible Study
END:VEVENT
BEGIN:VEVENT
DTSTART;TZID=America/Chicago:20250820T183000
DTEND;TZID=America/Chicago:20250820T193000
DTSTAMP:20260420T102300
CREATED:20250705T143423Z
LAST-MODIFIED:20250705T143423Z
UID:2441-1755714600-1755718200@cometothecreek.com
SUMMARY:Bible Study
DESCRIPTION:
URL:https://cometothecreek.com/event/bible-study-113/
CATEGORIES:Bible Study
END:VEVENT
BEGIN:VEVENT
DTSTART;TZID=America/Chicago:20250823T090000
DTEND;TZID=America/Chicago:20250823T110000
DTSTAMP:20260420T102300
CREATED:20250705T142630Z
LAST-MODIFIED:20250705T142630Z
UID:2417-1755939600-1755946800@cometothecreek.com
SUMMARY:Womens Fellowship
DESCRIPTION:
URL:https://cometothecreek.com/event/womens-fellowship-28/
CATEGORIES:Women's Group
END:VEVENT
BEGIN:VEVENT
DTSTART;TZID=America/Chicago:20250824T110000
DTEND;TZID=America/Chicago:20250824T110000
DTSTAMP:20260420T102300
CREATED:20250705T142912Z
LAST-MODIFIED:20250705T142912Z
UID:2425-1756033200-1756033200@cometothecreek.com
SUMMARY:Communion
DESCRIPTION:
URL:https://cometothecreek.com/event/communion-25/
CATEGORIES:Communion
END:VEVENT
BEGIN:VEVENT
DTSTART;TZID=America/Chicago:20250827T183000
DTEND;TZID=America/Chicago:20250827T193000
DTSTAMP:20260420T102300
CREATED:20250705T143511Z
LAST-MODIFIED:20250705T143511Z
UID:2443-1756319400-1756323000@cometothecreek.com
SUMMARY:Bible Study
DESCRIPTION:
URL:https://cometothecreek.com/event/bible-study-114/
CATEGORIES:Bible Study
END:VEVENT
BEGIN:VEVENT
DTSTART;TZID=America/Chicago:20250903T183000
DTEND;TZID=America/Chicago:20250903T193000
DTSTAMP:20260420T102300
CREATED:20250705T143552Z
LAST-MODIFIED:20250705T143552Z
UID:2445-1756924200-1756927800@cometothecreek.com
SUMMARY:Bible Study
DESCRIPTION:
URL:https://cometothecreek.com/event/bible-study-115/
CATEGORIES:Bible Study
END:VEVENT
BEGIN:VEVENT
DTSTART;TZID=America/Chicago:20250907T123000
DTEND;TZID=America/Chicago:20250907T123000
DTSTAMP:20260420T102300
CREATED:20250705T140541Z
LAST-MODIFIED:20250705T140541Z
UID:2397-1757248200-1757248200@cometothecreek.com
SUMMARY:Deacons Meeting
DESCRIPTION:
URL:https://cometothecreek.com/event/deacons-meeting-31/
CATEGORIES:Deacons Meeting
END:VEVENT
BEGIN:VEVENT
DTSTART;TZID=America/Chicago:20250910T183000
DTEND;TZID=America/Chicago:20250910T193000
DTSTAMP:20260420T102300
CREATED:20250705T143627Z
LAST-MODIFIED:20250705T143627Z
UID:2447-1757529000-1757532600@cometothecreek.com
SUMMARY:Bible Study
DESCRIPTION:
URL:https://cometothecreek.com/event/bible-study-116/
CATEGORIES:Bible Study
END:VEVENT
BEGIN:VEVENT
DTSTART;TZID=America/Chicago:20250913T090000
DTEND;TZID=America/Chicago:20250913T110000
DTSTAMP:20260420T102300
CREATED:20250705T142442Z
LAST-MODIFIED:20250705T142442Z
UID:2413-1757754000-1757761200@cometothecreek.com
SUMMARY:Mens Fellowship
DESCRIPTION:
URL:https://cometothecreek.com/event/mens-fellowship-25/
CATEGORIES:Men's Group
END:VEVENT
BEGIN:VEVENT
DTSTART;TZID=America/Chicago:20250917T183000
DTEND;TZID=America/Chicago:20250917T193000
DTSTAMP:20260420T102300
CREATED:20250705T143717Z
LAST-MODIFIED:20250705T143717Z
UID:2449-1758133800-1758137400@cometothecreek.com
SUMMARY:Bible Study
DESCRIPTION:
URL:https://cometothecreek.com/event/bible-study-117/
CATEGORIES:Bible Study
END:VEVENT
BEGIN:VEVENT
DTSTART;TZID=America/Chicago:20250924T183000
DTEND;TZID=America/Chicago:20250924T193000
DTSTAMP:20260420T102300
CREATED:20250705T143757Z
LAST-MODIFIED:20250705T143757Z
UID:2451-1758738600-1758742200@cometothecreek.com
SUMMARY:Bible Study
DESCRIPTION:
URL:https://cometothecreek.com/event/bible-study-118/
CATEGORIES:Bible Study
END:VEVENT
BEGIN:VEVENT
DTSTART;TZID=America/Chicago:20250927T090000
DTEND;TZID=America/Chicago:20250927T110000
DTSTAMP:20260420T102300
CREATED:20250705T142714Z
LAST-MODIFIED:20250705T142714Z
UID:2419-1758963600-1758970800@cometothecreek.com
SUMMARY:Womens Fellowship
DESCRIPTION:
URL:https://cometothecreek.com/event/womens-fellowship-29/
CATEGORIES:Women's Group
END:VEVENT
BEGIN:VEVENT
DTSTART;TZID=America/Chicago:20250928T110000
DTEND;TZID=America/Chicago:20250928T110000
DTSTAMP:20260420T102300
CREATED:20250705T142950Z
LAST-MODIFIED:20250705T142950Z
UID:2427-1759057200-1759057200@cometothecreek.com
SUMMARY:Communion
DESCRIPTION:
URL:https://cometothecreek.com/event/communion-26/
CATEGORIES:Communion
END:VEVENT
BEGIN:VEVENT
DTSTART;TZID=America/Chicago:20260104T120000
DTEND;TZID=America/Chicago:20260104T120000
DTSTAMP:20260420T102300
CREATED:20260106T145115Z
LAST-MODIFIED:20260106T145115Z
UID:2765-1767528000-1767528000@cometothecreek.com
SUMMARY:Deacons Meeting
DESCRIPTION:
URL:https://cometothecreek.com/event/deacons-meeting-32/
CATEGORIES:Deacons Meeting
END:VEVENT
BEGIN:VEVENT
DTSTART;TZID=America/Chicago:20260107T183000
DTEND;TZID=America/Chicago:20260107T193000
DTSTAMP:20260420T102300
CREATED:20260107T200332Z
LAST-MODIFIED:20260107T200332Z
UID:2834-1767810600-1767814200@cometothecreek.com
SUMMARY:Bible Study
DESCRIPTION:
URL:https://cometothecreek.com/event/bible-study-119/
CATEGORIES:Bible Study
END:VEVENT
BEGIN:VEVENT
DTSTART;TZID=America/Chicago:20260110T090000
DTEND;TZID=America/Chicago:20260110T110000
DTSTAMP:20260420T102300
CREATED:20260106T151738Z
LAST-MODIFIED:20260106T151738Z
UID:2789-1768035600-1768042800@cometothecreek.com
SUMMARY:Mens Fellowship
DESCRIPTION:
URL:https://cometothecreek.com/event/mens-fellowship-26/
CATEGORIES:Men's Group
END:VEVENT
BEGIN:VEVENT
DTSTART;TZID=America/Chicago:20260114T183000
DTEND;TZID=America/Chicago:20260114T193000
DTSTAMP:20260420T102300
CREATED:20260107T200424Z
LAST-MODIFIED:20260107T200424Z
UID:2836-1768415400-1768419000@cometothecreek.com
SUMMARY:Bible Study
DESCRIPTION:
URL:https://cometothecreek.com/event/bible-study-120/
CATEGORIES:Bible Study
END:VEVENT
BEGIN:VEVENT
DTSTART;TZID=America/Chicago:20260117T090000
DTEND;TZID=America/Chicago:20260117T110000
DTSTAMP:20260420T102300
CREATED:20260106T154120Z
LAST-MODIFIED:20260106T154120Z
UID:2813-1768640400-1768647600@cometothecreek.com
SUMMARY:Womens Fellowship
DESCRIPTION:Join us for a time of food\, fellowship\, and time in God’s Word. We will be covering the book Women of the Word\, by Jen Wilkin\, as we learn about the importance of Bible literacy. \nWomen of the Word\, 2nd edition\, Jen Wilkin (available on Amazon) \nDates: Every 3rd Saturday of the month until completed \nTimes: 9 – 11 AM \nFacilitator:  Kim Wilson \n 
URL:https://cometothecreek.com/event/womens-fellowship-30/
CATEGORIES:Women's Group
END:VEVENT
BEGIN:VEVENT
DTSTART;TZID=America/Chicago:20260118T120000
DTEND;TZID=America/Chicago:20260118T140000
DTSTAMP:20260420T102300
CREATED:20260107T195946Z
LAST-MODIFIED:20260107T195946Z
UID:2826-1768737600-1768744800@cometothecreek.com
SUMMARY:Conference
DESCRIPTION:
URL:https://cometothecreek.com/event/conference-12/
CATEGORIES:Church Conference
END:VEVENT
BEGIN:VEVENT
DTSTART;TZID=America/Chicago:20260121T183000
DTEND;TZID=America/Chicago:20260121T193000
DTSTAMP:20260420T102300
CREATED:20260107T200458Z
LAST-MODIFIED:20260107T200458Z
UID:2838-1769020200-1769023800@cometothecreek.com
SUMMARY:Bible Study
DESCRIPTION:
URL:https://cometothecreek.com/event/bible-study-121/
CATEGORIES:Bible Study
END:VEVENT
BEGIN:VEVENT
DTSTART;TZID=America/Chicago:20260128T183000
DTEND;TZID=America/Chicago:20260128T193000
DTSTAMP:20260420T102300
CREATED:20260107T200543Z
LAST-MODIFIED:20260107T200543Z
UID:2840-1769625000-1769628600@cometothecreek.com
SUMMARY:Bible Study
DESCRIPTION:
URL:https://cometothecreek.com/event/bible-study-122/
CATEGORIES:Bible Study
END:VEVENT
BEGIN:VEVENT
DTSTART;TZID=America/Chicago:20260201T120000
DTEND;TZID=America/Chicago:20260201T120000
DTSTAMP:20260420T102300
CREATED:20260106T145203Z
LAST-MODIFIED:20260106T145203Z
UID:2767-1769947200-1769947200@cometothecreek.com
SUMMARY:Deacons Meeting
DESCRIPTION:
URL:https://cometothecreek.com/event/deacons-meeting-33/
CATEGORIES:Deacons Meeting
END:VEVENT
BEGIN:VEVENT
DTSTART;TZID=America/Chicago:20260204T183000
DTEND;TZID=America/Chicago:20260204T193000
DTSTAMP:20260420T102300
CREATED:20260107T200614Z
LAST-MODIFIED:20260107T200614Z
UID:2842-1770229800-1770233400@cometothecreek.com
SUMMARY:Bible Study
DESCRIPTION:
URL:https://cometothecreek.com/event/bible-study-123/
CATEGORIES:Bible Study
END:VEVENT
BEGIN:VEVENT
DTSTART;TZID=America/Chicago:20260211T183000
DTEND;TZID=America/Chicago:20260211T193000
DTSTAMP:20260420T102300
CREATED:20260107T200648Z
LAST-MODIFIED:20260107T200648Z
UID:2844-1770834600-1770838200@cometothecreek.com
SUMMARY:Bible Study
DESCRIPTION:
URL:https://cometothecreek.com/event/bible-study-124/
CATEGORIES:Bible Study
END:VEVENT
BEGIN:VEVENT
DTSTART;TZID=America/Chicago:20260214T090000
DTEND;TZID=America/Chicago:20260214T110000
DTSTAMP:20260420T102300
CREATED:20260106T151821Z
LAST-MODIFIED:20260106T151821Z
UID:2791-1771059600-1771066800@cometothecreek.com
SUMMARY:Mens Fellowship
DESCRIPTION:
URL:https://cometothecreek.com/event/mens-fellowship-27/
CATEGORIES:Men's Group
END:VEVENT
BEGIN:VEVENT
DTSTART;TZID=America/Chicago:20260218T183000
DTEND;TZID=America/Chicago:20260218T193000
DTSTAMP:20260420T102300
CREATED:20260107T200723Z
LAST-MODIFIED:20260107T200723Z
UID:2846-1771439400-1771443000@cometothecreek.com
SUMMARY:Bible Study
DESCRIPTION:
URL:https://cometothecreek.com/event/bible-study-125/
CATEGORIES:Bible Study
END:VEVENT
BEGIN:VEVENT
DTSTART;TZID=America/Chicago:20260221T090000
DTEND;TZID=America/Chicago:20260221T110000
DTSTAMP:20260420T102300
CREATED:20260106T163006Z
LAST-MODIFIED:20260106T163006Z
UID:2816-1771664400-1771671600@cometothecreek.com
SUMMARY:Womens Fellowship
DESCRIPTION:Join us as we continue to learn about Bible literacy from Women of the Word\, by Jen Wilkin.
URL:https://cometothecreek.com/event/womens-fellowship-31/
CATEGORIES:Women's Group
END:VEVENT
BEGIN:VEVENT
DTSTART;TZID=America/Chicago:20260225T183000
DTEND;TZID=America/Chicago:20260225T193000
DTSTAMP:20260420T102300
CREATED:20260107T200753Z
LAST-MODIFIED:20260107T200753Z
UID:2848-1772044200-1772047800@cometothecreek.com
SUMMARY:Bible Study
DESCRIPTION:
URL:https://cometothecreek.com/event/bible-study-126/
CATEGORIES:Bible Study
END:VEVENT
END:VCALENDAR