BEGIN:VCALENDAR
VERSION:2.0
PRODID:-//Shoal Creek Baptist Church - ECPv6.15.20//NONSGML v1.0//EN
CALSCALE:GREGORIAN
METHOD:PUBLISH
X-WR-CALNAME:Shoal Creek Baptist Church
X-ORIGINAL-URL:https://cometothecreek.com
X-WR-CALDESC:Events for Shoal Creek Baptist Church
REFRESH-INTERVAL;VALUE=DURATION:PT1H
X-Robots-Tag:noindex
X-PUBLISHED-TTL:PT1H
BEGIN:VTIMEZONE
TZID:America/Chicago
BEGIN:DAYLIGHT
TZOFFSETFROM:-0600
TZOFFSETTO:-0500
TZNAME:CDT
DTSTART:20210314T080000
END:DAYLIGHT
BEGIN:STANDARD
TZOFFSETFROM:-0500
TZOFFSETTO:-0600
TZNAME:CST
DTSTART:20211107T070000
END:STANDARD
BEGIN:DAYLIGHT
TZOFFSETFROM:-0600
TZOFFSETTO:-0500
TZNAME:CDT
DTSTART:20220313T080000
END:DAYLIGHT
BEGIN:STANDARD
TZOFFSETFROM:-0500
TZOFFSETTO:-0600
TZNAME:CST
DTSTART:20221106T070000
END:STANDARD
BEGIN:DAYLIGHT
TZOFFSETFROM:-0600
TZOFFSETTO:-0500
TZNAME:CDT
DTSTART:20230312T080000
END:DAYLIGHT
BEGIN:STANDARD
TZOFFSETFROM:-0500
TZOFFSETTO:-0600
TZNAME:CST
DTSTART:20231105T070000
END:STANDARD
BEGIN:DAYLIGHT
TZOFFSETFROM:-0600
TZOFFSETTO:-0500
TZNAME:CDT
DTSTART:20240310T080000
END:DAYLIGHT
BEGIN:STANDARD
TZOFFSETFROM:-0500
TZOFFSETTO:-0600
TZNAME:CST
DTSTART:20241103T070000
END:STANDARD
END:VTIMEZONE
BEGIN:VEVENT
DTSTART;TZID=America/Chicago:20230216T120000
DTEND;TZID=America/Chicago:20230216T150000
DTSTAMP:20260421T133906
CREATED:20230206T222024Z
LAST-MODIFIED:20230206T222024Z
UID:1396-1676548800-1676559600@cometothecreek.com
SUMMARY:Senior Social
DESCRIPTION:Join us for a time of fellowship and fun on Thursday February 16\, 2023 at 12:00pm at the home of Jackie Moore. \nBring a covered dish or snack. \nFor more information\, contact Kim Eubanks.
URL:https://cometothecreek.com/event/senior-social-2/
CATEGORIES:Senior Social
END:VEVENT
BEGIN:VEVENT
DTSTART;TZID=America/Chicago:20230215T183000
DTEND;TZID=America/Chicago:20230215T183000
DTSTAMP:20260421T133906
CREATED:20230127T145432Z
LAST-MODIFIED:20230127T145432Z
UID:1364-1676485800-1676485800@cometothecreek.com
SUMMARY:Bible Study
DESCRIPTION:
URL:https://cometothecreek.com/event/bible-study-7/
CATEGORIES:Bible Study
END:VEVENT
BEGIN:VEVENT
DTSTART;TZID=America/Chicago:20230211T090000
DTEND;TZID=America/Chicago:20230211T110000
DTSTAMP:20260421T133906
CREATED:20230127T144913Z
LAST-MODIFIED:20230127T145634Z
UID:1358-1676106000-1676113200@cometothecreek.com
SUMMARY:Men's Fellowship
DESCRIPTION:
URL:https://cometothecreek.com/event/mens-fellowship-4/
CATEGORIES:Men's Group
END:VEVENT
BEGIN:VEVENT
DTSTART;TZID=America/Chicago:20230208T183000
DTEND;TZID=America/Chicago:20230208T183000
DTSTAMP:20260421T133906
CREATED:20230127T144331Z
LAST-MODIFIED:20230127T144331Z
UID:1352-1675881000-1675881000@cometothecreek.com
SUMMARY:Bible Study
DESCRIPTION:
URL:https://cometothecreek.com/event/bible-study-6/
CATEGORIES:Bible Study
END:VEVENT
BEGIN:VEVENT
DTSTART;TZID=America/Chicago:20230205T120000
DTEND;TZID=America/Chicago:20230205T130000
DTSTAMP:20260421T133906
CREATED:20230127T144750Z
LAST-MODIFIED:20230127T145141Z
UID:1356-1675598400-1675602000@cometothecreek.com
SUMMARY:Deacons Meeting
DESCRIPTION:
URL:https://cometothecreek.com/event/deacons-meeting-4/
CATEGORIES:Deacons Meeting
END:VEVENT
BEGIN:VEVENT
DTSTART;TZID=America/Chicago:20230204T090000
DTEND;TZID=America/Chicago:20230204T090000
DTSTAMP:20260421T133906
CREATED:20230127T144024Z
LAST-MODIFIED:20230127T144024Z
UID:1347-1675501200-1675501200@cometothecreek.com
SUMMARY:Church Work Day
DESCRIPTION:
URL:https://cometothecreek.com/event/church-work-day-2/
CATEGORIES:Work Day
END:VEVENT
BEGIN:VEVENT
DTSTART;TZID=America/Chicago:20230201T183000
DTEND;TZID=America/Chicago:20230201T183000
DTSTAMP:20260421T133906
CREATED:20230127T143819Z
LAST-MODIFIED:20230127T143819Z
UID:1345-1675276200-1675276200@cometothecreek.com
SUMMARY:Bible Study
DESCRIPTION:
URL:https://cometothecreek.com/event/bible-study-5/
CATEGORIES:Bible Study
END:VEVENT
BEGIN:VEVENT
DTSTART;TZID=America/Chicago:20230129T110000
DTEND;TZID=America/Chicago:20230129T110000
DTSTAMP:20260421T133906
CREATED:20221228T171645Z
LAST-MODIFIED:20221228T171645Z
UID:1287-1674990000-1674990000@cometothecreek.com
SUMMARY:Communion
DESCRIPTION:
URL:https://cometothecreek.com/event/communion-3/
END:VEVENT
BEGIN:VEVENT
DTSTART;TZID=America/Chicago:20230125T183000
DTEND;TZID=America/Chicago:20230125T183000
DTSTAMP:20260421T133906
CREATED:20221228T171156Z
LAST-MODIFIED:20221228T171156Z
UID:1281-1674671400-1674671400@cometothecreek.com
SUMMARY:Bible Study
DESCRIPTION:
URL:https://cometothecreek.com/event/bible-study-4/
CATEGORIES:Bible Study
END:VEVENT
BEGIN:VEVENT
DTSTART;TZID=America/Chicago:20230121T110000
DTEND;TZID=America/Chicago:20230121T130000
DTSTAMP:20260421T133906
CREATED:20221221T194253Z
LAST-MODIFIED:20221221T194253Z
UID:1266-1674298800-1674306000@cometothecreek.com
SUMMARY:Women's Fellowship
DESCRIPTION:
URL:https://cometothecreek.com/event/womens-fellowship-6/
CATEGORIES:Women's Group
END:VEVENT
BEGIN:VEVENT
DTSTART;TZID=America/Chicago:20230118T183000
DTEND;TZID=America/Chicago:20230118T183000
DTSTAMP:20260421T133906
CREATED:20221228T171119Z
LAST-MODIFIED:20221228T171119Z
UID:1279-1674066600-1674066600@cometothecreek.com
SUMMARY:Bible Study
DESCRIPTION:
URL:https://cometothecreek.com/event/bible-study-3/
CATEGORIES:Bible Study
END:VEVENT
BEGIN:VEVENT
DTSTART;TZID=America/Chicago:20230118T120000
DTEND;TZID=America/Chicago:20230118T150000
DTSTAMP:20260421T133906
CREATED:20221228T171341Z
LAST-MODIFIED:20221228T171341Z
UID:1283-1674043200-1674054000@cometothecreek.com
SUMMARY:Senior Social
DESCRIPTION:
URL:https://cometothecreek.com/event/senior-social/
CATEGORIES:Senior Social
END:VEVENT
BEGIN:VEVENT
DTSTART;TZID=America/Chicago:20230115T120000
DTEND;TZID=America/Chicago:20230115T140000
DTSTAMP:20260421T133906
CREATED:20221226T153751Z
LAST-MODIFIED:20221226T153751Z
UID:1270-1673784000-1673791200@cometothecreek.com
SUMMARY:Conference
DESCRIPTION:
URL:https://cometothecreek.com/event/conference/
END:VEVENT
BEGIN:VEVENT
DTSTART;TZID=America/Chicago:20230114T090000
DTEND;TZID=America/Chicago:20230114T110000
DTSTAMP:20260421T133906
CREATED:20221122T192744Z
LAST-MODIFIED:20221122T192744Z
UID:1232-1673686800-1673694000@cometothecreek.com
SUMMARY:Men's Fellowship
DESCRIPTION:
URL:https://cometothecreek.com/event/mens-fellowship-3/
CATEGORIES:Men's Group
END:VEVENT
BEGIN:VEVENT
DTSTART;TZID=America/Chicago:20230111T183000
DTEND;TZID=America/Chicago:20230111T183000
DTSTAMP:20260421T133906
CREATED:20221228T170919Z
LAST-MODIFIED:20221228T170919Z
UID:1276-1673461800-1673461800@cometothecreek.com
SUMMARY:Bible Study
DESCRIPTION:
URL:https://cometothecreek.com/event/bible-study-2/
CATEGORIES:Bible Study
END:VEVENT
BEGIN:VEVENT
DTSTART;TZID=America/Chicago:20230108T120000
DTEND;TZID=America/Chicago:20230108T140000
DTSTAMP:20260421T133906
CREATED:20221228T171458Z
LAST-MODIFIED:20221228T171458Z
UID:1285-1673179200-1673186400@cometothecreek.com
SUMMARY:Deacons Meeting
DESCRIPTION:
URL:https://cometothecreek.com/event/deacons-meeting-3/
CATEGORIES:Deacons Meeting
END:VEVENT
BEGIN:VEVENT
DTSTART;TZID=America/Chicago:20230104T183000
DTEND;TZID=America/Chicago:20230104T203000
DTSTAMP:20260421T133906
CREATED:20221226T153458Z
LAST-MODIFIED:20221226T153458Z
UID:1268-1672857000-1672864200@cometothecreek.com
SUMMARY:Bible study
DESCRIPTION:
URL:https://cometothecreek.com/event/bible-study/
END:VEVENT
BEGIN:VEVENT
DTSTART;TZID=America/Chicago:20221225T120000
DTEND;TZID=America/Chicago:20221225T123000
DTSTAMP:20260421T133906
CREATED:20221105T012000Z
LAST-MODIFIED:20221105T012000Z
UID:1225-1671969600-1671971400@cometothecreek.com
SUMMARY:Communion
DESCRIPTION: 
URL:https://cometothecreek.com/event/communion-2/
END:VEVENT
BEGIN:VEVENT
DTSTART;TZID=America/Chicago:20221225T110000
DTEND;TZID=America/Chicago:20221225T120000
DTSTAMP:20260421T133906
CREATED:20221105T011925Z
LAST-MODIFIED:20221105T011925Z
UID:1223-1671966000-1671969600@cometothecreek.com
SUMMARY:Christmas Day Service
DESCRIPTION:
URL:https://cometothecreek.com/event/christmas-day-service/
END:VEVENT
BEGIN:VEVENT
DTSTART;TZID=America/Chicago:20221224T170000
DTEND;TZID=America/Chicago:20221224T180000
DTSTAMP:20260421T133906
CREATED:20221105T012053Z
LAST-MODIFIED:20221123T155834Z
UID:1227-1671901200-1671904800@cometothecreek.com
SUMMARY:Christmas Eve Service
DESCRIPTION: 
URL:https://cometothecreek.com/event/christmas-eve-service/
END:VEVENT
BEGIN:VEVENT
DTSTART;TZID=America/Chicago:20221221T183000
DTEND;TZID=America/Chicago:20221221T200000
DTSTAMP:20260421T133906
CREATED:20221105T011609Z
LAST-MODIFIED:20221105T011609Z
UID:1219-1671647400-1671652800@cometothecreek.com
SUMMARY:Wednesday night bible study
DESCRIPTION:
URL:https://cometothecreek.com/event/wednesday-night-bible-study-19/
END:VEVENT
BEGIN:VEVENT
DTSTART;TZID=America/Chicago:20221215T100000
DTEND;TZID=America/Chicago:20221215T140000
DTSTAMP:20260421T133906
CREATED:20221105T011209Z
LAST-MODIFIED:20221105T011209Z
UID:1207-1671098400-1671112800@cometothecreek.com
SUMMARY:Operation Christmas Child Processing Center
DESCRIPTION:We are going down to Atlanta to the processing center to help with Operation Christmas Child. If you would like to come contact Amber Higginbotham.
URL:https://cometothecreek.com/event/operation-christmas-child-processing-center-2/
END:VEVENT
BEGIN:VEVENT
DTSTART;TZID=America/Chicago:20221214T183000
DTEND;TZID=America/Chicago:20221214T200000
DTSTAMP:20260421T133906
CREATED:20221105T011538Z
LAST-MODIFIED:20221105T011538Z
UID:1217-1671042600-1671048000@cometothecreek.com
SUMMARY:Wednesday night bible study
DESCRIPTION:
URL:https://cometothecreek.com/event/wednesday-night-bible-study-18/
END:VEVENT
BEGIN:VEVENT
DTSTART;TZID=America/Chicago:20221211T143000
DTEND;TZID=America/Chicago:20221211T143000
DTSTAMP:20260421T133906
CREATED:20221129T184434Z
LAST-MODIFIED:20221129T184434Z
UID:1244-1670769000-1670769000@cometothecreek.com
SUMMARY:Christmas Outreach at Cherokee Center for Nursing and Healing
DESCRIPTION:Please make plans to join us on Sunday December 11th at 2:30PM as we participate in a Christmas Outreach to residents of the Cherokee Center for Nursing and Healing in Canton\, GA. \nDuring this time\, we will be singing Christmas carols\, engaging with residents of the facility\, and having a Christmas party. \nIf you would like to bring an item to support this outreach\, we are currently collecting: \n\nChristmas cookies\nChristmas candy\nSpecialty nuts\nLittle Debbie snack cakes\nPies\nPunch\nTea\nChristmas plates\, cups\, and napkins\n\nBoth homemade and store bought items are welcome. All homemade items should be brought to church on December 11th. Donations can also be made in support of this event. \nDonated items can be dropped off in the collection bin as you enter the Sanctuary.\n  \nFor additional questions\, please contact Kim Eubanks or Sheila.
URL:https://cometothecreek.com/event/christmas-outreach-at-cherokee-center-for-nursing-and-healing/
CATEGORIES:Community Outreach
END:VEVENT
BEGIN:VEVENT
DTSTART;TZID=America/Chicago:20221210T100000
DTEND;TZID=America/Chicago:20221210T120000
DTSTAMP:20260421T133906
CREATED:20221105T011300Z
LAST-MODIFIED:20221121T194423Z
UID:1209-1670666400-1670673600@cometothecreek.com
SUMMARY:Men and Women's End of Year Fellowship
DESCRIPTION:
URL:https://cometothecreek.com/event/mens-fellowship-2/
CATEGORIES:Men's Group,Women's Group
END:VEVENT
BEGIN:VEVENT
DTSTART;TZID=America/Chicago:20221207T183000
DTEND;TZID=America/Chicago:20221207T200000
DTSTAMP:20260421T133906
CREATED:20221105T011510Z
LAST-MODIFIED:20221105T011510Z
UID:1215-1670437800-1670443200@cometothecreek.com
SUMMARY:Wednesday night bible study
DESCRIPTION:
URL:https://cometothecreek.com/event/wednesday-night-bible-study-17/
END:VEVENT
BEGIN:VEVENT
DTSTART;TZID=America/Chicago:20221207T180000
DTEND;TZID=America/Chicago:20221207T200000
DTSTAMP:20260421T133906
CREATED:20221129T184457Z
LAST-MODIFIED:20221129T184457Z
UID:1247-1670436000-1670443200@cometothecreek.com
SUMMARY:Reinhardt Basketball Dinner & Devotion
DESCRIPTION:Join us for a spaghetti dinner and devotion with the Reinhardt Basketball players on Wednesday December 7th from 6-8pm.
URL:https://cometothecreek.com/event/reinhardt-basketball-dinner-devotion/
END:VEVENT
BEGIN:VEVENT
DTSTART;TZID=America/Chicago:20221207T120000
DTEND;TZID=America/Chicago:20221207T140000
DTSTAMP:20260421T133906
CREATED:20221128T225100Z
LAST-MODIFIED:20221128T225100Z
UID:1240-1670414400-1670421600@cometothecreek.com
SUMMARY:Quilting Social
DESCRIPTION:
URL:https://cometothecreek.com/event/quilting-social-2/
END:VEVENT
BEGIN:VEVENT
DTSTART;TZID=America/Chicago:20221204T120000
DTEND;TZID=America/Chicago:20221204T130000
DTSTAMP:20260421T133906
CREATED:20221105T010810Z
LAST-MODIFIED:20221105T010810Z
UID:1203-1670155200-1670158800@cometothecreek.com
SUMMARY:Deacon meeting
DESCRIPTION:
URL:https://cometothecreek.com/event/deacon-meeting-4/
END:VEVENT
BEGIN:VEVENT
DTSTART;TZID=America/Chicago:20221201T100000
DTEND;TZID=America/Chicago:20221201T140000
DTSTAMP:20260421T133906
CREATED:20221105T011012Z
LAST-MODIFIED:20221105T011012Z
UID:1205-1669888800-1669903200@cometothecreek.com
SUMMARY:Operation Christmas Child Processing Center
DESCRIPTION:A group from our church is going down to Atlanta to help at the processing center. If you would like to come please contact Amber Higginbotham.
URL:https://cometothecreek.com/event/operation-christmas-child-processing-center/
END:VEVENT
END:VCALENDAR