BEGIN:VCALENDAR
VERSION:2.0
PRODID:-//Shoal Creek Baptist Church - ECPv6.15.20//NONSGML v1.0//EN
CALSCALE:GREGORIAN
METHOD:PUBLISH
X-WR-CALNAME:Shoal Creek Baptist Church
X-ORIGINAL-URL:https://cometothecreek.com
X-WR-CALDESC:Events for Shoal Creek Baptist Church
REFRESH-INTERVAL;VALUE=DURATION:PT1H
X-Robots-Tag:noindex
X-PUBLISHED-TTL:PT1H
BEGIN:VTIMEZONE
TZID:America/Chicago
BEGIN:DAYLIGHT
TZOFFSETFROM:-0600
TZOFFSETTO:-0500
TZNAME:CDT
DTSTART:20210314T080000
END:DAYLIGHT
BEGIN:STANDARD
TZOFFSETFROM:-0500
TZOFFSETTO:-0600
TZNAME:CST
DTSTART:20211107T070000
END:STANDARD
BEGIN:DAYLIGHT
TZOFFSETFROM:-0600
TZOFFSETTO:-0500
TZNAME:CDT
DTSTART:20220313T080000
END:DAYLIGHT
BEGIN:STANDARD
TZOFFSETFROM:-0500
TZOFFSETTO:-0600
TZNAME:CST
DTSTART:20221106T070000
END:STANDARD
BEGIN:DAYLIGHT
TZOFFSETFROM:-0600
TZOFFSETTO:-0500
TZNAME:CDT
DTSTART:20230312T080000
END:DAYLIGHT
BEGIN:STANDARD
TZOFFSETFROM:-0500
TZOFFSETTO:-0600
TZNAME:CST
DTSTART:20231105T070000
END:STANDARD
END:VTIMEZONE
BEGIN:VEVENT
DTSTART;TZID=America/Chicago:20221116T013000
DTEND;TZID=America/Chicago:20221116T153000
DTSTAMP:20260421T171233
CREATED:20221101T021308Z
LAST-MODIFIED:20221101T021308Z
UID:1176-1668562200-1668612600@cometothecreek.com
SUMMARY:Quilting Social
DESCRIPTION:Come out to Mrs. Jackie Moore’s house to enjoy fellowship and quilting. Lunch will be provided. Please bring a covered dish to share. All are welcomed.
URL:https://cometothecreek.com/event/quilting-social/
END:VEVENT
BEGIN:VEVENT
DTSTART;TZID=America/Chicago:20221113T120000
DTEND;TZID=America/Chicago:20221113T140000
DTSTAMP:20260421T171233
CREATED:20221101T022134Z
LAST-MODIFIED:20221101T022134Z
UID:1186-1668340800-1668348000@cometothecreek.com
SUMMARY:Deacons meeting
DESCRIPTION:
URL:https://cometothecreek.com/event/deacons-meeting-2/
END:VEVENT
BEGIN:VEVENT
DTSTART;TZID=America/Chicago:20221112T110000
DTEND;TZID=America/Chicago:20221112T160000
DTSTAMP:20260421T171233
CREATED:20221101T020406Z
LAST-MODIFIED:20221101T020406Z
UID:1167-1668250800-1668268800@cometothecreek.com
SUMMARY:Operation Christmas Child Shoebox Ministry
DESCRIPTION:Come help us pack 300 shoeboxes to go around the world to help share the gospel.
URL:https://cometothecreek.com/event/operation-christmas-child-shoebox-ministry/
END:VEVENT
BEGIN:VEVENT
DTSTART;TZID=America/Chicago:20221112T090000
DTEND;TZID=America/Chicago:20221112T110000
DTSTAMP:20260421T171233
CREATED:20221101T021107Z
LAST-MODIFIED:20221101T021107Z
UID:1174-1668243600-1668250800@cometothecreek.com
SUMMARY:Mens fellowship
DESCRIPTION:Come out at 9am for breakfast and fellowship among the Men in our church and community.
URL:https://cometothecreek.com/event/mens-fellowship/
END:VEVENT
BEGIN:VEVENT
DTSTART;TZID=America/Chicago:20221111T180000
DTEND;TZID=America/Chicago:20221111T190000
DTSTAMP:20260421T171233
CREATED:20221101T020952Z
LAST-MODIFIED:20221101T020952Z
UID:1171-1668189600-1668193200@cometothecreek.com
SUMMARY:Greater Works Outreach
DESCRIPTION:Come out and feed the food insecure with us in Dalton. Come share your time and love with those Jesus came to seek and save.
URL:https://cometothecreek.com/event/greater-works-outreach/
END:VEVENT
BEGIN:VEVENT
DTSTART;TZID=America/Chicago:20221109T183000
DTEND;TZID=America/Chicago:20221109T200000
DTSTAMP:20260421T171233
CREATED:20221105T005931Z
LAST-MODIFIED:20221105T010343Z
UID:1195-1668018600-1668024000@cometothecreek.com
SUMMARY:Wednesday night bible study
DESCRIPTION:
URL:https://cometothecreek.com/event/wednesday-night-bible-study-14/
END:VEVENT
BEGIN:VEVENT
DTSTART;TZID=America/Chicago:20221106T170000
DTEND;TZID=America/Chicago:20221106T190000
DTSTAMP:20260421T171233
CREATED:20221101T020239Z
LAST-MODIFIED:20221101T020239Z
UID:1164-1667754000-1667761200@cometothecreek.com
SUMMARY:Pastor Daniel’s Ordination Ceremony
DESCRIPTION:Come celebrate Pastor Daniel with us at 5:00pm for food and 6:00pm for service.
URL:https://cometothecreek.com/event/pastor-daniels-ordination-ceremony/
END:VEVENT
BEGIN:VEVENT
DTSTART;TZID=America/Chicago:20221106T120000
DTEND;TZID=America/Chicago:20221106T140000
DTSTAMP:20260421T171233
CREATED:20221101T022029Z
LAST-MODIFIED:20221101T022029Z
UID:1184-1667736000-1667743200@cometothecreek.com
SUMMARY:College Luncheon
DESCRIPTION:We have some adopted college students that will be coming to meet their adoptive families. Come out and love on these students and let them know you are here for them and are praying for them. Lunch provided for students and adopted families.
URL:https://cometothecreek.com/event/college-luncheon/
END:VEVENT
BEGIN:VEVENT
DTSTART;TZID=America/Chicago:20221105T160000
DTEND;TZID=America/Chicago:20221105T200000
DTSTAMP:20260421T171233
CREATED:20221101T020655Z
LAST-MODIFIED:20221101T020655Z
UID:1169-1667664000-1667678400@cometothecreek.com
SUMMARY:Never Alone Lantern Festival
DESCRIPTION:Come out and support our local food pantry\, Never Alone. We will be handing out flyers inviting the community to our church while sharing the love of Jesus to others. All money raised will help with food insecure people in our surroundings area.
URL:https://cometothecreek.com/event/never-alone-lantern-festival/
END:VEVENT
BEGIN:VEVENT
DTSTART;TZID=America/Chicago:20221030T180000
DTEND;TZID=America/Chicago:20221030T190000
DTSTAMP:20260421T171233
CREATED:20220925T230145Z
LAST-MODIFIED:20220925T230145Z
UID:1105-1667152800-1667156400@cometothecreek.com
SUMMARY:Sunday Night Discipleship Service
DESCRIPTION:If you are looking to go deeper into your faith\, we invite you to join us on Sunday night at 6PM. During our Sunday night discipleship service\, we will gather to explore how to engage with the world around us with the Gospel.
URL:https://cometothecreek.com/event/sunday-night-discipleship-service-9/
CATEGORIES:Discipleship
END:VEVENT
BEGIN:VEVENT
DTSTART;TZID=America/Chicago:20221030T094500
DTEND;TZID=America/Chicago:20221030T103000
DTSTAMP:20260421T171233
CREATED:20220925T225404Z
LAST-MODIFIED:20220925T225404Z
UID:1095-1667123100-1667125800@cometothecreek.com
SUMMARY:Adult Sunday School
DESCRIPTION:Shoal Creek Baptist Church believes that discipleship is an exceptionally important way we fulfill the Great Commission (Matthew 28:18-20). As a part of our desire to see men and women become fully devoted followers of Jesus\, Sunday School is a way that we gather and study the Scriptures together. We will study the book of Romans. Sunday School classes are available for children and adults. Classes meet on Sunday morning at 9:45.
URL:https://cometothecreek.com/event/adult-sunday-school-12/
CATEGORIES:Discipleship
END:VEVENT
BEGIN:VEVENT
DTSTART;TZID=America/Chicago:20221026T183000
DTEND;TZID=America/Chicago:20221026T200000
DTSTAMP:20260421T171233
CREATED:20220925T202556Z
LAST-MODIFIED:20220925T202556Z
UID:1078-1666809000-1666814400@cometothecreek.com
SUMMARY:Wednesday Night Bible Study
DESCRIPTION:Because we believe the Bible is given by God for teaching\, reproof\, correction\, and training in righteousness (2 Timothy 3:16-17)\, Bible study is an important part of our ministry. Wednesday night Bible study is available each week at 6:30PM. We will be studying the book of Matthew.
URL:https://cometothecreek.com/event/wednesday-night-bible-study-13/
CATEGORIES:Bible Study
END:VEVENT
BEGIN:VEVENT
DTSTART;TZID=America/Chicago:20221023T180000
DTEND;TZID=America/Chicago:20221023T190000
DTSTAMP:20260421T171233
CREATED:20220925T225934Z
LAST-MODIFIED:20220925T225934Z
UID:1101-1666548000-1666551600@cometothecreek.com
SUMMARY:Sunday Night Discipleship Service
DESCRIPTION:If you are looking to go deeper into your faith\, we invite you to join us on Sunday night at 6PM. During our Sunday night discipleship service\, we will gather to explore how to engage with the world around us with the Gospel.
URL:https://cometothecreek.com/event/sunday-night-discipleship-service-6/
CATEGORIES:Discipleship
END:VEVENT
BEGIN:VEVENT
DTSTART;TZID=America/Chicago:20221023T094500
DTEND;TZID=America/Chicago:20221023T103000
DTSTAMP:20260421T171233
CREATED:20220925T225223Z
LAST-MODIFIED:20220925T225223Z
UID:1093-1666518300-1666521000@cometothecreek.com
SUMMARY:Adult Sunday School
DESCRIPTION:Shoal Creek Baptist Church believes that discipleship is an exceptionally important way we fulfill the Great Commission (Matthew 28:18-20). As a part of our desire to see men and women become fully devoted followers of Jesus\, Sunday School is a way that we gather and study the Scriptures together. We will study the book of Romans. Sunday School classes are available for children and adults. Classes meet on Sunday morning at 9:45.
URL:https://cometothecreek.com/event/adult-sunday-school-11/
CATEGORIES:Discipleship
END:VEVENT
BEGIN:VEVENT
DTSTART;TZID=America/Chicago:20221019T183000
DTEND;TZID=America/Chicago:20221019T200000
DTSTAMP:20260421T171233
CREATED:20220925T202504Z
LAST-MODIFIED:20220925T202504Z
UID:1076-1666204200-1666209600@cometothecreek.com
SUMMARY:Wednesday Night Bible Study
DESCRIPTION:Because we believe the Bible is given by God for teaching\, reproof\, correction\, and training in righteousness (2 Timothy 3:16-17)\, Bible study is an important part of our ministry. Wednesday night Bible study is available each week at 6:30PM. We will be studying the book of Matthew.
URL:https://cometothecreek.com/event/wednesday-night-bible-study-12/
CATEGORIES:Bible Study
END:VEVENT
BEGIN:VEVENT
DTSTART;TZID=America/Chicago:20221016T120000
DTEND;TZID=America/Chicago:20221016T143000
DTSTAMP:20260421T171233
CREATED:20220925T203201Z
LAST-MODIFIED:20220925T203201Z
UID:1085-1665921600-1665930600@cometothecreek.com
SUMMARY:Church Conference
DESCRIPTION:Please join us for our monthly conferences immediately after church service. Lunch is served. Meetings are held the third Sunday of every month unless it falls on a holiday.
URL:https://cometothecreek.com/event/church-conference-4/
CATEGORIES:Church Conference
END:VEVENT
BEGIN:VEVENT
DTSTART;TZID=America/Chicago:20221016T094500
DTEND;TZID=America/Chicago:20221016T103000
DTSTAMP:20260421T171233
CREATED:20220925T225134Z
LAST-MODIFIED:20220925T225134Z
UID:1091-1665913500-1665916200@cometothecreek.com
SUMMARY:Adult Sunday School
DESCRIPTION:Shoal Creek Baptist Church believes that discipleship is an exceptionally important way we fulfill the Great Commission (Matthew 28:18-20). As a part of our desire to see men and women become fully devoted followers of Jesus\, Sunday School is a way that we gather and study the Scriptures together. We will study the book of Romans. Sunday School classes are available for children and adults. Classes meet on Sunday morning at 9:45.
URL:https://cometothecreek.com/event/adult-sunday-school-10/
CATEGORIES:Discipleship
END:VEVENT
BEGIN:VEVENT
DTSTART;TZID=America/Chicago:20221015T110000
DTEND;TZID=America/Chicago:20221015T110000
DTSTAMP:20260421T171233
CREATED:20220925T202839Z
LAST-MODIFIED:20220925T202839Z
UID:1081-1665831600-1665831600@cometothecreek.com
SUMMARY:Women's Fellowship
DESCRIPTION:“He says\, “Be still\, and know that I am God; I will be exalted among the nations\, I will be exalted in the earth.”” Psalms‬ ‭46:10‬ ‭NIV‬‬\nIf you want to dive deeper into your faith come join us for our Women’s fellowship on the third Saturday of every month 11am-1pm. God created us for community and fellowship\, and as a group we want to do both. We are a ladies group that wants to support\, encourage and love one another. Come join us.
URL:https://cometothecreek.com/event/womens-fellowship-4/
CATEGORIES:Women's Group
END:VEVENT
BEGIN:VEVENT
DTSTART;TZID=America/Chicago:20221014T180000
DTEND;TZID=America/Chicago:20221014T190000
DTSTAMP:20260421T171233
CREATED:20220926T005128Z
LAST-MODIFIED:20220926T005128Z
UID:1108-1665770400-1665774000@cometothecreek.com
SUMMARY:Dalton's Greater Works
DESCRIPTION:The second Friday of every month\, a group of us meet to travel to Greater Works in Dalton to serve a meal and have a time of prayer and teaching with our friends in Dalton\, GA. Anyone from the church is always welcome to join this event too!
URL:https://cometothecreek.com/event/daltons-greater-works-3/
CATEGORIES:Community Outreach
END:VEVENT
BEGIN:VEVENT
DTSTART;TZID=America/Chicago:20221012T183000
DTEND;TZID=America/Chicago:20221012T200000
DTSTAMP:20260421T171233
CREATED:20220925T202357Z
LAST-MODIFIED:20220925T202357Z
UID:1074-1665599400-1665604800@cometothecreek.com
SUMMARY:Wednesday Night Bible Study
DESCRIPTION:Because we believe the Bible is given by God for teaching\, reproof\, correction\, and training in righteousness (2 Timothy 3:16-17)\, Bible study is an important part of our ministry. Wednesday night Bible study is available each week at 6:30PM. We will be studying the book of Matthew.
URL:https://cometothecreek.com/event/wednesday-night-bible-study-11/
CATEGORIES:Bible Study
END:VEVENT
BEGIN:VEVENT
DTSTART;TZID=America/Chicago:20221009T180000
DTEND;TZID=America/Chicago:20221009T200000
DTSTAMP:20260421T171233
CREATED:20220925T225546Z
LAST-MODIFIED:20220925T225546Z
UID:1097-1665338400-1665345600@cometothecreek.com
SUMMARY:No Sweat Evangelism
DESCRIPTION:As a church\, we are committed to seeing people come to know Jesus as Lord and Savior. We are committed to fulfilling the Great Commission by making disciples and teaching them all that Christ has commanded (see Matthew 28:16-20). On Sunday October 9th at 6PM we will be hosting a special night of evangelism training called No Sweat Evangelism. Bro. Steve Foster\, an Evangelism Consultant with the Georgia Baptist Mission Board\, will be joining us to lead us through this special session. \nIn this training\, you will:\n1. Learn a simple plan to share the gospel with people in your circle of influence.\n2. Learn how to pivot from everyday conversations to gospel conversations.\n3. Be motivated as you learn the biblical view of being on mission with God.
URL:https://cometothecreek.com/event/no-sweat-evangelism/
CATEGORIES:Discipleship
END:VEVENT
BEGIN:VEVENT
DTSTART;TZID=America/Chicago:20221009T094500
DTEND;TZID=America/Chicago:20221009T103000
DTSTAMP:20260421T171233
CREATED:20220925T225040Z
LAST-MODIFIED:20220925T225040Z
UID:1089-1665308700-1665311400@cometothecreek.com
SUMMARY:Adult Sunday School
DESCRIPTION:Shoal Creek Baptist Church believes that discipleship is an exceptionally important way we fulfill the Great Commission (Matthew 28:18-20). As a part of our desire to see men and women become fully devoted followers of Jesus\, Sunday School is a way that we gather and study the Scriptures together. We will study the book of Romans. Sunday School classes are available for children and adults. Classes meet on Sunday morning at 9:45.
URL:https://cometothecreek.com/event/adult-sunday-school-9/
CATEGORIES:Discipleship
END:VEVENT
BEGIN:VEVENT
DTSTART;TZID=America/Chicago:20221008T100000
DTEND;TZID=America/Chicago:20221008T120000
DTSTAMP:20260421T171233
CREATED:20220925T203020Z
LAST-MODIFIED:20221002T230934Z
UID:1083-1665223200-1665230400@cometothecreek.com
SUMMARY:Men's Prayer Breakfast
DESCRIPTION:All the men of Shoal Creek Baptist Church are invited to join us at the church on Saturday\, October 8th at 10AM for the monthly men’s prayer breakfast. During this time we will share breakfast\, pray together as a group\, and have a time of Bible study. \nPlease contact Tim Olson for additional details.
URL:https://cometothecreek.com/event/mens-prayer-breakfast-4/
CATEGORIES:Men's Group
END:VEVENT
BEGIN:VEVENT
DTSTART;TZID=America/Chicago:20221005T183000
DTEND;TZID=America/Chicago:20221005T200000
DTSTAMP:20260421T171233
CREATED:20220925T202258Z
LAST-MODIFIED:20220925T202258Z
UID:1072-1664994600-1665000000@cometothecreek.com
SUMMARY:Wednesday Night Bible Study
DESCRIPTION:Because we believe the Bible is given by God for teaching\, reproof\, correction\, and training in righteousness (2 Timothy 3:16-17)\, Bible study is an important part of our ministry. Wednesday night Bible study is available each week at 6:30PM. We will be studying the book of Matthew.
URL:https://cometothecreek.com/event/wednesday-night-bible-study-10/
CATEGORIES:Bible Study
END:VEVENT
BEGIN:VEVENT
DTSTART;TZID=America/Chicago:20221002T180000
DTEND;TZID=America/Chicago:20221002T190000
DTSTAMP:20260421T171233
CREATED:20220925T230025Z
LAST-MODIFIED:20220925T230025Z
UID:1103-1664733600-1664737200@cometothecreek.com
SUMMARY:Sunday Night Discipleship Service
DESCRIPTION:If you are looking to go deeper into your faith\, we invite you to join us on Sunday night at 6PM. During our Sunday night discipleship service\, we will gather to explore how to engage with the world around us with the Gospel.
URL:https://cometothecreek.com/event/sunday-night-discipleship-service-7/
CATEGORIES:Discipleship
END:VEVENT
BEGIN:VEVENT
DTSTART;TZID=America/Chicago:20221002T120000
DTEND;TZID=America/Chicago:20221002T140000
DTSTAMP:20260421T171233
CREATED:20220925T225753Z
LAST-MODIFIED:20220925T225753Z
UID:1099-1664712000-1664719200@cometothecreek.com
SUMMARY:Deacons Meeting
DESCRIPTION:Deacons meet the first Sunday of the month immediately after church unless the date falls on a holiday.
URL:https://cometothecreek.com/event/deacons-meeting/
CATEGORIES:Deacons Meeting
END:VEVENT
BEGIN:VEVENT
DTSTART;TZID=America/Chicago:20221002T094500
DTEND;TZID=America/Chicago:20221002T103000
DTSTAMP:20260421T171233
CREATED:20220925T224939Z
LAST-MODIFIED:20220925T224939Z
UID:1087-1664703900-1664706600@cometothecreek.com
SUMMARY:Adult Sunday School
DESCRIPTION:Shoal Creek Baptist Church believes that discipleship is an exceptionally important way we fulfill the Great Commission (Matthew 28:18-20). As a part of our desire to see men and women become fully devoted followers of Jesus\, Sunday School is a way that we gather and study the Scriptures together. We will study the book of Romans. Sunday School classes are available for children and adults. Classes meet on Sunday morning at 9:45.
URL:https://cometothecreek.com/event/adult-sunday-school-6/
CATEGORIES:Discipleship
END:VEVENT
BEGIN:VEVENT
DTSTART;TZID=America/Chicago:20220928T183000
DTEND;TZID=America/Chicago:20220928T200000
DTSTAMP:20260421T171233
CREATED:20220819T130114Z
LAST-MODIFIED:20220819T130114Z
UID:980-1664389800-1664395200@cometothecreek.com
SUMMARY:Wednesday Night Bible Study
DESCRIPTION:Because we believe the Bible is given by God for teaching\, reproof\, correction\, and training in righteousness (2 Timothy 3:16-17)\, Bible study is an important part of our ministry. Wednesday night Bible study is available each week at 6:30PM. We will be studying the book of Matthew.
URL:https://cometothecreek.com/event/wednesday-night-bible-study-9/
CATEGORIES:Bible Study
END:VEVENT
BEGIN:VEVENT
DTSTART;TZID=America/Chicago:20220925T180000
DTEND;TZID=America/Chicago:20220925T190000
DTSTAMP:20260421T171233
CREATED:20220819T130727Z
LAST-MODIFIED:20220819T130727Z
UID:988-1664128800-1664132400@cometothecreek.com
SUMMARY:Sunday Night Discipleship Service
DESCRIPTION:If you are looking to go deeper into your faith\, we invite you to join us on Sunday night at 6PM. During our Sunday night discipleship service\, we will gather to explore how to engage with the world around us with the Gospel.
URL:https://cometothecreek.com/event/sunday-night-discipleship-service-8/
CATEGORIES:Discipleship
END:VEVENT
BEGIN:VEVENT
DTSTART;TZID=America/Chicago:20220925T094500
DTEND;TZID=America/Chicago:20220925T103000
DTSTAMP:20260421T171233
CREATED:20220819T131229Z
LAST-MODIFIED:20220819T131229Z
UID:996-1664099100-1664101800@cometothecreek.com
SUMMARY:Adult Sunday School
DESCRIPTION:Shoal Creek Baptist Church believes that discipleship is an exceptionally important way we fulfill the Great Commission (Matthew 28:18-20). As a part of our desire to see men and women become fully devoted followers of Jesus\, Sunday School is a way that we gather and study the Scriptures together. We will study the book of Romans. Sunday School classes are available for children and adults. Classes meet on Sunday morning at 9:45.
URL:https://cometothecreek.com/event/adult-sunday-school-8/
CATEGORIES:Discipleship
END:VEVENT
END:VCALENDAR