BEGIN:VCALENDAR
VERSION:2.0
PRODID:-//Shoal Creek Baptist Church - ECPv6.15.20//NONSGML v1.0//EN
CALSCALE:GREGORIAN
METHOD:PUBLISH
X-WR-CALNAME:Shoal Creek Baptist Church
X-ORIGINAL-URL:https://cometothecreek.com
X-WR-CALDESC:Events for Shoal Creek Baptist Church
REFRESH-INTERVAL;VALUE=DURATION:PT1H
X-Robots-Tag:noindex
X-PUBLISHED-TTL:PT1H
BEGIN:VTIMEZONE
TZID:America/Chicago
BEGIN:DAYLIGHT
TZOFFSETFROM:-0600
TZOFFSETTO:-0500
TZNAME:CDT
DTSTART:20210314T080000
END:DAYLIGHT
BEGIN:STANDARD
TZOFFSETFROM:-0500
TZOFFSETTO:-0600
TZNAME:CST
DTSTART:20211107T070000
END:STANDARD
BEGIN:DAYLIGHT
TZOFFSETFROM:-0600
TZOFFSETTO:-0500
TZNAME:CDT
DTSTART:20220313T080000
END:DAYLIGHT
BEGIN:STANDARD
TZOFFSETFROM:-0500
TZOFFSETTO:-0600
TZNAME:CST
DTSTART:20221106T070000
END:STANDARD
BEGIN:DAYLIGHT
TZOFFSETFROM:-0600
TZOFFSETTO:-0500
TZNAME:CDT
DTSTART:20230312T080000
END:DAYLIGHT
BEGIN:STANDARD
TZOFFSETFROM:-0500
TZOFFSETTO:-0600
TZNAME:CST
DTSTART:20231105T070000
END:STANDARD
END:VTIMEZONE
BEGIN:VEVENT
DTSTART;TZID=America/Chicago:20220918T120000
DTEND;TZID=America/Chicago:20220918T150000
DTSTAMP:20260422T165310
CREATED:20220627T230055Z
LAST-MODIFIED:20220627T230055Z
UID:557-1663502400-1663513200@cometothecreek.com
SUMMARY:Church Conference
DESCRIPTION:Please join us for our monthly conferences immediately after church service. Lunch is served. Meetings are held the third Sunday of every month unless it falls on a holiday.
URL:https://cometothecreek.com/event/church-conference-3/
CATEGORIES:Church Conference
END:VEVENT
BEGIN:VEVENT
DTSTART;TZID=America/Chicago:20220918T094500
DTEND;TZID=America/Chicago:20220918T103000
DTSTAMP:20260422T165310
CREATED:20220819T131129Z
LAST-MODIFIED:20220819T131129Z
UID:994-1663494300-1663497000@cometothecreek.com
SUMMARY:Adult Sunday School
DESCRIPTION:Shoal Creek Baptist Church believes that discipleship is an exceptionally important way we fulfill the Great Commission (Matthew 28:18-20). As a part of our desire to see men and women become fully devoted followers of Jesus\, Sunday School is a way that we gather and study the Scriptures together. We will study the book of Romans. Sunday School classes are available for children and adults. Classes meet on Sunday morning at 9:45.
URL:https://cometothecreek.com/event/adult-sunday-school-7/
CATEGORIES:Discipleship
END:VEVENT
BEGIN:VEVENT
DTSTART;TZID=America/Chicago:20220917T110000
DTEND;TZID=America/Chicago:20220917T130000
DTSTAMP:20260422T165310
CREATED:20220627T231108Z
LAST-MODIFIED:20220627T231108Z
UID:567-1663412400-1663419600@cometothecreek.com
SUMMARY:Women's Fellowship
DESCRIPTION:“He says\, “Be still\, and know that I am God; I will be exalted among the nations\, I will be exalted in the earth.”” Psalms‬ ‭46:10‬ ‭NIV‬‬\nIf you want to dive deeper into your faith come join us for our Women’s fellowship on the third Saturday of every month 11am-1pm. God created us for community and fellowship\, and as a group we want to do both. We are a ladies group that wants to support\, encourage and love one another. Come join us.
URL:https://cometothecreek.com/event/womens-fellowship-3/
CATEGORIES:Women's Group
END:VEVENT
BEGIN:VEVENT
DTSTART;TZID=America/Chicago:20220914T183000
DTEND;TZID=America/Chicago:20220914T200000
DTSTAMP:20260422T165310
CREATED:20220819T125931Z
LAST-MODIFIED:20220819T130212Z
UID:976-1663180200-1663185600@cometothecreek.com
SUMMARY:Wednesday Night Bible Study
DESCRIPTION:Because we believe the Bible is given by God for teaching\, reproof\, correction\, and training in righteousness (2 Timothy 3:16-17)\, Bible study is an important part of our ministry. Wednesday night Bible study is available each week at 6:30PM. We will be studying the book of Matthew.
URL:https://cometothecreek.com/event/wednesday-night-bible-study-7/
CATEGORIES:Bible Study
END:VEVENT
BEGIN:VEVENT
DTSTART;TZID=America/Chicago:20220911T110000
DTEND;TZID=America/Chicago:20220911T123000
DTSTAMP:20260422T165310
CREATED:20220819T125700Z
LAST-MODIFIED:20220822T171623Z
UID:972-1662894000-1662899400@cometothecreek.com
SUMMARY:Sanctuary Rededication
DESCRIPTION:Join us Sunday\, September 11th\, 2022 at 11am as we remember the history of Shoal Creek Baptist Church and celebrate where God is taking us.  \nPLEASE NOTE: There will be no Adult Sunday School or Sunday Night Discipleship Service today.
URL:https://cometothecreek.com/event/sanctuary-rededication/
END:VEVENT
BEGIN:VEVENT
DTSTART;TZID=America/Chicago:20220910T130000
DTEND;TZID=America/Chicago:20220910T150000
DTSTAMP:20260422T165310
CREATED:20220819T125255Z
LAST-MODIFIED:20220819T125255Z
UID:970-1662814800-1662822000@cometothecreek.com
SUMMARY:Final Rededication Ceremony Meeting
DESCRIPTION:September 10 at 1PM – Meet at the church sanctuary for a final meeting to discuss the order of service\, responsibilities\, final details\, etc.
URL:https://cometothecreek.com/event/final-rededication-ceremony-meeting/
END:VEVENT
BEGIN:VEVENT
DTSTART;TZID=America/Chicago:20220910T100000
DTEND;TZID=America/Chicago:20220910T120000
DTSTAMP:20260422T165310
CREATED:20220627T231833Z
LAST-MODIFIED:20220629T193816Z
UID:571-1662804000-1662811200@cometothecreek.com
SUMMARY:Men's Prayer Breakfast
DESCRIPTION:All the men of Shoal Creek Baptist Church are invited to join us at the church on Saturday\, September 10th at 10AM for the monthly men’s prayer breakfast. During this time we will share breakfast\, pray together as a group\, and have a time of Bible study. \nPlease contact Tim Olson for additional details.
URL:https://cometothecreek.com/event/mens-prayer-breakfast-3/
CATEGORIES:Men's Group
END:VEVENT
BEGIN:VEVENT
DTSTART;TZID=America/Chicago:20220909T180000
DTEND;TZID=America/Chicago:20220909T193000
DTSTAMP:20260422T165310
CREATED:20220627T232805Z
LAST-MODIFIED:20220627T232805Z
UID:579-1662746400-1662751800@cometothecreek.com
SUMMARY:Dalton's Greater Works
DESCRIPTION:The second Friday of every month\, a group of us meet to travel to Greater Works in Dalton to serve a meal and have a time of prayer and teaching with our friends in Dalton\, GA. Anyone from the church is always welcome to join this event too!
URL:https://cometothecreek.com/event/daltons-greater-works-2/
LOCATION:Dalton’s Greater Works\, 1001 S Thornton Ave.\, Dalton\, GA\, 30720\, United States
CATEGORIES:Community Outreach
END:VEVENT
BEGIN:VEVENT
DTSTART;TZID=America/Chicago:20220907T183000
DTEND;TZID=America/Chicago:20220907T200000
DTSTAMP:20260422T165310
CREATED:20220819T125845Z
LAST-MODIFIED:20220819T130248Z
UID:974-1662575400-1662580800@cometothecreek.com
SUMMARY:Wednesday Night Bible Study
DESCRIPTION:Because we believe the Bible is given by God for teaching\, reproof\, correction\, and training in righteousness (2 Timothy 3:16-17)\, Bible study is an important part of our ministry. Wednesday night Bible study is available each week at 6:30PM. We will be studying the book of Matthew.
URL:https://cometothecreek.com/event/wednesday-night-bible-study-6/
CATEGORIES:Bible Study
END:VEVENT
BEGIN:VEVENT
DTSTART;TZID=America/Chicago:20220904T180000
DTEND;TZID=America/Chicago:20220904T190000
DTSTAMP:20260422T165310
CREATED:20220819T130444Z
LAST-MODIFIED:20220819T130444Z
UID:982-1662314400-1662318000@cometothecreek.com
SUMMARY:Sunday Night Discipleship Service
DESCRIPTION:If you are looking to go deeper into your faith\, we invite you to join us on Sunday night at 6PM. During our Sunday night discipleship service\, we will gather to explore how to engage with the world around us with the Gospel.
URL:https://cometothecreek.com/event/sunday-night-discipleship-service-5/
CATEGORIES:Discipleship
END:VEVENT
BEGIN:VEVENT
DTSTART;TZID=America/Chicago:20220904T120000
DTEND;TZID=America/Chicago:20220904T140000
DTSTAMP:20260422T165310
CREATED:20220627T225108Z
LAST-MODIFIED:20220627T230645Z
UID:550-1662292800-1662300000@cometothecreek.com
SUMMARY:Deacons Meeting
DESCRIPTION:Deacons meet the first Sunday of the month immediately after church unless the date falls on a holiday.
URL:https://cometothecreek.com/event/deacon-meeting-3/
CATEGORIES:Deacons Meeting
END:VEVENT
BEGIN:VEVENT
DTSTART;TZID=America/Chicago:20220904T094500
DTEND;TZID=America/Chicago:20220904T103000
DTSTAMP:20260422T165310
CREATED:20220819T130949Z
LAST-MODIFIED:20220819T130949Z
UID:990-1662284700-1662287400@cometothecreek.com
SUMMARY:Adult Sunday School
DESCRIPTION:Shoal Creek Baptist Church believes that discipleship is an exceptionally important way we fulfill the Great Commission (Matthew 28:18-20). As a part of our desire to see men and women become fully devoted followers of Jesus\, Sunday School is a way that we gather and study the Scriptures together. We will study the book of Romans. Sunday School classes are available for children and adults. Classes meet on Sunday morning at 9:45.
URL:https://cometothecreek.com/event/adult-sunday-school-5/
CATEGORIES:Discipleship
END:VEVENT
BEGIN:VEVENT
DTSTART;TZID=America/Chicago:20220903T130000
DTEND;TZID=America/Chicago:20220903T150000
DTSTAMP:20260422T165310
CREATED:20220819T125129Z
LAST-MODIFIED:20220819T125129Z
UID:968-1662210000-1662217200@cometothecreek.com
SUMMARY:Moving Review
DESCRIPTION:September 3 at 1PM – Meet at the church for a review and moving updates in the fellowship hall.
URL:https://cometothecreek.com/event/moving-review/
END:VEVENT
BEGIN:VEVENT
DTSTART;TZID=America/Chicago:20220903T090000
DTEND;TZID=America/Chicago:20220903T130000
DTSTAMP:20260422T165310
CREATED:20220829T220524Z
LAST-MODIFIED:20220829T220524Z
UID:1023-1662195600-1662210000@cometothecreek.com
SUMMARY:Church Work Day
DESCRIPTION:We will be pressure washing\, putting out mulch\, planting flowers\, moving chairs\, etc. in preparation for the rededication ceremony. We need everyone who can be there to be there…men and women!
URL:https://cometothecreek.com/event/church-work-day/
END:VEVENT
BEGIN:VEVENT
DTSTART;TZID=America/Chicago:20220831T183000
DTEND;TZID=America/Chicago:20220831T200000
DTSTAMP:20260422T165310
CREATED:20220715T161724Z
LAST-MODIFIED:20220715T161724Z
UID:799-1661970600-1661976000@cometothecreek.com
SUMMARY:Wednesday Night Bible Study
DESCRIPTION:Because we believe the Bible is given by God for teaching\, reproof\, correction\, and training in righteousness (2 Timothy 3:16-17)\, Bible study is an important part of our ministry. Wednesday night Bible study is available each week at 6:30PM. We will be studying the book of Matthew.
URL:https://cometothecreek.com/event/wednesday-night-bible-study-5/
CATEGORIES:Discipleship
END:VEVENT
BEGIN:VEVENT
DTSTART;TZID=America/Chicago:20220828T183000
DTEND;TZID=America/Chicago:20220828T200000
DTSTAMP:20260422T165310
CREATED:20220715T170128Z
LAST-MODIFIED:20220715T170128Z
UID:815-1661711400-1661716800@cometothecreek.com
SUMMARY:Sunday Night Discipleship Service
DESCRIPTION:If you are looking to go deeper into your faith\, we invite you to join us on Sunday night at 6PM. During our Sunday night discipleship service\, we will gather to explore how to engage with the world around us with the Gospel.
URL:https://cometothecreek.com/event/sunday-night-discipleship-service-4/
CATEGORIES:Discipleship
END:VEVENT
BEGIN:VEVENT
DTSTART;TZID=America/Chicago:20220828T120000
DTEND;TZID=America/Chicago:20220828T150000
DTSTAMP:20260422T165310
CREATED:20220819T124946Z
LAST-MODIFIED:20220819T124946Z
UID:966-1661688000-1661698800@cometothecreek.com
SUMMARY:Moving Day
DESCRIPTION:August 28 following the morning service is the first move day. We will start the move right after the Sunday service.  The sanctuary will be turned over to us the week prior. We will need help moving chairs\, tables\, sound stuff\, etc.  Volunteers are welcomed and needed.
URL:https://cometothecreek.com/event/moving-day/
END:VEVENT
BEGIN:VEVENT
DTSTART;TZID=America/Chicago:20220828T094500
DTEND;TZID=America/Chicago:20220828T103000
DTSTAMP:20260422T165310
CREATED:20220715T162317Z
LAST-MODIFIED:20220715T162317Z
UID:807-1661679900-1661682600@cometothecreek.com
SUMMARY:Adult Sunday School
DESCRIPTION:Shoal Creek Baptist Church believes that discipleship is an exceptionally important way we fulfill the Great Commission (Matthew 28:18-20). As a part of our desire to see men and women become fully devoted followers of Jesus\, Sunday School is a way that we gather and study the Scriptures together. We will study the book of Romans. Sunday School classes are available for children and adults. Classes meet on Sunday morning at 9:45.
URL:https://cometothecreek.com/event/adult-sunday-school-4/
CATEGORIES:Discipleship
END:VEVENT
BEGIN:VEVENT
DTSTART;TZID=America/Chicago:20220827T083000
DTEND;TZID=America/Chicago:20220827T110000
DTSTAMP:20260422T165310
CREATED:20220627T233527Z
LAST-MODIFIED:20220627T233527Z
UID:584-1661589000-1661598000@cometothecreek.com
SUMMARY:Never Alone
DESCRIPTION:Please join us as we share food with families from the surrounding communities in North Georgia. This outreach\, in partnership with Never Alone (neveralone.org) allows us to share the love of Jesus by helping the food insecure in our area. Our guests are men and women of all ages\, from all backgrounds\, all walks of life\, all races\, education levels\, and statuses. We serve senior citizens\, single moms and dads\, children\, and any who are in need. This ministry is a practical way to live out Matthew 25:40. We offer prayer and Bibles to all of our guests. \nThis outreach is the last Saturday of every month. We meet at 8:30AM at RM Moore Elementary.
URL:https://cometothecreek.com/event/never-alone-2/
LOCATION:RM Moore Elementary School\, 1375 Puckett Rd.\, Waleska\, GA\, 30183\, United States
CATEGORIES:Community Outreach
END:VEVENT
BEGIN:VEVENT
DTSTART;TZID=America/Chicago:20220824T183000
DTEND;TZID=America/Chicago:20220824T200000
DTSTAMP:20260422T165310
CREATED:20220715T161629Z
LAST-MODIFIED:20220715T161629Z
UID:797-1661365800-1661371200@cometothecreek.com
SUMMARY:Wednesday Night Bible Study
DESCRIPTION:Because we believe the Bible is given by God for teaching\, reproof\, correction\, and training in righteousness (2 Timothy 3:16-17)\, Bible study is an important part of our ministry. Wednesday night Bible study is available each week at 6:30PM. We will be studying the book of Matthew.
URL:https://cometothecreek.com/event/wednesday-night-bible-study-4/
CATEGORIES:Discipleship
END:VEVENT
BEGIN:VEVENT
DTSTART;TZID=America/Chicago:20220821T183000
DTEND;TZID=America/Chicago:20220821T200000
DTSTAMP:20260422T165310
CREATED:20220715T170032Z
LAST-MODIFIED:20220715T170032Z
UID:813-1661106600-1661112000@cometothecreek.com
SUMMARY:Sunday Night Discipleship Service
DESCRIPTION:If you are looking to go deeper into your faith\, we invite you to join us on Sunday night at 6PM. During our Sunday night discipleship service\, we will gather to explore how to engage with the world around us with the Gospel.
URL:https://cometothecreek.com/event/sunday-night-discipleship-service-3/
CATEGORIES:Discipleship
END:VEVENT
BEGIN:VEVENT
DTSTART;TZID=America/Chicago:20220821T120000
DTEND;TZID=America/Chicago:20220821T150000
DTSTAMP:20260422T165310
CREATED:20220627T225954Z
LAST-MODIFIED:20220627T225954Z
UID:555-1661083200-1661094000@cometothecreek.com
SUMMARY:Church Conference
DESCRIPTION:Please join us for our monthly conferences immediately after church service. Lunch is served. Meetings are held the third Sunday of every month unless it falls on a holiday.
URL:https://cometothecreek.com/event/church-conference-2/
CATEGORIES:Church Conference
END:VEVENT
BEGIN:VEVENT
DTSTART;TZID=America/Chicago:20220821T094500
DTEND;TZID=America/Chicago:20220821T103000
DTSTAMP:20260422T165310
CREATED:20220715T162227Z
LAST-MODIFIED:20220715T162227Z
UID:805-1661075100-1661077800@cometothecreek.com
SUMMARY:Adult Sunday School
DESCRIPTION:Shoal Creek Baptist Church believes that discipleship is an exceptionally important way we fulfill the Great Commission (Matthew 28:18-20). As a part of our desire to see men and women become fully devoted followers of Jesus\, Sunday School is a way that we gather and study the Scriptures together. We will study the book of Romans. Sunday School classes are available for children and adults. Classes meet on Sunday morning at 9:45.
URL:https://cometothecreek.com/event/adult-sunday-school-3/
CATEGORIES:Discipleship
END:VEVENT
BEGIN:VEVENT
DTSTART;TZID=America/Chicago:20220820T110000
DTEND;TZID=America/Chicago:20220820T130000
DTSTAMP:20260422T165310
CREATED:20220627T231014Z
LAST-MODIFIED:20220627T231014Z
UID:565-1660993200-1661000400@cometothecreek.com
SUMMARY:Women's Fellowship
DESCRIPTION:“He says\, “Be still\, and know that I am God; I will be exalted among the nations\, I will be exalted in the earth.”” Psalms‬ ‭46:10‬ ‭NIV‬‬\nIf you want to dive deeper into your faith come join us for our Women’s fellowship on the third Saturday of every month 11am-1pm. God created us for community and fellowship\, and as a group we want to do both. We are a ladies group that wants to support\, encourage and love one another. Come join us.
URL:https://cometothecreek.com/event/womens-fellowship-2/
CATEGORIES:Women's Group
END:VEVENT
BEGIN:VEVENT
DTSTART;TZID=America/Chicago:20220817T183000
DTEND;TZID=America/Chicago:20220817T200000
DTSTAMP:20260422T165310
CREATED:20220715T103016Z
LAST-MODIFIED:20220715T161525Z
UID:792-1660761000-1660766400@cometothecreek.com
SUMMARY:Wednesday Night Bible Study
DESCRIPTION:Because we believe the Bible is given by God for teaching\, reproof\, correction\, and training in righteousness (2 Timothy 3:16-17)\, Bible study is an important part of our ministry. Wednesday night Bible study is available each week at 6:30PM. We will be studying the book of Matthew.
URL:https://cometothecreek.com/event/wednesday-night-bible-study-3/
CATEGORIES:Discipleship
END:VEVENT
BEGIN:VEVENT
DTSTART;TZID=America/Chicago:20220814T183000
DTEND;TZID=America/Chicago:20220814T200000
DTSTAMP:20260422T165310
CREATED:20220715T165941Z
LAST-MODIFIED:20220715T165941Z
UID:811-1660501800-1660507200@cometothecreek.com
SUMMARY:Sunday Night Discipleship Service
DESCRIPTION:If you are looking to go deeper into your faith\, we invite you to join us on Sunday night at 6PM. During our Sunday night discipleship service\, we will gather to explore how to engage with the world around us with the Gospel.
URL:https://cometothecreek.com/event/sunday-night-discipleship-service-2/
CATEGORIES:Discipleship
END:VEVENT
BEGIN:VEVENT
DTSTART;TZID=America/Chicago:20220814T120000
DTEND;TZID=America/Chicago:20220814T140000
DTSTAMP:20260422T165310
CREATED:20220809T172027Z
LAST-MODIFIED:20220809T172027Z
UID:956-1660478400-1660485600@cometothecreek.com
SUMMARY:Baptisms
DESCRIPTION:Please join us immediately after church as several of our members make a public proclamation of their faith in Jesus through baptism. After this special celebration lunch will be served.
URL:https://cometothecreek.com/event/baptisms/
END:VEVENT
BEGIN:VEVENT
DTSTART;TZID=America/Chicago:20220814T094500
DTEND;TZID=America/Chicago:20220814T103000
DTSTAMP:20260422T165310
CREATED:20220715T162130Z
LAST-MODIFIED:20220715T162130Z
UID:803-1660470300-1660473000@cometothecreek.com
SUMMARY:Adult Sunday School
DESCRIPTION:Shoal Creek Baptist Church believes that discipleship is an exceptionally important way we fulfill the Great Commission (Matthew 28:18-20). As a part of our desire to see men and women become fully devoted followers of Jesus\, Sunday School is a way that we gather and study the Scriptures together. We will study the book of Romans. Sunday School classes are available for children and adults. Classes meet on Sunday morning at 9:45.
URL:https://cometothecreek.com/event/adult-sunday-school-2/
CATEGORIES:Discipleship
END:VEVENT
BEGIN:VEVENT
DTSTART;TZID=America/Chicago:20220813T090000
DTEND;TZID=America/Chicago:20220813T130000
DTSTAMP:20260422T165310
CREATED:20220724T180758Z
LAST-MODIFIED:20220809T171620Z
UID:856-1660381200-1660395600@cometothecreek.com
SUMMARY:Reinhardt University Freshmen Move-in Day
DESCRIPTION:We have an opportunity for Shoal Creek Baptist Church to connect with the collegiate ministry at Reinhardt University and pray you’ll join us! \nWe are sending a team of volunteers on Saturday\, August 13th (9am to 1pm) to help welcome new freshmen as they move to campus. We’ll have a tent with bottled water and welcome bags to distribute.
URL:https://cometothecreek.com/event/reinhardt-university-freshmen-move-in-day/
LOCATION:Reinhardt University
END:VEVENT
BEGIN:VEVENT
DTSTART;TZID=America/Chicago:20220812T180000
DTEND;TZID=America/Chicago:20220812T193000
DTSTAMP:20260422T165310
CREATED:20220627T232708Z
LAST-MODIFIED:20220627T232708Z
UID:577-1660327200-1660332600@cometothecreek.com
SUMMARY:Dalton's Greater Works
DESCRIPTION:The second Friday of every month\, a group of us meet to travel to Greater Works in Dalton to serve a meal and have a time of prayer and teaching with our friends in Dalton\, GA. Anyone from the church is always welcome to join this event too!
URL:https://cometothecreek.com/event/daltons-greater-works/
LOCATION:Dalton’s Greater Works\, 1001 S Thornton Ave.\, Dalton\, GA\, 30720\, United States
CATEGORIES:Community Outreach
END:VEVENT
END:VCALENDAR