BEGIN:VCALENDAR
VERSION:2.0
PRODID:-//Shoal Creek Baptist Church - ECPv6.15.20//NONSGML v1.0//EN
CALSCALE:GREGORIAN
METHOD:PUBLISH
X-WR-CALNAME:Shoal Creek Baptist Church
X-ORIGINAL-URL:https://cometothecreek.com
X-WR-CALDESC:Events for Shoal Creek Baptist Church
REFRESH-INTERVAL;VALUE=DURATION:PT1H
X-Robots-Tag:noindex
X-PUBLISHED-TTL:PT1H
BEGIN:VTIMEZONE
TZID:America/Chicago
BEGIN:DAYLIGHT
TZOFFSETFROM:-0600
TZOFFSETTO:-0500
TZNAME:CDT
DTSTART:20230312T080000
END:DAYLIGHT
BEGIN:STANDARD
TZOFFSETFROM:-0500
TZOFFSETTO:-0600
TZNAME:CST
DTSTART:20231105T070000
END:STANDARD
BEGIN:DAYLIGHT
TZOFFSETFROM:-0600
TZOFFSETTO:-0500
TZNAME:CDT
DTSTART:20240310T080000
END:DAYLIGHT
BEGIN:STANDARD
TZOFFSETFROM:-0500
TZOFFSETTO:-0600
TZNAME:CST
DTSTART:20241103T070000
END:STANDARD
BEGIN:DAYLIGHT
TZOFFSETFROM:-0600
TZOFFSETTO:-0500
TZNAME:CDT
DTSTART:20250309T080000
END:DAYLIGHT
BEGIN:STANDARD
TZOFFSETFROM:-0500
TZOFFSETTO:-0600
TZNAME:CST
DTSTART:20251102T070000
END:STANDARD
END:VTIMEZONE
BEGIN:VEVENT
DTSTART;TZID=America/Chicago:20241009T183000
DTEND;TZID=America/Chicago:20241009T193000
DTSTAMP:20260420T165330
CREATED:20240904T091521Z
LAST-MODIFIED:20240904T091521Z
UID:2105-1728498600-1728502200@cometothecreek.com
SUMMARY:Bible Study
DESCRIPTION:
URL:https://cometothecreek.com/event/bible-study-74/
CATEGORIES:Bible Study
END:VEVENT
BEGIN:VEVENT
DTSTART;TZID=America/Chicago:20241006T180000
DTEND;TZID=America/Chicago:20241006T190000
DTSTAMP:20260420T165330
CREATED:20240904T094646Z
LAST-MODIFIED:20240904T094646Z
UID:2140-1728237600-1728241200@cometothecreek.com
SUMMARY:Better Together Marriage Intensive
DESCRIPTION:
URL:https://cometothecreek.com/event/better-together-marriage-intensive-4/
END:VEVENT
BEGIN:VEVENT
DTSTART;TZID=America/Chicago:20241006T120000
DTEND;TZID=America/Chicago:20241006T130000
DTSTAMP:20260420T165330
CREATED:20240904T093643Z
LAST-MODIFIED:20240904T093643Z
UID:2125-1728216000-1728219600@cometothecreek.com
SUMMARY:Deacon's Meeting
DESCRIPTION:
URL:https://cometothecreek.com/event/deacons-meeting-19/
CATEGORIES:Deacons Meeting
END:VEVENT
BEGIN:VEVENT
DTSTART;TZID=America/Chicago:20241002T183000
DTEND;TZID=America/Chicago:20241002T193000
DTSTAMP:20260420T165330
CREATED:20240904T091447Z
LAST-MODIFIED:20240904T091447Z
UID:2103-1727893800-1727897400@cometothecreek.com
SUMMARY:Bible Study
DESCRIPTION:
URL:https://cometothecreek.com/event/bible-study-73/
CATEGORIES:Bible Study
END:VEVENT
BEGIN:VEVENT
DTSTART;TZID=America/Chicago:20240929T180000
DTEND;TZID=America/Chicago:20240929T190000
DTSTAMP:20260420T165330
CREATED:20240904T094601Z
LAST-MODIFIED:20240904T094601Z
UID:2137-1727632800-1727636400@cometothecreek.com
SUMMARY:Better Together Marriage Intensive
DESCRIPTION:
URL:https://cometothecreek.com/event/better-together-marriage-intensive-3/
END:VEVENT
BEGIN:VEVENT
DTSTART;TZID=America/Chicago:20240929T110000
DTEND;TZID=America/Chicago:20240929T120000
DTSTAMP:20260420T165330
CREATED:20240904T093234Z
LAST-MODIFIED:20240904T093234Z
UID:2121-1727607600-1727611200@cometothecreek.com
SUMMARY:Communion
DESCRIPTION:
URL:https://cometothecreek.com/event/communion-17/
CATEGORIES:Communion
END:VEVENT
BEGIN:VEVENT
DTSTART;TZID=America/Chicago:20240927T120000
DTEND;TZID=America/Chicago:20240927T153000
DTSTAMP:20260420T165330
CREATED:20240904T093010Z
LAST-MODIFIED:20240904T093010Z
UID:2119-1727438400-1727451000@cometothecreek.com
SUMMARY:Senior Social
DESCRIPTION:
URL:https://cometothecreek.com/event/senior-social-9/
CATEGORIES:Senior Social
END:VEVENT
BEGIN:VEVENT
DTSTART;TZID=America/Chicago:20240925T183000
DTEND;TZID=America/Chicago:20240925T193000
DTSTAMP:20260420T165330
CREATED:20240904T091405Z
LAST-MODIFIED:20240904T091405Z
UID:2101-1727289000-1727292600@cometothecreek.com
SUMMARY:Bible Study
DESCRIPTION:
URL:https://cometothecreek.com/event/bible-study-72/
CATEGORIES:Bible Study
END:VEVENT
BEGIN:VEVENT
DTSTART;TZID=America/Chicago:20240922T143000
DTEND;TZID=America/Chicago:20240922T160000
DTSTAMP:20260420T165330
CREATED:20240904T093536Z
LAST-MODIFIED:20240920T144325Z
UID:2123-1727015400-1727020800@cometothecreek.com
SUMMARY:Cherokee Center for Nursing & Healing Outreach
DESCRIPTION:
URL:https://cometothecreek.com/event/cherokee-center-for-nursing-healing-outreach/
CATEGORIES:Community Outreach
END:VEVENT
BEGIN:VEVENT
DTSTART;TZID=America/Chicago:20240921T090000
DTEND;TZID=America/Chicago:20240921T110000
DTSTAMP:20260420T165330
CREATED:20240904T091945Z
LAST-MODIFIED:20240904T091945Z
UID:2117-1726909200-1726916400@cometothecreek.com
SUMMARY:Women's Fellowship
DESCRIPTION:
URL:https://cometothecreek.com/event/womens-fellowship-20/
CATEGORIES:Women's Group
END:VEVENT
BEGIN:VEVENT
DTSTART;TZID=America/Chicago:20240918T183000
DTEND;TZID=America/Chicago:20240918T193000
DTSTAMP:20260420T165330
CREATED:20240904T091321Z
LAST-MODIFIED:20240904T091321Z
UID:2099-1726684200-1726687800@cometothecreek.com
SUMMARY:Bible Study
DESCRIPTION:
URL:https://cometothecreek.com/event/bible-study-71/
CATEGORIES:Bible Study
END:VEVENT
BEGIN:VEVENT
DTSTART;TZID=America/Chicago:20240915T180000
DTEND;TZID=America/Chicago:20240915T190000
DTSTAMP:20260420T165330
CREATED:20240904T094508Z
LAST-MODIFIED:20240904T094508Z
UID:2135-1726423200-1726426800@cometothecreek.com
SUMMARY:Better Together Marriage Intensive
DESCRIPTION:
URL:https://cometothecreek.com/event/better-together-marriage-intensive-2/
END:VEVENT
BEGIN:VEVENT
DTSTART;TZID=America/Chicago:20240914T090000
DTEND;TZID=America/Chicago:20240914T110000
DTSTAMP:20260420T165330
CREATED:20240904T091900Z
LAST-MODIFIED:20240904T091900Z
UID:2115-1726304400-1726311600@cometothecreek.com
SUMMARY:Men's Fellowship
DESCRIPTION:
URL:https://cometothecreek.com/event/mens-fellowship-17/
CATEGORIES:Men's Group
END:VEVENT
BEGIN:VEVENT
DTSTART;TZID=America/Chicago:20240911T183000
DTEND;TZID=America/Chicago:20240911T193000
DTSTAMP:20260420T165330
CREATED:20240904T091243Z
LAST-MODIFIED:20240904T091243Z
UID:2097-1726079400-1726083000@cometothecreek.com
SUMMARY:Bible Study
DESCRIPTION:
URL:https://cometothecreek.com/event/bible-study-70/
CATEGORIES:Bible Study
END:VEVENT
BEGIN:VEVENT
DTSTART;TZID=America/Chicago:20240908T180000
DTEND;TZID=America/Chicago:20240908T190000
DTSTAMP:20260420T165330
CREATED:20240904T094427Z
LAST-MODIFIED:20240904T094427Z
UID:2133-1725818400-1725822000@cometothecreek.com
SUMMARY:Better Together Marriage Intensive
DESCRIPTION:
URL:https://cometothecreek.com/event/better-together-marriage-intensive/
END:VEVENT
BEGIN:VEVENT
DTSTART;TZID=America/Chicago:20240904T183000
DTEND;TZID=America/Chicago:20240904T193000
DTSTAMP:20260420T165330
CREATED:20240904T091121Z
LAST-MODIFIED:20240904T091121Z
UID:2095-1725474600-1725478200@cometothecreek.com
SUMMARY:Bible Study
DESCRIPTION:
URL:https://cometothecreek.com/event/bible-study-69/
CATEGORIES:Bible Study
END:VEVENT
BEGIN:VEVENT
DTSTART;TZID=America/Chicago:20240831T103000
DTEND;TZID=America/Chicago:20240831T140000
DTSTAMP:20260420T165330
CREATED:20240221T201030Z
LAST-MODIFIED:20240221T201030Z
UID:1998-1725100200-1725112800@cometothecreek.com
SUMMARY:BBQ Fundraiser
DESCRIPTION:
URL:https://cometothecreek.com/event/bbq-fundraiser-2/
CATEGORIES:BBQ Fundraiser
END:VEVENT
BEGIN:VEVENT
DTSTART;TZID=America/Chicago:20240529T183000
DTEND;TZID=America/Chicago:20240529T183000
DTSTAMP:20260420T165330
CREATED:20240221T201746Z
LAST-MODIFIED:20240221T201746Z
UID:2008-1717007400-1717007400@cometothecreek.com
SUMMARY:Bible Study
DESCRIPTION:
URL:https://cometothecreek.com/event/bible-study-68/
CATEGORIES:Bible Study
END:VEVENT
BEGIN:VEVENT
DTSTART;TZID=America/Chicago:20240526T110000
DTEND;TZID=America/Chicago:20240526T140000
DTSTAMP:20260420T165330
CREATED:20240221T150326Z
LAST-MODIFIED:20240221T150326Z
UID:1955-1716721200-1716732000@cometothecreek.com
SUMMARY:Homecoming
DESCRIPTION:Please join us for a special Homecoming service on Sunday\, May 26\, 2024 at 11am. \nSpecial music by Mitch Gissendanner and the Shoal Creek Baptist Church choir. \nFollowing the service\, a meal will be served in the fellowship hall.  Bring your favorite side dish or dessert. \n 
URL:https://cometothecreek.com/event/homecoming-2/
CATEGORIES:Homecoming Sunday
END:VEVENT
BEGIN:VEVENT
DTSTART;TZID=America/Chicago:20240526T110000
DTEND;TZID=America/Chicago:20240526T110000
DTSTAMP:20260420T165330
CREATED:20240221T201914Z
LAST-MODIFIED:20240221T201914Z
UID:2012-1716721200-1716721200@cometothecreek.com
SUMMARY:Communion
DESCRIPTION:
URL:https://cometothecreek.com/event/communion-16/
CATEGORIES:Communion
END:VEVENT
BEGIN:VEVENT
DTSTART;TZID=America/Chicago:20240522T183000
DTEND;TZID=America/Chicago:20240522T183000
DTSTAMP:20260420T165330
CREATED:20240221T201715Z
LAST-MODIFIED:20240221T201715Z
UID:2006-1716402600-1716402600@cometothecreek.com
SUMMARY:Bible Study
DESCRIPTION:
URL:https://cometothecreek.com/event/bible-study-67/
CATEGORIES:Bible Study
END:VEVENT
BEGIN:VEVENT
DTSTART;TZID=America/Chicago:20240518T090000
DTEND;TZID=America/Chicago:20240518T110000
DTSTAMP:20260420T165330
CREATED:20240221T202045Z
LAST-MODIFIED:20240221T202045Z
UID:2016-1716022800-1716030000@cometothecreek.com
SUMMARY:Women's Fellowship
DESCRIPTION:
URL:https://cometothecreek.com/event/womens-fellowship-19/
CATEGORIES:Women's Group
END:VEVENT
BEGIN:VEVENT
DTSTART;TZID=America/Chicago:20240518T090000
DTEND;TZID=America/Chicago:20240518T090000
DTSTAMP:20260420T165330
CREATED:20240221T152845Z
LAST-MODIFIED:20240221T152845Z
UID:1976-1716022800-1716022800@cometothecreek.com
SUMMARY:Church Work Day
DESCRIPTION:
URL:https://cometothecreek.com/event/church-work-day-4/
CATEGORIES:Work Day
END:VEVENT
BEGIN:VEVENT
DTSTART;TZID=America/Chicago:20240515T183000
DTEND;TZID=America/Chicago:20240515T183000
DTSTAMP:20260420T165330
CREATED:20240221T201631Z
LAST-MODIFIED:20240221T201631Z
UID:2004-1715797800-1715797800@cometothecreek.com
SUMMARY:Bible Study
DESCRIPTION:
URL:https://cometothecreek.com/event/bible-study-66/
CATEGORIES:Bible Study
END:VEVENT
BEGIN:VEVENT
DTSTART;TZID=America/Chicago:20240511T090000
DTEND;TZID=America/Chicago:20240511T110000
DTSTAMP:20260420T165330
CREATED:20240221T201958Z
LAST-MODIFIED:20240221T201958Z
UID:2014-1715418000-1715425200@cometothecreek.com
SUMMARY:Men's Fellowship
DESCRIPTION:
URL:https://cometothecreek.com/event/mens-fellowship-16/
CATEGORIES:Men's Group
END:VEVENT
BEGIN:VEVENT
DTSTART;TZID=America/Chicago:20240508T183000
DTEND;TZID=America/Chicago:20240508T183000
DTSTAMP:20260420T165330
CREATED:20240221T201601Z
LAST-MODIFIED:20240221T201601Z
UID:2002-1715193000-1715193000@cometothecreek.com
SUMMARY:Bible Study
DESCRIPTION:
URL:https://cometothecreek.com/event/bible-study-65/
CATEGORIES:Bible Study
END:VEVENT
BEGIN:VEVENT
DTSTART;TZID=America/Chicago:20240505T123000
DTEND;TZID=America/Chicago:20240505T123000
DTSTAMP:20260420T165330
CREATED:20240221T201819Z
LAST-MODIFIED:20240221T201819Z
UID:2010-1714912200-1714912200@cometothecreek.com
SUMMARY:Deacon's Meeting
DESCRIPTION:
URL:https://cometothecreek.com/event/deacons-meeting-18/
CATEGORIES:Deacons Meeting
END:VEVENT
BEGIN:VEVENT
DTSTART;TZID=America/Chicago:20240501T183000
DTEND;TZID=America/Chicago:20240501T183000
DTSTAMP:20260420T165330
CREATED:20240221T201529Z
LAST-MODIFIED:20240221T201529Z
UID:2000-1714588200-1714588200@cometothecreek.com
SUMMARY:Bible Study
DESCRIPTION:
URL:https://cometothecreek.com/event/bible-study-64/
CATEGORIES:Bible Study
END:VEVENT
BEGIN:VEVENT
DTSTART;TZID=America/Chicago:20240428T090000
DTEND;TZID=America/Chicago:20240428T110000
DTSTAMP:20260420T165330
CREATED:20240221T200716Z
LAST-MODIFIED:20240221T200716Z
UID:1994-1714294800-1714302000@cometothecreek.com
SUMMARY:Communion
DESCRIPTION:
URL:https://cometothecreek.com/event/communion-15/
CATEGORIES:Communion
END:VEVENT
BEGIN:VEVENT
DTSTART;TZID=America/Chicago:20240424T183000
DTEND;TZID=America/Chicago:20240424T183000
DTSTAMP:20260420T165330
CREATED:20240221T200324Z
LAST-MODIFIED:20240221T200324Z
UID:1986-1713983400-1713983400@cometothecreek.com
SUMMARY:Bible Study
DESCRIPTION:
URL:https://cometothecreek.com/event/bible-study-63/
CATEGORIES:Bible Study
END:VEVENT
END:VCALENDAR