BEGIN:VCALENDAR
VERSION:2.0
PRODID:-//Shoal Creek Baptist Church - ECPv6.15.20//NONSGML v1.0//EN
CALSCALE:GREGORIAN
METHOD:PUBLISH
X-ORIGINAL-URL:https://cometothecreek.com
X-WR-CALDESC:Events for Shoal Creek Baptist Church
REFRESH-INTERVAL;VALUE=DURATION:PT1H
X-Robots-Tag:noindex
X-PUBLISHED-TTL:PT1H
BEGIN:VTIMEZONE
TZID:America/Chicago
BEGIN:DAYLIGHT
TZOFFSETFROM:-0600
TZOFFSETTO:-0500
TZNAME:CDT
DTSTART:20240310T080000
END:DAYLIGHT
BEGIN:STANDARD
TZOFFSETFROM:-0500
TZOFFSETTO:-0600
TZNAME:CST
DTSTART:20241103T070000
END:STANDARD
BEGIN:DAYLIGHT
TZOFFSETFROM:-0600
TZOFFSETTO:-0500
TZNAME:CDT
DTSTART:20250309T080000
END:DAYLIGHT
BEGIN:STANDARD
TZOFFSETFROM:-0500
TZOFFSETTO:-0600
TZNAME:CST
DTSTART:20251102T070000
END:STANDARD
BEGIN:DAYLIGHT
TZOFFSETFROM:-0600
TZOFFSETTO:-0500
TZNAME:CDT
DTSTART:20260308T080000
END:DAYLIGHT
BEGIN:STANDARD
TZOFFSETFROM:-0500
TZOFFSETTO:-0600
TZNAME:CST
DTSTART:20261101T070000
END:STANDARD
END:VTIMEZONE
BEGIN:VEVENT
DTSTART;TZID=America/Chicago:20250903T183000
DTEND;TZID=America/Chicago:20250903T193000
DTSTAMP:20260420T074427
CREATED:20250705T143552Z
LAST-MODIFIED:20250705T143552Z
UID:2445-1756924200-1756927800@cometothecreek.com
SUMMARY:Bible Study
DESCRIPTION:
URL:https://cometothecreek.com/event/bible-study-115/
CATEGORIES:Bible Study
END:VEVENT
BEGIN:VEVENT
DTSTART;TZID=America/Chicago:20250907T123000
DTEND;TZID=America/Chicago:20250907T123000
DTSTAMP:20260420T074427
CREATED:20250705T140541Z
LAST-MODIFIED:20250705T140541Z
UID:2397-1757248200-1757248200@cometothecreek.com
SUMMARY:Deacons Meeting
DESCRIPTION:
URL:https://cometothecreek.com/event/deacons-meeting-31/
CATEGORIES:Deacons Meeting
END:VEVENT
BEGIN:VEVENT
DTSTART;TZID=America/Chicago:20250910T183000
DTEND;TZID=America/Chicago:20250910T193000
DTSTAMP:20260420T074427
CREATED:20250705T143627Z
LAST-MODIFIED:20250705T143627Z
UID:2447-1757529000-1757532600@cometothecreek.com
SUMMARY:Bible Study
DESCRIPTION:
URL:https://cometothecreek.com/event/bible-study-116/
CATEGORIES:Bible Study
END:VEVENT
BEGIN:VEVENT
DTSTART;TZID=America/Chicago:20250913T090000
DTEND;TZID=America/Chicago:20250913T110000
DTSTAMP:20260420T074427
CREATED:20250705T142442Z
LAST-MODIFIED:20250705T142442Z
UID:2413-1757754000-1757761200@cometothecreek.com
SUMMARY:Mens Fellowship
DESCRIPTION:
URL:https://cometothecreek.com/event/mens-fellowship-25/
CATEGORIES:Men's Group
END:VEVENT
BEGIN:VEVENT
DTSTART;TZID=America/Chicago:20250917T183000
DTEND;TZID=America/Chicago:20250917T193000
DTSTAMP:20260420T074427
CREATED:20250705T143717Z
LAST-MODIFIED:20250705T143717Z
UID:2449-1758133800-1758137400@cometothecreek.com
SUMMARY:Bible Study
DESCRIPTION:
URL:https://cometothecreek.com/event/bible-study-117/
CATEGORIES:Bible Study
END:VEVENT
BEGIN:VEVENT
DTSTART;TZID=America/Chicago:20250924T183000
DTEND;TZID=America/Chicago:20250924T193000
DTSTAMP:20260420T074427
CREATED:20250705T143757Z
LAST-MODIFIED:20250705T143757Z
UID:2451-1758738600-1758742200@cometothecreek.com
SUMMARY:Bible Study
DESCRIPTION:
URL:https://cometothecreek.com/event/bible-study-118/
CATEGORIES:Bible Study
END:VEVENT
BEGIN:VEVENT
DTSTART;TZID=America/Chicago:20250927T090000
DTEND;TZID=America/Chicago:20250927T110000
DTSTAMP:20260420T074427
CREATED:20250705T142714Z
LAST-MODIFIED:20250705T142714Z
UID:2419-1758963600-1758970800@cometothecreek.com
SUMMARY:Womens Fellowship
DESCRIPTION:
URL:https://cometothecreek.com/event/womens-fellowship-29/
CATEGORIES:Women's Group
END:VEVENT
BEGIN:VEVENT
DTSTART;TZID=America/Chicago:20250928T110000
DTEND;TZID=America/Chicago:20250928T110000
DTSTAMP:20260420T074427
CREATED:20250705T142950Z
LAST-MODIFIED:20250705T142950Z
UID:2427-1759057200-1759057200@cometothecreek.com
SUMMARY:Communion
DESCRIPTION:
URL:https://cometothecreek.com/event/communion-26/
CATEGORIES:Communion
END:VEVENT
END:VCALENDAR