BEGIN:VCALENDAR
VERSION:2.0
PRODID:-//Shoal Creek Baptist Church - ECPv6.15.20//NONSGML v1.0//EN
CALSCALE:GREGORIAN
METHOD:PUBLISH
X-WR-CALNAME:Shoal Creek Baptist Church
X-ORIGINAL-URL:https://cometothecreek.com
X-WR-CALDESC:Events for Shoal Creek Baptist Church
REFRESH-INTERVAL;VALUE=DURATION:PT1H
X-Robots-Tag:noindex
X-PUBLISHED-TTL:PT1H
BEGIN:VTIMEZONE
TZID:America/Chicago
BEGIN:DAYLIGHT
TZOFFSETFROM:-0600
TZOFFSETTO:-0500
TZNAME:CDT
DTSTART:20250309T080000
END:DAYLIGHT
BEGIN:STANDARD
TZOFFSETFROM:-0500
TZOFFSETTO:-0600
TZNAME:CST
DTSTART:20251102T070000
END:STANDARD
BEGIN:DAYLIGHT
TZOFFSETFROM:-0600
TZOFFSETTO:-0500
TZNAME:CDT
DTSTART:20260308T080000
END:DAYLIGHT
BEGIN:STANDARD
TZOFFSETFROM:-0500
TZOFFSETTO:-0600
TZNAME:CST
DTSTART:20261101T070000
END:STANDARD
BEGIN:DAYLIGHT
TZOFFSETFROM:-0600
TZOFFSETTO:-0500
TZNAME:CDT
DTSTART:20270314T080000
END:DAYLIGHT
BEGIN:STANDARD
TZOFFSETFROM:-0500
TZOFFSETTO:-0600
TZNAME:CST
DTSTART:20271107T070000
END:STANDARD
END:VTIMEZONE
BEGIN:VEVENT
DTSTART;TZID=America/Chicago:20260301T120000
DTEND;TZID=America/Chicago:20260301T120000
DTSTAMP:20260424T221705
CREATED:20260106T145241Z
LAST-MODIFIED:20260106T145241Z
UID:2769-1772366400-1772366400@cometothecreek.com
SUMMARY:Deacons Meeting
DESCRIPTION:
URL:https://cometothecreek.com/event/deacons-meeting-34/
CATEGORIES:Deacons Meeting
END:VEVENT
BEGIN:VEVENT
DTSTART;TZID=America/Chicago:20260304T183000
DTEND;TZID=America/Chicago:20260304T193000
DTSTAMP:20260424T221705
CREATED:20260107T200819Z
LAST-MODIFIED:20260107T200819Z
UID:2850-1772649000-1772652600@cometothecreek.com
SUMMARY:Bible Study
DESCRIPTION:
URL:https://cometothecreek.com/event/bible-study-127/
CATEGORIES:Bible Study
END:VEVENT
BEGIN:VEVENT
DTSTART;TZID=America/Chicago:20260311T183000
DTEND;TZID=America/Chicago:20260311T193000
DTSTAMP:20260424T221705
CREATED:20260107T200848Z
LAST-MODIFIED:20260107T200848Z
UID:2852-1773253800-1773257400@cometothecreek.com
SUMMARY:Bible Study
DESCRIPTION:
URL:https://cometothecreek.com/event/bible-study-128/
CATEGORIES:Bible Study
END:VEVENT
BEGIN:VEVENT
DTSTART;TZID=America/Chicago:20260314T090000
DTEND;TZID=America/Chicago:20260314T110000
DTSTAMP:20260424T221705
CREATED:20260106T151910Z
LAST-MODIFIED:20260106T151910Z
UID:2793-1773478800-1773486000@cometothecreek.com
SUMMARY:Mens Fellowship
DESCRIPTION:
URL:https://cometothecreek.com/event/mens-fellowship-28/
CATEGORIES:Men's Group
END:VEVENT
BEGIN:VEVENT
DTSTART;TZID=America/Chicago:20260318T183000
DTEND;TZID=America/Chicago:20260318T193000
DTSTAMP:20260424T221705
CREATED:20260107T201030Z
LAST-MODIFIED:20260107T201030Z
UID:2854-1773858600-1773862200@cometothecreek.com
SUMMARY:Bible Study
DESCRIPTION:
URL:https://cometothecreek.com/event/bible-study-129/
CATEGORIES:Bible Study
END:VEVENT
BEGIN:VEVENT
DTSTART;TZID=America/Chicago:20260321T090000
DTEND;TZID=America/Chicago:20260321T110000
DTSTAMP:20260424T221705
CREATED:20260106T163546Z
LAST-MODIFIED:20260106T163546Z
UID:2819-1774083600-1774090800@cometothecreek.com
SUMMARY:Womens Fellowship
DESCRIPTION:Join us as we continue to learn about Bible literacy from Women of the Word\, by Jen Wilkin.
URL:https://cometothecreek.com/event/womens-fellowship-32/
CATEGORIES:Women's Group
END:VEVENT
BEGIN:VEVENT
DTSTART;TZID=America/Chicago:20260325T183000
DTEND;TZID=America/Chicago:20260325T193000
DTSTAMP:20260424T221705
CREATED:20260107T201841Z
LAST-MODIFIED:20260107T201841Z
UID:2856-1774463400-1774467000@cometothecreek.com
SUMMARY:Bible Study
DESCRIPTION:
URL:https://cometothecreek.com/event/bible-study-130/
CATEGORIES:Bible Study
END:VEVENT
END:VCALENDAR