BEGIN:VCALENDAR
VERSION:2.0
PRODID:-//Shoal Creek Baptist Church - ECPv6.15.20//NONSGML v1.0//EN
CALSCALE:GREGORIAN
METHOD:PUBLISH
X-WR-CALNAME:Shoal Creek Baptist Church
X-ORIGINAL-URL:https://cometothecreek.com
X-WR-CALDESC:Events for Shoal Creek Baptist Church
REFRESH-INTERVAL;VALUE=DURATION:PT1H
X-Robots-Tag:noindex
X-PUBLISHED-TTL:PT1H
BEGIN:VTIMEZONE
TZID:America/Chicago
BEGIN:DAYLIGHT
TZOFFSETFROM:-0600
TZOFFSETTO:-0500
TZNAME:CDT
DTSTART:20250309T080000
END:DAYLIGHT
BEGIN:STANDARD
TZOFFSETFROM:-0500
TZOFFSETTO:-0600
TZNAME:CST
DTSTART:20251102T070000
END:STANDARD
BEGIN:DAYLIGHT
TZOFFSETFROM:-0600
TZOFFSETTO:-0500
TZNAME:CDT
DTSTART:20260308T080000
END:DAYLIGHT
BEGIN:STANDARD
TZOFFSETFROM:-0500
TZOFFSETTO:-0600
TZNAME:CST
DTSTART:20261101T070000
END:STANDARD
BEGIN:DAYLIGHT
TZOFFSETFROM:-0600
TZOFFSETTO:-0500
TZNAME:CDT
DTSTART:20270314T080000
END:DAYLIGHT
BEGIN:STANDARD
TZOFFSETFROM:-0500
TZOFFSETTO:-0600
TZNAME:CST
DTSTART:20271107T070000
END:STANDARD
END:VTIMEZONE
BEGIN:VEVENT
DTSTART;TZID=America/Chicago:20261004T120000
DTEND;TZID=America/Chicago:20261004T120000
DTSTAMP:20260425T065552
CREATED:20260106T145954Z
LAST-MODIFIED:20260106T145954Z
UID:2783-1791115200-1791115200@cometothecreek.com
SUMMARY:Deacons Meeting
DESCRIPTION:
URL:https://cometothecreek.com/event/deacons-meeting-41/
CATEGORIES:Deacons Meeting
END:VEVENT
BEGIN:VEVENT
DTSTART;TZID=America/Chicago:20261010T090000
DTEND;TZID=America/Chicago:20261010T110000
DTSTAMP:20260425T065552
CREATED:20260106T152600Z
LAST-MODIFIED:20260106T152600Z
UID:2807-1791622800-1791630000@cometothecreek.com
SUMMARY:Mens Fellowship
DESCRIPTION:
URL:https://cometothecreek.com/event/mens-fellowship-35/
CATEGORIES:Men's Group
END:VEVENT
BEGIN:VEVENT
DTSTART;TZID=America/Chicago:20261018T120000
DTEND;TZID=America/Chicago:20261018T140000
DTSTAMP:20260425T065552
CREATED:20260107T200243Z
LAST-MODIFIED:20260107T200243Z
UID:2832-1792324800-1792332000@cometothecreek.com
SUMMARY:Conference
DESCRIPTION:
URL:https://cometothecreek.com/event/conference-15/
CATEGORIES:Church Conference
END:VEVENT
END:VCALENDAR